BEGIN:VCALENDAR
VERSION:2.0
PRODID:-//Regional Hispanic Contractors Association - ECPv6.15.20//NONSGML v1.0//EN
CALSCALE:GREGORIAN
METHOD:PUBLISH
X-WR-CALNAME:Regional Hispanic Contractors Association
X-ORIGINAL-URL:https://regionalhca.org
X-WR-CALDESC:Events for Regional Hispanic Contractors Association
REFRESH-INTERVAL;VALUE=DURATION:PT1H
X-Robots-Tag:noindex
X-PUBLISHED-TTL:PT1H
BEGIN:VTIMEZONE
TZID:America/Chicago
BEGIN:DAYLIGHT
TZOFFSETFROM:-0600
TZOFFSETTO:-0500
TZNAME:CDT
DTSTART:20240310T080000
END:DAYLIGHT
BEGIN:STANDARD
TZOFFSETFROM:-0500
TZOFFSETTO:-0600
TZNAME:CST
DTSTART:20241103T070000
END:STANDARD
BEGIN:DAYLIGHT
TZOFFSETFROM:-0600
TZOFFSETTO:-0500
TZNAME:CDT
DTSTART:20250309T080000
END:DAYLIGHT
BEGIN:STANDARD
TZOFFSETFROM:-0500
TZOFFSETTO:-0600
TZNAME:CST
DTSTART:20251102T070000
END:STANDARD
BEGIN:DAYLIGHT
TZOFFSETFROM:-0600
TZOFFSETTO:-0500
TZNAME:CDT
DTSTART:20260308T080000
END:DAYLIGHT
BEGIN:STANDARD
TZOFFSETFROM:-0500
TZOFFSETTO:-0600
TZNAME:CST
DTSTART:20261101T070000
END:STANDARD
END:VTIMEZONE
BEGIN:VEVENT
DTSTART;TZID=America/Chicago:20250227T113000
DTEND;TZID=America/Chicago:20250227T130000
DTSTAMP:20260421T103028
CREATED:20250122T181648Z
LAST-MODIFIED:20250212T203527Z
UID:32104-1740655800-1740661200@regionalhca.org
SUMMARY:Ambassador Meeting & Orientation
DESCRIPTION:Ambassador Meeting & Orientation \n2025 Membership Ambassador Committee Meetings\nThe second Thursday of the month is from 11:30 am to 1:00 pm.\nMeetings are open to members in good standing; registration is required.\n“Members interested in attending an ambassador meeting\, please call 972-786-0909.”
URL:https://regionalhca.org/event/ambassador-meeting-orientation-2/
ATTACH;FMTTYPE=image/png:https://regionalhca.org/wp-content/uploads/2025/01/Screenshot-2025-01-22-at-12.11.34.png
END:VEVENT
END:VCALENDAR