BEGIN:VCALENDAR
VERSION:2.0
PRODID:-//Regional Hispanic Contractors Association - ECPv6.15.20//NONSGML v1.0//EN
CALSCALE:GREGORIAN
METHOD:PUBLISH
X-WR-CALNAME:Regional Hispanic Contractors Association
X-ORIGINAL-URL:https://regionalhca.org
X-WR-CALDESC:Events for Regional Hispanic Contractors Association
REFRESH-INTERVAL;VALUE=DURATION:PT1H
X-Robots-Tag:noindex
X-PUBLISHED-TTL:PT1H
BEGIN:VTIMEZONE
TZID:America/Chicago
BEGIN:DAYLIGHT
TZOFFSETFROM:-0600
TZOFFSETTO:-0500
TZNAME:CDT
DTSTART:20240310T080000
END:DAYLIGHT
BEGIN:STANDARD
TZOFFSETFROM:-0500
TZOFFSETTO:-0600
TZNAME:CST
DTSTART:20241103T070000
END:STANDARD
BEGIN:DAYLIGHT
TZOFFSETFROM:-0600
TZOFFSETTO:-0500
TZNAME:CDT
DTSTART:20250309T080000
END:DAYLIGHT
BEGIN:STANDARD
TZOFFSETFROM:-0500
TZOFFSETTO:-0600
TZNAME:CST
DTSTART:20251102T070000
END:STANDARD
BEGIN:DAYLIGHT
TZOFFSETFROM:-0600
TZOFFSETTO:-0500
TZNAME:CDT
DTSTART:20260308T080000
END:DAYLIGHT
BEGIN:STANDARD
TZOFFSETFROM:-0500
TZOFFSETTO:-0600
TZNAME:CST
DTSTART:20261101T070000
END:STANDARD
END:VTIMEZONE
BEGIN:VEVENT
DTSTART;TZID=America/Chicago:20250206T090000
DTEND;TZID=America/Chicago:20250206T160000
DTSTAMP:20260421T125638
CREATED:20250127T175417Z
LAST-MODIFIED:20250127T175417Z
UID:32169-1738832400-1738857600@regionalhca.org
SUMMARY:Cash Flow Like a Pro: Quickbooks for Business Success
DESCRIPTION:Join us IN PERSON as we explore the multifaceted aspects of financial management and unlock a wealth of invaluable knowledge essential for business prosperity! \nThis comprehensive\, day-long workshop is designed to emphasize the critical importance of effective financial management in achieving sustainable business success. Throughout the workshop\, participants will gain invaluable insights into the intricate workings of financial management\, equipping them with the knowledge and skills necessary to navigate and optimize their business’s financial landscape. \nRegister Here
URL:https://regionalhca.org/event/cash-flow-like-a-pro-quickbooks-for-business-success/
LOCATION:7047 Harrisburg Boulevard  Houston\, TX 77011 United States\, 7047 Harrisburg Boulevard\, Houston\, 77011\, United States
ATTACH;FMTTYPE=image/png:https://regionalhca.org/wp-content/uploads/2025/01/Screenshot-2025-01-27-at-9.24.44.png
END:VEVENT
END:VCALENDAR