BEGIN:VCALENDAR
VERSION:2.0
PRODID:-//Regional Hispanic Contractors Association - ECPv6.15.20//NONSGML v1.0//EN
CALSCALE:GREGORIAN
METHOD:PUBLISH
X-WR-CALNAME:Regional Hispanic Contractors Association
X-ORIGINAL-URL:https://regionalhca.org
X-WR-CALDESC:Events for Regional Hispanic Contractors Association
REFRESH-INTERVAL;VALUE=DURATION:PT1H
X-Robots-Tag:noindex
X-PUBLISHED-TTL:PT1H
BEGIN:VTIMEZONE
TZID:America/Chicago
BEGIN:DAYLIGHT
TZOFFSETFROM:-0600
TZOFFSETTO:-0500
TZNAME:CDT
DTSTART:20240310T080000
END:DAYLIGHT
BEGIN:STANDARD
TZOFFSETFROM:-0500
TZOFFSETTO:-0600
TZNAME:CST
DTSTART:20241103T070000
END:STANDARD
BEGIN:DAYLIGHT
TZOFFSETFROM:-0600
TZOFFSETTO:-0500
TZNAME:CDT
DTSTART:20250309T080000
END:DAYLIGHT
BEGIN:STANDARD
TZOFFSETFROM:-0500
TZOFFSETTO:-0600
TZNAME:CST
DTSTART:20251102T070000
END:STANDARD
BEGIN:DAYLIGHT
TZOFFSETFROM:-0600
TZOFFSETTO:-0500
TZNAME:CDT
DTSTART:20260308T080000
END:DAYLIGHT
BEGIN:STANDARD
TZOFFSETFROM:-0500
TZOFFSETTO:-0600
TZNAME:CST
DTSTART:20261101T070000
END:STANDARD
END:VTIMEZONE
BEGIN:VEVENT
DTSTART;TZID=America/Chicago:20251023T173000
DTEND;TZID=America/Chicago:20251023T193000
DTSTAMP:20260421T080853
CREATED:20251020T195005Z
LAST-MODIFIED:20251020T195005Z
UID:39365-1761240600-1761247800@regionalhca.org
SUMMARY:Celebrating DPD Leadership Excellence
DESCRIPTION:Celebrating DPD Leadership Excellence\nRSVP: https://web.gdhcc.com/atlas/events/77319/details\n\nThursday\, October 23\, 2025 @ 5:30 PM – 7:30 PM\n\n\n\n\nOak Cliff Tower\, Ballroom\n400 S Zang\nDallas\, TX 75208
URL:https://regionalhca.org/event/celebrating-dpd-leadership-excellence/
LOCATION:Oak Cliff Tower\, Ballroom\, 400 S Zang\, Dallas\, 75208\, United States
ATTACH;FMTTYPE=image/png:https://regionalhca.org/wp-content/uploads/2025/10/Screenshot-2025-10-20-at-2.47.13-p.m.png
END:VEVENT
END:VCALENDAR