BEGIN:VCALENDAR
VERSION:2.0
PRODID:-//Regional Hispanic Contractors Association - ECPv6.15.20//NONSGML v1.0//EN
CALSCALE:GREGORIAN
METHOD:PUBLISH
X-WR-CALNAME:Regional Hispanic Contractors Association
X-ORIGINAL-URL:https://regionalhca.org
X-WR-CALDESC:Events for Regional Hispanic Contractors Association
REFRESH-INTERVAL;VALUE=DURATION:PT1H
X-Robots-Tag:noindex
X-PUBLISHED-TTL:PT1H
BEGIN:VTIMEZONE
TZID:America/Chicago
BEGIN:DAYLIGHT
TZOFFSETFROM:-0600
TZOFFSETTO:-0500
TZNAME:CDT
DTSTART:20230312T080000
END:DAYLIGHT
BEGIN:STANDARD
TZOFFSETFROM:-0500
TZOFFSETTO:-0600
TZNAME:CST
DTSTART:20231105T070000
END:STANDARD
BEGIN:DAYLIGHT
TZOFFSETFROM:-0600
TZOFFSETTO:-0500
TZNAME:CDT
DTSTART:20240310T080000
END:DAYLIGHT
BEGIN:STANDARD
TZOFFSETFROM:-0500
TZOFFSETTO:-0600
TZNAME:CST
DTSTART:20241103T070000
END:STANDARD
BEGIN:DAYLIGHT
TZOFFSETFROM:-0600
TZOFFSETTO:-0500
TZNAME:CDT
DTSTART:20250309T080000
END:DAYLIGHT
BEGIN:STANDARD
TZOFFSETFROM:-0500
TZOFFSETTO:-0600
TZNAME:CST
DTSTART:20251102T070000
END:STANDARD
END:VTIMEZONE
BEGIN:VEVENT
DTSTART;TZID=America/Chicago:20240319T100000
DTEND;TZID=America/Chicago:20240319T233000
DTSTAMP:20260421T165248
CREATED:20240227T212527Z
LAST-MODIFIED:20240301T200443Z
UID:27171-1710842400-1710891000@regionalhca.org
SUMMARY:CIP Professional Services Workshop
DESCRIPTION:Cooperative Inclusion Plan (CIP) \nConnecting Dallas-Fort Worth Highway Transportation Providers and Contractors Associations. \nIn Person – CIP Professional Services Workshop \nLEARN ABOUT HEAVY HIGHWAY PROFESSIONAL SERVICES OPPORTUNITIES IN THE DFW METROPLEX. \nPARTICIPATING PRIMES \n\nEJES\nJacobs Engineering Group\nLJA Engineering\nMichael Baker International\n\nTUESDAY\, MARCH 19\, 2024 \n10:00 AM TO 11:30 AM CDT \nNTTA BOARDROOM
URL:https://regionalhca.org/event/cip-professional-services-workshop/
LOCATION:5900 W. PLANO PARKWAY\, SUITE 200  PLANO\, TX 7509\, 7509\, United States
ATTACH;FMTTYPE=image/png:https://regionalhca.org/wp-content/uploads/2024/02/Screenshot-2024-03-01-at-2.04.14 p.m.png
END:VEVENT
END:VCALENDAR