BEGIN:VCALENDAR
VERSION:2.0
PRODID:-//Regional Hispanic Contractors Association - ECPv6.15.20//NONSGML v1.0//EN
CALSCALE:GREGORIAN
METHOD:PUBLISH
X-WR-CALNAME:Regional Hispanic Contractors Association
X-ORIGINAL-URL:https://regionalhca.org
X-WR-CALDESC:Events for Regional Hispanic Contractors Association
REFRESH-INTERVAL;VALUE=DURATION:PT1H
X-Robots-Tag:noindex
X-PUBLISHED-TTL:PT1H
BEGIN:VTIMEZONE
TZID:America/Chicago
BEGIN:DAYLIGHT
TZOFFSETFROM:-0600
TZOFFSETTO:-0500
TZNAME:CDT
DTSTART:20240310T080000
END:DAYLIGHT
BEGIN:STANDARD
TZOFFSETFROM:-0500
TZOFFSETTO:-0600
TZNAME:CST
DTSTART:20241103T070000
END:STANDARD
BEGIN:DAYLIGHT
TZOFFSETFROM:-0600
TZOFFSETTO:-0500
TZNAME:CDT
DTSTART:20250309T080000
END:DAYLIGHT
BEGIN:STANDARD
TZOFFSETFROM:-0500
TZOFFSETTO:-0600
TZNAME:CST
DTSTART:20251102T070000
END:STANDARD
BEGIN:DAYLIGHT
TZOFFSETFROM:-0600
TZOFFSETTO:-0500
TZNAME:CDT
DTSTART:20260308T080000
END:DAYLIGHT
BEGIN:STANDARD
TZOFFSETFROM:-0500
TZOFFSETTO:-0600
TZNAME:CST
DTSTART:20261101T070000
END:STANDARD
END:VTIMEZONE
BEGIN:VEVENT
DTSTART;TZID=America/Chicago:20251023T100000
DTEND;TZID=America/Chicago:20251023T113000
DTSTAMP:20260421T083109
CREATED:20250930T185251Z
LAST-MODIFIED:20250930T185345Z
UID:38803-1761213600-1761219000@regionalhca.org
SUMMARY:Cooperative Inclusion Plan (CIP) In Person - Construction Services Workshop
DESCRIPTION:LEARN ABOUT HEAVY HIGHWAY CONSTRUCTION OPPORTUNITIES IN THE DFW METROPLEX. \nWhen: OCTOBER 23\, 2025 | 10:00 AM TO 11:30 AM CST \nWhere: TXDOT DALLAS DISTRICT OFFICE – DAL-TRANS BUILDING \n4625 U.S. HWY 80 EAST\, MESQUITE\, TX 75150 \nSpeakers: \nGranite Construction Company \nMario Sinacola & Sons Excavating\, Inc. \nZachry Construction Corporation
URL:https://regionalhca.org/event/cooperative-inclusion-plan-cip-in-person-construction-services-workshop/
LOCATION:TXDOT Dallas District Office – DAL-TRANS BUILDING\, 4625 U.S Highway 80 East\, Mesquite\, 75150\, United States
ATTACH;FMTTYPE=image/png:https://regionalhca.org/wp-content/uploads/2025/09/Screenshot-2025-09-30-at-1.52.10-PM.png
END:VEVENT
END:VCALENDAR