BEGIN:VCALENDAR
VERSION:2.0
PRODID:-//Regional Hispanic Contractors Association - ECPv6.15.20//NONSGML v1.0//EN
CALSCALE:GREGORIAN
METHOD:PUBLISH
X-WR-CALNAME:Regional Hispanic Contractors Association
X-ORIGINAL-URL:https://regionalhca.org
X-WR-CALDESC:Events for Regional Hispanic Contractors Association
REFRESH-INTERVAL;VALUE=DURATION:PT1H
X-Robots-Tag:noindex
X-PUBLISHED-TTL:PT1H
BEGIN:VTIMEZONE
TZID:America/Chicago
BEGIN:DAYLIGHT
TZOFFSETFROM:-0600
TZOFFSETTO:-0500
TZNAME:CDT
DTSTART:20230312T080000
END:DAYLIGHT
BEGIN:STANDARD
TZOFFSETFROM:-0500
TZOFFSETTO:-0600
TZNAME:CST
DTSTART:20231105T070000
END:STANDARD
BEGIN:DAYLIGHT
TZOFFSETFROM:-0600
TZOFFSETTO:-0500
TZNAME:CDT
DTSTART:20240310T080000
END:DAYLIGHT
BEGIN:STANDARD
TZOFFSETFROM:-0500
TZOFFSETTO:-0600
TZNAME:CST
DTSTART:20241103T070000
END:STANDARD
BEGIN:DAYLIGHT
TZOFFSETFROM:-0600
TZOFFSETTO:-0500
TZNAME:CDT
DTSTART:20250309T080000
END:DAYLIGHT
BEGIN:STANDARD
TZOFFSETFROM:-0500
TZOFFSETTO:-0600
TZNAME:CST
DTSTART:20251102T070000
END:STANDARD
END:VTIMEZONE
BEGIN:VEVENT
DTSTART;TZID=America/Chicago:20240831T073000
DTEND;TZID=America/Chicago:20240831T150000
DTSTAMP:20260421T101426
CREATED:20240821T212618Z
LAST-MODIFIED:20240821T212618Z
UID:10000678-1725089400-1725116400@regionalhca.org
SUMMARY:Curso OSHA 10-Horas - Consulado General de Mexico en Houston
DESCRIPTION:OSHA – 10 Horas\nRHCA – el Consulado General de México en Houston\n\nRHCA y el Consulado General de México en Houston te invitan al curso OSHA 10 Horas el 24 y 31 de agosto. Este entrenamiento esencial para trabajadores y contratistas del sector de la construcción te ayudará a mantenerte seguro en el lugar de trabajo.\n\n Fechas: Sábados 24 y 31 de agosto  Regístrate aquí: https://bit.ly/3AtZwNJ ¡Cupo limitado!’\n\n¡Asegura tu lugar hoy mismo y fortalece tu formación en seguridad!
URL:https://regionalhca.org/event/curso-osha-10-horas-consulado-general-de-mexico-en-houston/2024-08-31/
LOCATION:3200 Rogerdale Rd. Houston\, TX 77042\, 3200 Rogerdale Rd.\, Houston\, 77042\, United States
ATTACH;FMTTYPE=image/jpeg:https://regionalhca.org/wp-content/uploads/2024/08/RHCA-OSHA-10-Houston-1.jpg
END:VEVENT
END:VCALENDAR