BEGIN:VCALENDAR
VERSION:2.0
PRODID:-//Regional Hispanic Contractors Association - ECPv6.15.20//NONSGML v1.0//EN
CALSCALE:GREGORIAN
METHOD:PUBLISH
X-WR-CALNAME:Regional Hispanic Contractors Association
X-ORIGINAL-URL:https://regionalhca.org
X-WR-CALDESC:Events for Regional Hispanic Contractors Association
REFRESH-INTERVAL;VALUE=DURATION:PT1H
X-Robots-Tag:noindex
X-PUBLISHED-TTL:PT1H
BEGIN:VTIMEZONE
TZID:America/Chicago
BEGIN:DAYLIGHT
TZOFFSETFROM:-0600
TZOFFSETTO:-0500
TZNAME:CDT
DTSTART:20240310T080000
END:DAYLIGHT
BEGIN:STANDARD
TZOFFSETFROM:-0500
TZOFFSETTO:-0600
TZNAME:CST
DTSTART:20241103T070000
END:STANDARD
BEGIN:DAYLIGHT
TZOFFSETFROM:-0600
TZOFFSETTO:-0500
TZNAME:CDT
DTSTART:20250309T080000
END:DAYLIGHT
BEGIN:STANDARD
TZOFFSETFROM:-0500
TZOFFSETTO:-0600
TZNAME:CST
DTSTART:20251102T070000
END:STANDARD
BEGIN:DAYLIGHT
TZOFFSETFROM:-0600
TZOFFSETTO:-0500
TZNAME:CDT
DTSTART:20260308T080000
END:DAYLIGHT
BEGIN:STANDARD
TZOFFSETFROM:-0500
TZOFFSETTO:-0600
TZNAME:CST
DTSTART:20261101T070000
END:STANDARD
END:VTIMEZONE
BEGIN:VEVENT
DTSTART;TZID=America/Chicago:20250923T080000
DTEND;TZID=America/Chicago:20250923T170000
DTSTAMP:20260421T113056
CREATED:20250910T153703Z
LAST-MODIFIED:20250910T153703Z
UID:38426-1758614400-1758646800@regionalhca.org
SUMMARY:DART 12th Annual Small Business Academy
DESCRIPTION:DART’S 12TH ANNUAL SMALL BUSINESS ACADEMY \nRegister Here \nTuesday\, September 23\, 2025 \nDallas College Bill J. Priest institute \n1402 Corinth St. Dallas\, TX 75215 \n8 am – 9 am – Check-in and breakfast \n9 am – 5 pm – Small Business Academy \nConnect with prime contractors\, learn their subcontractor criteria\, and grow your business. \nDART PROCUREMENT OVERVIEW AND ENGAGEMENT As a significant consumer of goods and services\, DART provides numerous contracting opportunities. Discover how to make your bid or proposal stand out and successfully compete. \nPROMOTE & ESTABLISH YOUR BUSINESS IDENTITY Marketing and branding help small businesses to gain recognition\, attract customers\, and grow. We’ll show you how to succeed in these areas. \nTHE PATH TO BUSINESS ASSISTANCE Gain knowledge from small business support experts on the certification process\, educational and assistance programs\, the importance of credit\, and available funding sources. \nQUESTIONS? \nCONTACT: Cibia Jones\, CJones2@DART.org | Justin Chatman\, JChatman@DART.org \n 
URL:https://regionalhca.org/event/dart-12th-annual-small-business-academy/
LOCATION:Dallas College Bill J. Priest Institute\, 1402 Corinth St.\, Dallas\, TX 75215\, 1402 Corinth St.\, Dallas\, 75215\, United States
ATTACH;FMTTYPE=image/png:https://regionalhca.org/wp-content/uploads/2025/09/Screenshot-2025-09-10-at-10.03.18-a.m.png
END:VEVENT
END:VCALENDAR