BEGIN:VCALENDAR
VERSION:2.0
PRODID:-//Regional Hispanic Contractors Association - ECPv6.15.20//NONSGML v1.0//EN
CALSCALE:GREGORIAN
METHOD:PUBLISH
X-WR-CALNAME:Regional Hispanic Contractors Association
X-ORIGINAL-URL:https://regionalhca.org
X-WR-CALDESC:Events for Regional Hispanic Contractors Association
REFRESH-INTERVAL;VALUE=DURATION:PT1H
X-Robots-Tag:noindex
X-PUBLISHED-TTL:PT1H
BEGIN:VTIMEZONE
TZID:America/Chicago
BEGIN:DAYLIGHT
TZOFFSETFROM:-0600
TZOFFSETTO:-0500
TZNAME:CDT
DTSTART:20230312T080000
END:DAYLIGHT
BEGIN:STANDARD
TZOFFSETFROM:-0500
TZOFFSETTO:-0600
TZNAME:CST
DTSTART:20231105T070000
END:STANDARD
BEGIN:DAYLIGHT
TZOFFSETFROM:-0600
TZOFFSETTO:-0500
TZNAME:CDT
DTSTART:20240310T080000
END:DAYLIGHT
BEGIN:STANDARD
TZOFFSETFROM:-0500
TZOFFSETTO:-0600
TZNAME:CST
DTSTART:20241103T070000
END:STANDARD
BEGIN:DAYLIGHT
TZOFFSETFROM:-0600
TZOFFSETTO:-0500
TZNAME:CDT
DTSTART:20250309T080000
END:DAYLIGHT
BEGIN:STANDARD
TZOFFSETFROM:-0500
TZOFFSETTO:-0600
TZNAME:CST
DTSTART:20251102T070000
END:STANDARD
END:VTIMEZONE
BEGIN:VEVENT
DTSTART;VALUE=DATE:20240306
DTEND;VALUE=DATE:20240307
DTSTAMP:20260421T161427
CREATED:20240304T214742Z
LAST-MODIFIED:20240304T214742Z
UID:27272-1709683200-1709769599@regionalhca.org
SUMMARY:DART Hispanic Ridership Study - We Need Your Opinion!
DESCRIPTION:Do you use public transportation? If not\, we’re curious to know your reasons. If you’re open to sharing your thoughts on public transportation\, we’d like to hear from you. We’re currently seeking Hispanic/Latino individuals 18+ within the DFW area to learn more about this topic. \n  \nLink to Survey: https://www.surveymonkey.com/r/TransitVirtualChat \n 
URL:https://regionalhca.org/event/dart-hispanic-ridership-study-we-need-your-opinion/
ATTACH;FMTTYPE=image/jpeg:https://regionalhca.org/wp-content/uploads/2024/03/DART_Creative-Assets_Social_Media-Image_Virtual-scaled.jpg
END:VEVENT
END:VCALENDAR