BEGIN:VCALENDAR
VERSION:2.0
PRODID:-//Regional Hispanic Contractors Association - ECPv6.15.20//NONSGML v1.0//EN
CALSCALE:GREGORIAN
METHOD:PUBLISH
X-WR-CALNAME:Regional Hispanic Contractors Association
X-ORIGINAL-URL:https://regionalhca.org
X-WR-CALDESC:Events for Regional Hispanic Contractors Association
REFRESH-INTERVAL;VALUE=DURATION:PT1H
X-Robots-Tag:noindex
X-PUBLISHED-TTL:PT1H
BEGIN:VTIMEZONE
TZID:America/Chicago
BEGIN:DAYLIGHT
TZOFFSETFROM:-0600
TZOFFSETTO:-0500
TZNAME:CDT
DTSTART:20230312T080000
END:DAYLIGHT
BEGIN:STANDARD
TZOFFSETFROM:-0500
TZOFFSETTO:-0600
TZNAME:CST
DTSTART:20231105T070000
END:STANDARD
BEGIN:DAYLIGHT
TZOFFSETFROM:-0600
TZOFFSETTO:-0500
TZNAME:CDT
DTSTART:20240310T080000
END:DAYLIGHT
BEGIN:STANDARD
TZOFFSETFROM:-0500
TZOFFSETTO:-0600
TZNAME:CST
DTSTART:20241103T070000
END:STANDARD
BEGIN:DAYLIGHT
TZOFFSETFROM:-0600
TZOFFSETTO:-0500
TZNAME:CDT
DTSTART:20250309T080000
END:DAYLIGHT
BEGIN:STANDARD
TZOFFSETFROM:-0500
TZOFFSETTO:-0600
TZNAME:CST
DTSTART:20251102T070000
END:STANDARD
END:VTIMEZONE
BEGIN:VEVENT
DTSTART;TZID=America/Chicago:20241217T083000
DTEND;TZID=America/Chicago:20241217T100000
DTSTAMP:20260421T124529
CREATED:20231222T204950Z
LAST-MODIFIED:20231222T214807Z
UID:26357-1734424200-1734429600@regionalhca.org
SUMMARY:Economic and Business Development Committee Meeting 12 17 2024
DESCRIPTION:The RHCA Economic and Business Development Committee is a standing committee. The Committee supports the RHCA mission to increase contractor business capacity\, efficiency\, and profitability through project opportunities and building relationships with key industry contacts. \nThe Committee develops programming and relationships with major general contractors\, owners and developers to use RHCA members and small\, minority\, and women-owned contractors; and to help members to contract with each other. \nEconomic and Business Development Committee Meetings are held on The third Tuesday of the Month from 8:30 am to 10:00 am. CST.\nMeetings are open to members in good standing; registration is required. \nInterested in presenting a project opportunity or topic please get in touch with Julio Florez (julio@regionalhca.org)
URL:https://regionalhca.org/event/economic-and-business-development-committee-meeting-12-17-2024/
LOCATION:Virtual
ATTACH;FMTTYPE=image/jpeg:https://regionalhca.org/wp-content/uploads/2023/12/Screenshot-2023-12-01-at-10.09.041111-1-scaled.jpg
ORGANIZER;CN="Julio Florez":MAILTO:julio@regionalhca.org
END:VEVENT
END:VCALENDAR