BEGIN:VCALENDAR
VERSION:2.0
PRODID:-//Regional Hispanic Contractors Association - ECPv6.15.20//NONSGML v1.0//EN
CALSCALE:GREGORIAN
METHOD:PUBLISH
X-WR-CALNAME:Regional Hispanic Contractors Association
X-ORIGINAL-URL:https://regionalhca.org
X-WR-CALDESC:Events for Regional Hispanic Contractors Association
REFRESH-INTERVAL;VALUE=DURATION:PT1H
X-Robots-Tag:noindex
X-PUBLISHED-TTL:PT1H
BEGIN:VTIMEZONE
TZID:America/Chicago
BEGIN:DAYLIGHT
TZOFFSETFROM:-0600
TZOFFSETTO:-0500
TZNAME:CDT
DTSTART:20230312T080000
END:DAYLIGHT
BEGIN:STANDARD
TZOFFSETFROM:-0500
TZOFFSETTO:-0600
TZNAME:CST
DTSTART:20231105T070000
END:STANDARD
BEGIN:DAYLIGHT
TZOFFSETFROM:-0600
TZOFFSETTO:-0500
TZNAME:CDT
DTSTART:20240310T080000
END:DAYLIGHT
BEGIN:STANDARD
TZOFFSETFROM:-0500
TZOFFSETTO:-0600
TZNAME:CST
DTSTART:20241103T070000
END:STANDARD
BEGIN:DAYLIGHT
TZOFFSETFROM:-0600
TZOFFSETTO:-0500
TZNAME:CDT
DTSTART:20250309T080000
END:DAYLIGHT
BEGIN:STANDARD
TZOFFSETFROM:-0500
TZOFFSETTO:-0600
TZNAME:CST
DTSTART:20251102T070000
END:STANDARD
END:VTIMEZONE
BEGIN:VEVENT
DTSTART;TZID=America/Chicago:20240614T080000
DTEND;TZID=America/Chicago:20240614T100000
DTSTAMP:20260421T173806
CREATED:20231219T212604Z
LAST-MODIFIED:20240301T204112Z
UID:26219-1718352000-1718359200@regionalhca.org
SUMMARY:Fall Protection Training (English)
DESCRIPTION:Fall Protection Training (English)  \nJune 14\, 2024 – 8:00 am – 10:00 am CT \nLocation: \nDallas College West Campus \n3330 N. Hampton Road\, Dallas\, TX\, 75212 \nCheck-in: 7:30 am CT | Class will start promptly at 8:00 am
URL:https://regionalhca.org/event/fall-protection-training-english-12/
ATTACH;FMTTYPE=image/png:https://regionalhca.org/wp-content/uploads/2023/12/Screenshot-2024-03-01-at-1.58.20 p.m.png
END:VEVENT
END:VCALENDAR