BEGIN:VCALENDAR
VERSION:2.0
PRODID:-//Regional Hispanic Contractors Association - ECPv6.15.20//NONSGML v1.0//EN
CALSCALE:GREGORIAN
METHOD:PUBLISH
X-WR-CALNAME:Regional Hispanic Contractors Association
X-ORIGINAL-URL:https://regionalhca.org
X-WR-CALDESC:Events for Regional Hispanic Contractors Association
REFRESH-INTERVAL;VALUE=DURATION:PT1H
X-Robots-Tag:noindex
X-PUBLISHED-TTL:PT1H
BEGIN:VTIMEZONE
TZID:America/Chicago
BEGIN:DAYLIGHT
TZOFFSETFROM:-0600
TZOFFSETTO:-0500
TZNAME:CDT
DTSTART:20240310T080000
END:DAYLIGHT
BEGIN:STANDARD
TZOFFSETFROM:-0500
TZOFFSETTO:-0600
TZNAME:CST
DTSTART:20241103T070000
END:STANDARD
BEGIN:DAYLIGHT
TZOFFSETFROM:-0600
TZOFFSETTO:-0500
TZNAME:CDT
DTSTART:20250309T080000
END:DAYLIGHT
BEGIN:STANDARD
TZOFFSETFROM:-0500
TZOFFSETTO:-0600
TZNAME:CST
DTSTART:20251102T070000
END:STANDARD
BEGIN:DAYLIGHT
TZOFFSETFROM:-0600
TZOFFSETTO:-0500
TZNAME:CDT
DTSTART:20260308T080000
END:DAYLIGHT
BEGIN:STANDARD
TZOFFSETFROM:-0500
TZOFFSETTO:-0600
TZNAME:CST
DTSTART:20261101T070000
END:STANDARD
END:VTIMEZONE
BEGIN:VEVENT
DTSTART;TZID=America/Chicago:20250314T130000
DTEND;TZID=America/Chicago:20250314T150000
DTSTAMP:20260421T125101
CREATED:20250114T213612Z
LAST-MODIFIED:20250313T205826Z
UID:31930-1741957200-1741964400@regionalhca.org
SUMMARY:[Español] Fall Protection Training
DESCRIPTION:The RHCA Safety Council offers free training across Texas. This program\, provided by the Susan Harwood Grant and conducted with local safety experts\, covers essential aspects such as identifying fall hazards\, prevention strategies\, and rescue procedures.
URL:https://regionalhca.org/event/fall-protection-training-spanish-21/
LOCATION:RHCA Headquarters & Training Center\, 2210 W. Illinois Avenue\, Dallas\, TX\, 75224\, United States
CATEGORIES:Safety Training
END:VEVENT
END:VCALENDAR