BEGIN:VCALENDAR
VERSION:2.0
PRODID:-//Regional Hispanic Contractors Association - ECPv6.15.20//NONSGML v1.0//EN
CALSCALE:GREGORIAN
METHOD:PUBLISH
X-WR-CALNAME:Regional Hispanic Contractors Association
X-ORIGINAL-URL:https://regionalhca.org
X-WR-CALDESC:Events for Regional Hispanic Contractors Association
REFRESH-INTERVAL;VALUE=DURATION:PT1H
X-Robots-Tag:noindex
X-PUBLISHED-TTL:PT1H
BEGIN:VTIMEZONE
TZID:America/Chicago
BEGIN:DAYLIGHT
TZOFFSETFROM:-0600
TZOFFSETTO:-0500
TZNAME:CDT
DTSTART:20230312T080000
END:DAYLIGHT
BEGIN:STANDARD
TZOFFSETFROM:-0500
TZOFFSETTO:-0600
TZNAME:CST
DTSTART:20231105T070000
END:STANDARD
BEGIN:DAYLIGHT
TZOFFSETFROM:-0600
TZOFFSETTO:-0500
TZNAME:CDT
DTSTART:20240310T080000
END:DAYLIGHT
BEGIN:STANDARD
TZOFFSETFROM:-0500
TZOFFSETTO:-0600
TZNAME:CST
DTSTART:20241103T070000
END:STANDARD
BEGIN:DAYLIGHT
TZOFFSETFROM:-0600
TZOFFSETTO:-0500
TZNAME:CDT
DTSTART:20250309T080000
END:DAYLIGHT
BEGIN:STANDARD
TZOFFSETFROM:-0500
TZOFFSETTO:-0600
TZNAME:CST
DTSTART:20251102T070000
END:STANDARD
END:VTIMEZONE
BEGIN:VEVENT
DTSTART;TZID=America/Chicago:20241114T080000
DTEND;TZID=America/Chicago:20241114T130000
DTSTAMP:20260421T152100
CREATED:20241002T200629Z
LAST-MODIFIED:20241002T200629Z
UID:30565-1731571200-1731589200@regionalhca.org
SUMMARY:Heavy Highway & Transportation Forum | Austin & San Antonio
DESCRIPTION:Heavy Highway & Transportation Forum | Austin & San Antonio \nThursday\, November 14\, 2024 \nRSVP Here \nThe RHCA invites consultants\, engineers\, and contractors\, as well as any professional services or construction services companies interested in or currently working in the Heavy Highway and Transportation industry\, to participate in this upcoming Forum. \nJoin us to hear from key decision makers\, including TxDOT leadership and technical experts\, as they discuss the State of the Industry and upcoming opportunities. \nSpeakers: \nTucker Ferguson\, P.E.\,  \nAustin District Engineer\, Texas Department of Transportation \nCharles Benavidez\, P.E.\, \nSan Antonio District Engineer\, Texas Department of Transportation \nLea Jacobson\, P.E.\, \nDirector of Construction\, Texas Department of Transportation\, SAT
URL:https://regionalhca.org/event/heavy-highway-transportation-forum-austin-san-antonio/
ATTACH;FMTTYPE=image/png:https://regionalhca.org/wp-content/uploads/2024/10/Screenshot-2024-10-02-at-3.05.23 p.m.png
END:VEVENT
END:VCALENDAR