BEGIN:VCALENDAR
VERSION:2.0
PRODID:-//Regional Hispanic Contractors Association - ECPv6.15.20//NONSGML v1.0//EN
CALSCALE:GREGORIAN
METHOD:PUBLISH
X-WR-CALNAME:Regional Hispanic Contractors Association
X-ORIGINAL-URL:https://regionalhca.org
X-WR-CALDESC:Events for Regional Hispanic Contractors Association
REFRESH-INTERVAL;VALUE=DURATION:PT1H
X-Robots-Tag:noindex
X-PUBLISHED-TTL:PT1H
BEGIN:VTIMEZONE
TZID:America/Chicago
BEGIN:DAYLIGHT
TZOFFSETFROM:-0600
TZOFFSETTO:-0500
TZNAME:CDT
DTSTART:20240310T080000
END:DAYLIGHT
BEGIN:STANDARD
TZOFFSETFROM:-0500
TZOFFSETTO:-0600
TZNAME:CST
DTSTART:20241103T070000
END:STANDARD
BEGIN:DAYLIGHT
TZOFFSETFROM:-0600
TZOFFSETTO:-0500
TZNAME:CDT
DTSTART:20250309T080000
END:DAYLIGHT
BEGIN:STANDARD
TZOFFSETFROM:-0500
TZOFFSETTO:-0600
TZNAME:CST
DTSTART:20251102T070000
END:STANDARD
BEGIN:DAYLIGHT
TZOFFSETFROM:-0600
TZOFFSETTO:-0500
TZNAME:CDT
DTSTART:20260308T080000
END:DAYLIGHT
BEGIN:STANDARD
TZOFFSETFROM:-0500
TZOFFSETTO:-0600
TZNAME:CST
DTSTART:20261101T070000
END:STANDARD
END:VTIMEZONE
BEGIN:VEVENT
DTSTART;TZID=America/Chicago:20250217T070000
DTEND;TZID=America/Chicago:20250217T100000
DTSTAMP:20260421T085332
CREATED:20250122T185253Z
LAST-MODIFIED:20250122T185537Z
UID:32115-1739775600-1739786400@regionalhca.org
SUMMARY:Houston Economic Outlook & Upcoming Construction Projects
DESCRIPTION:Houston Economic Outlook & Upcoming Construction Projects \nMonday\, February 17\, 2025 \n7:00 am – 10:00 am \nHotel ZAZA\, Houston Museum District\, 5701 Main St.\, Houston TX 7700 \nRSVP: https://form.jotform.com/250155673332857
URL:https://regionalhca.org/event/houston-economic-outlook-upcoming-construction-projects/
LOCATION:Hotel Zaza Houston
END:VEVENT
END:VCALENDAR