BEGIN:VCALENDAR
VERSION:2.0
PRODID:-//Regional Hispanic Contractors Association - ECPv6.15.20//NONSGML v1.0//EN
CALSCALE:GREGORIAN
METHOD:PUBLISH
X-WR-CALNAME:Regional Hispanic Contractors Association
X-ORIGINAL-URL:https://regionalhca.org
X-WR-CALDESC:Events for Regional Hispanic Contractors Association
REFRESH-INTERVAL;VALUE=DURATION:PT1H
X-Robots-Tag:noindex
X-PUBLISHED-TTL:PT1H
BEGIN:VTIMEZONE
TZID:America/Chicago
BEGIN:DAYLIGHT
TZOFFSETFROM:-0600
TZOFFSETTO:-0500
TZNAME:CDT
DTSTART:20240310T080000
END:DAYLIGHT
BEGIN:STANDARD
TZOFFSETFROM:-0500
TZOFFSETTO:-0600
TZNAME:CST
DTSTART:20241103T070000
END:STANDARD
BEGIN:DAYLIGHT
TZOFFSETFROM:-0600
TZOFFSETTO:-0500
TZNAME:CDT
DTSTART:20250309T080000
END:DAYLIGHT
BEGIN:STANDARD
TZOFFSETFROM:-0500
TZOFFSETTO:-0600
TZNAME:CST
DTSTART:20251102T070000
END:STANDARD
BEGIN:DAYLIGHT
TZOFFSETFROM:-0600
TZOFFSETTO:-0500
TZNAME:CDT
DTSTART:20260308T080000
END:DAYLIGHT
BEGIN:STANDARD
TZOFFSETFROM:-0500
TZOFFSETTO:-0600
TZNAME:CST
DTSTART:20261101T070000
END:STANDARD
END:VTIMEZONE
BEGIN:VEVENT
DTSTART;TZID=America/Chicago:20250407T103000
DTEND;TZID=America/Chicago:20250407T130000
DTSTAMP:20260421T084638
CREATED:20250222T021005Z
LAST-MODIFIED:20250314T162708Z
UID:32791-1744021800-1744030800@regionalhca.org
SUMMARY:Houston Luncheon - Economic Outlook and Upcoming Project Opportunities
DESCRIPTION:Attention Houston Contractors and Small Business Owners! \nYou can still sign up for joining us at our Houston Luncheon for an Economic Outlook review and information on the areas upcoming construction procurements. \nOur Special Guests will be the City of Houston Mayor\, John Whitmire and the Office of Business Opportunity Director\, Cyenthia Hoyrd. \nDo not miss the chance to get a direct update on Houston’s outlook! Register Here: \nRSVP now! ⬇️ \nhttp://bit.ly/418BEZE
URL:https://regionalhca.org/event/houston-luncheon-economic-outlook-and-upcoming-project-opportunities/
LOCATION:Houston Museum District 5701 Main St.\, Houston TX 77005
ATTACH;FMTTYPE=image/png:https://regionalhca.org/wp-content/uploads/2025/02/Screenshot-2025-03-13-at-3.48.16 p.m.png
END:VEVENT
END:VCALENDAR