BEGIN:VCALENDAR
VERSION:2.0
PRODID:-//Regional Hispanic Contractors Association - ECPv6.15.20//NONSGML v1.0//EN
CALSCALE:GREGORIAN
METHOD:PUBLISH
X-WR-CALNAME:Regional Hispanic Contractors Association
X-ORIGINAL-URL:https://regionalhca.org
X-WR-CALDESC:Events for Regional Hispanic Contractors Association
REFRESH-INTERVAL;VALUE=DURATION:PT1H
X-Robots-Tag:noindex
X-PUBLISHED-TTL:PT1H
BEGIN:VTIMEZONE
TZID:America/Chicago
BEGIN:DAYLIGHT
TZOFFSETFROM:-0600
TZOFFSETTO:-0500
TZNAME:CDT
DTSTART:20240310T080000
END:DAYLIGHT
BEGIN:STANDARD
TZOFFSETFROM:-0500
TZOFFSETTO:-0600
TZNAME:CST
DTSTART:20241103T070000
END:STANDARD
BEGIN:DAYLIGHT
TZOFFSETFROM:-0600
TZOFFSETTO:-0500
TZNAME:CDT
DTSTART:20250309T080000
END:DAYLIGHT
BEGIN:STANDARD
TZOFFSETFROM:-0500
TZOFFSETTO:-0600
TZNAME:CST
DTSTART:20251102T070000
END:STANDARD
BEGIN:DAYLIGHT
TZOFFSETFROM:-0600
TZOFFSETTO:-0500
TZNAME:CDT
DTSTART:20260308T080000
END:DAYLIGHT
BEGIN:STANDARD
TZOFFSETFROM:-0500
TZOFFSETTO:-0600
TZNAME:CST
DTSTART:20261101T070000
END:STANDARD
END:VTIMEZONE
BEGIN:VEVENT
DTSTART;TZID=America/Chicago:20250919T113000
DTEND;TZID=America/Chicago:20250919T133000
DTSTAMP:20260421T113046
CREATED:20250225T001000Z
LAST-MODIFIED:20250318T133527Z
UID:33091-1758281400-1758288600@regionalhca.org
SUMMARY:LUNA EL PASO
DESCRIPTION:The Luna Awards celebrates the achievements of women\, women-owned businesses and advocates who promote and develop women at all levels in Architecture\, Engineering and Construction. \nThe award celebrates diversity and inclusivity\, welcoming nominees regardless of RHCA membership or Hispanic background. \n \n#LUNAAWARDS      #STATEWIDE      #LUNAELPASO
URL:https://regionalhca.org/event/luna-el-paso/
LOCATION:The Plaza Hotel Pioneer Park (Trost Ballroom & Mezzanine)\, 106 W Mills Ave.\, El Paso\, TX\, 79901\, United States
ATTACH;FMTTYPE=image/png:https://regionalhca.org/wp-content/uploads/2025/03/El-P-Calendar.png
END:VEVENT
END:VCALENDAR