BEGIN:VCALENDAR
VERSION:2.0
PRODID:-//Regional Hispanic Contractors Association - ECPv6.15.20//NONSGML v1.0//EN
CALSCALE:GREGORIAN
METHOD:PUBLISH
X-WR-CALNAME:Regional Hispanic Contractors Association
X-ORIGINAL-URL:https://regionalhca.org
X-WR-CALDESC:Events for Regional Hispanic Contractors Association
REFRESH-INTERVAL;VALUE=DURATION:PT1H
X-Robots-Tag:noindex
X-PUBLISHED-TTL:PT1H
BEGIN:VTIMEZONE
TZID:America/Chicago
BEGIN:DAYLIGHT
TZOFFSETFROM:-0600
TZOFFSETTO:-0500
TZNAME:CDT
DTSTART:20250309T080000
END:DAYLIGHT
BEGIN:STANDARD
TZOFFSETFROM:-0500
TZOFFSETTO:-0600
TZNAME:CST
DTSTART:20251102T070000
END:STANDARD
BEGIN:DAYLIGHT
TZOFFSETFROM:-0600
TZOFFSETTO:-0500
TZNAME:CDT
DTSTART:20260308T080000
END:DAYLIGHT
BEGIN:STANDARD
TZOFFSETFROM:-0500
TZOFFSETTO:-0600
TZNAME:CST
DTSTART:20261101T070000
END:STANDARD
BEGIN:DAYLIGHT
TZOFFSETFROM:-0600
TZOFFSETTO:-0500
TZNAME:CDT
DTSTART:20270314T080000
END:DAYLIGHT
BEGIN:STANDARD
TZOFFSETFROM:-0500
TZOFFSETTO:-0600
TZNAME:CST
DTSTART:20271107T070000
END:STANDARD
END:VTIMEZONE
BEGIN:VEVENT
DTSTART;TZID=America/Chicago:20260415T103000
DTEND;TZID=America/Chicago:20260415T130000
DTSTAMP:20260421T053612
CREATED:20260330T191807Z
LAST-MODIFIED:20260330T191807Z
UID:42566-1776249000-1776258000@regionalhca.org
SUMMARY:Lunch & Learn-Build Your Capability Statement to Get Noticed by Contractors
DESCRIPTION:Wednesday\, Apr 15 from 11:30 am to 1 pm\n\nDwell Coworking MuellerAustin\, TX\n\nRegister Here\n\nOverview\n\nByEconomic Growth Business Incubator\n\n\n\nHands-on workshop to create a strong capability statement that highlights your work\, builds credibility\, and gets you noticed by contractors \n\n\n\n\nLa descripción está disponible en español a continuación. \nBuild Your Capability Statement: Get Noticed by Prime Contractors \nThis hands-on workshop is designed for participants to learn how to create a capability statement—a one-page professional document that clearly communicates who you are\, what type of work you do\, and why prime contractors or procurement specialists should hire you. We’ll break down the key components of a strong capability statement\, help you define your scope of work\, and show you how to present your experience in a way that builds credibility and trust. \nBy the end of the workshop\, participants will understand how to use their capability statement to introduce their business\, respond to opportunities\, and position themselves for partnerships and contracts. \nWho should attend? \n\nConstruction workers and skilled tradespeople who want to turn their experience into more consistent\, higher-value work.\nBusinesses pursuing government\, city\, or large commercial projects that require a capability statement.\n\nAbout the Speaker: \nAs Community and Citizenship Manager\, Hien Tran (“HT”) develops and manages community outreach\, educational\, and economic inclusion programming that supports the long-term growth and sustainability of the construction industry ecosystem. \nBefore entering the civilian workforce\, HT is a Veteran of the US Army as an Active-Duty Infantry Sergeant\, where he deployed as an Alpha Weapon Team Leader supporting Operation Iraqi Freedom (Task Force 17). A Veteran entrepreneur himself\, HT founded his own small business and successfully operated as the CEO for Anvil Builders Inc.\, a disabled veteran business enterprise certified in general engineering and general building. \nHT brings this unique combination of community engagement\, equity and inclusion\, and project management experience to Turner Construction by cultivating sustainable economic impact for minority-owned\, women-owned\, disadvantaged\, and small businesses\,\, and to inspire the next generation of go-getters to imagine themselves in a fulfilling career in the construction industry. \n\nConstruye tu Declaración de Capacidades: Destácate ante Contratistas Principales \nEste taller práctico está diseñado para que las personas participantes aprendan a crear una declaración de capacidades: un documento profesional de una sola página que comunica claramente quién eres\, qué tipo de trabajo realizas y por qué los contratistas principales o especialistas en adquisiciones deberían contratarte. Desglosaremos los componentes clave de una declaración de capacidades sólida\, te ayudaremos a definir tu alcance de trabajo y te mostraremos cómo presentar tu experiencia de una manera que genere credibilidad y confianza. \nAl finalizar el taller\, las personas participantes comprenderán cómo usar su declaración de capacidades para presentar su empresa\, responder a oportunidades y posicionarse para alianzas y contratos. \n¿Quiénes deberían asistir? \n\nTrabajadores de la construcción y oficios especializados que desean convertir su experiencia en trabajo más constante y de mayor valor.\nEmpresas que buscan proyectos gubernamentales\, municipales o comerciales de gran escala que requieren una declaración de capacidades.\n\nSobre el conferencista: \nComo Gerente de Comunidad y Ciudadanía\, Hien Tran (“HT”) desarrolla y gestiona programas de alcance comunitario\, educación e inclusión económica que apoyan el crecimiento y la sostenibilidad a largo plazo del ecosistema de la industria de la construcción. \nAntes de incorporarse al sector civil\, HT fue Veterano del US Army\, donde sirvió en servicio activo como Sargento de Infantería y se desplegó como Líder del Equipo de Armas Alpha en apoyo a la Operación Iraqi Freedom (Fuerza de Tarea 17). Veterano emprendedor\, HT fundó su propia pequeña empresa y operó con éxito como Director Ejecutivo de Anvil Builders Inc.\, una empresa de veterano con discapacidad certificada en ingeniería general y edificación general. \nHT aporta esta combinación única de participación comunitaria\, equidad e inclusión\, y experiencia en gestión de proyectos a Turner Construction\, impulsando un impacto económico sostenible para empresas propiedad de minorías\, mujeres\, personas desfavorecidas y pequeñas empresas\, e inspirando a la próxima generación a imaginarse una carrera plena en la industria de la construcción. \nHabrá interpretación simultánea disponible para personas de habla hispana
URL:https://regionalhca.org/event/lunch-learn-build-your-capability-statement-to-get-noticed-by-contractors/
LOCATION:Statwide: Austin | Dallas | El Paso | Houston | Rio Grande Valley | Laredo | Sherman | Tyler\, TX\, United States
ATTACH;FMTTYPE=image/webp:https://regionalhca.org/wp-content/uploads/2026/03/image.webp
END:VEVENT
END:VCALENDAR