BEGIN:VCALENDAR
VERSION:2.0
PRODID:-//Regional Hispanic Contractors Association - ECPv6.15.20//NONSGML v1.0//EN
CALSCALE:GREGORIAN
METHOD:PUBLISH
X-WR-CALNAME:Regional Hispanic Contractors Association
X-ORIGINAL-URL:https://regionalhca.org
X-WR-CALDESC:Events for Regional Hispanic Contractors Association
REFRESH-INTERVAL;VALUE=DURATION:PT1H
X-Robots-Tag:noindex
X-PUBLISHED-TTL:PT1H
BEGIN:VTIMEZONE
TZID:America/Chicago
BEGIN:DAYLIGHT
TZOFFSETFROM:-0600
TZOFFSETTO:-0500
TZNAME:CDT
DTSTART:20250309T080000
END:DAYLIGHT
BEGIN:STANDARD
TZOFFSETFROM:-0500
TZOFFSETTO:-0600
TZNAME:CST
DTSTART:20251102T070000
END:STANDARD
BEGIN:DAYLIGHT
TZOFFSETFROM:-0600
TZOFFSETTO:-0500
TZNAME:CDT
DTSTART:20260308T080000
END:DAYLIGHT
BEGIN:STANDARD
TZOFFSETFROM:-0500
TZOFFSETTO:-0600
TZNAME:CST
DTSTART:20261101T070000
END:STANDARD
BEGIN:DAYLIGHT
TZOFFSETFROM:-0600
TZOFFSETTO:-0500
TZNAME:CDT
DTSTART:20270314T080000
END:DAYLIGHT
BEGIN:STANDARD
TZOFFSETFROM:-0500
TZOFFSETTO:-0600
TZNAME:CST
DTSTART:20271107T070000
END:STANDARD
END:VTIMEZONE
BEGIN:VEVENT
DTSTART;TZID=America/Chicago:20260819T103000
DTEND;TZID=America/Chicago:20260819T130000
DTSTAMP:20260421T071348
CREATED:20260330T192802Z
LAST-MODIFIED:20260330T192802Z
UID:42576-1787135400-1787144400@regionalhca.org
SUMMARY:Lunch & Learn: Contract Ready-How to Win Goverment & Prime Contractor Work
DESCRIPTION:Lunch & Learn: Contract Ready-How to Win Goverment & Prime Contractor Work\n\n\nBy Economic Growth Business Incubator\n\n\n\n\n\nDwell Coworking MuellerAustin\, TX\n\n\nWednesday\, Aug 19 from 11:30 am to 1 pm\n\n\nRegister Here\n\n\nOverview\n\n\n\n\nLearn how to make your business contract-ready\, win government & prime opportunities\, and turn experience into higher-value work! \n\n\n\n\nLa descripción está disponible en español a continuación. \nContract-Ready: How to Win Government & Prime Contractor Opportunities\nThis workshop is designed for business owners and contractors who want to understand how to successfully compete for government contracts and prime contractor opportunities. \nParticipants will learn about the different types of contracts used by government agencies and large primes\, including how they are structured\, who they are best suited for\, and what is required to qualify. The session will also provide insight into what procurement specialists look for when evaluating vendors—from compliance and documentation to experience\, pricing\, and reliability. \nAttendees will gain a clearer understanding of how procurement decisions are made\, how to position their business as contract-ready\, and how to avoid common mistakes that prevent businesses from moving forward in the contracting process. \nWho should attend? \n\nConstruction workers and skilled tradespeople who want to turn their experience into more consistent\, higher-value work\nBusinesses pursuing government\, city\, or large commercial projects that require a capability statement\n\nAbout the Speaker \nAnis Infante is a highly qualified professional driven by a mission to help\, guide\, and support the small business community to make a positive impact. She brings a unique blend of expertise in community impact\, sales process improvement\, leadership development\, and linguistic services. \nAnis currently serves as the Estimating Support Services at SpawGlass Contractors\, Inc.\, where she supports inclusive partnerships and works to enhance supplier engagement strategies. Previously\, she held key roles at Hellas Construction\, including SPS Team Lead and Sales Process Specialist\, leading initiatives to improve workflows and elevate customer satisfaction. \nHer professional background also includes administrative support\, public relations\, education—including teaching ESL at IT University—and founding her own translation and interpretation business\, Anis Traducciones. Fluent in multiple languages\, Anis is a dedicated advocate for effective\, inclusive communication. \nRecognized for her unwavering commitment to customer service and exceeding expectations\, Anis is passionate about building meaningful connections and driving sustainable progress\, especially for underserved communities and businesses. \n—————————————————————————————————– \nListo para Contratar: Cómo Ganar Oportunidades con el Gobierno y Contratistas Principales \nEste taller está diseñado para propietarios de negocios y contratistas que desean comprender cómo competir con éxito por contratos gubernamentales y oportunidades con contratistas principales. \nLas personas participantes aprenderán sobre los diferentes tipos de contratos utilizados por agencias gubernamentales y grandes contratistas\, incluyendo cómo están estructurados\, para quiénes son más adecuados y qué se requiere para calificar. La sesión también brindará información sobre lo que buscan los especialistas en adquisiciones al evaluar proveedores: desde cumplimiento y documentación hasta la experiencia\, precios y confiabilidad. \nQuienes asistan obtendrán una comprensión más clara de cómo se toman las decisiones de contratación\, cómo posicionar su empresa como lista para contratar y cómo evitar errores comunes que impiden avanzar en el proceso de contratación. \n¿Quiénes deberían asistir? \n\nTrabajadores de la construcción y oficios especializados que desean convertir su experiencia en trabajo más constante y de mayor valor.\nEmpresas que buscan proyectos gubernamentales\, municipales o comerciales de gran escala que requieren una declaración de capacidades.\n\nSobre la Conferencista \nAnis Infante es una profesional altamente calificada\, impulsada por la misión de ayudar\, guiar y apoyar a la comunidad de negocios para generar un impacto positivo. Aporta una combinación única de experiencia en impacto comunitario\, mejora de procesos de ventas\, desarrollo de liderazgo y servicios lingüísticos. \nActualmente\, Anis se desempeña como Soporte en Servicios de Estimación en SpawGlass Contractors\, Inc.\, donde promueve alianzas inclusivas y apoya estrategias de participación de proveedores. Anteriormente\, ocupó cargos clave en Hellas Construction\, incluyendo Líder del Equipo SPS y Especialista en Procesos de Ventas\, liderando iniciativas para mejorar flujos de trabajo y elevar la satisfacción del cliente. \nSu trayectoria profesional también incluye apoyo administrativo\, relaciones públicas y educación—incluida la enseñanza de inglés como segundo idioma (ESL) en IT University—así como la fundación de su propio negocio de traducción e interpretación\, Anis Traducciones. Con dominio de múltiples idiomas\, Anis es una defensora comprometida de la comunicación efectiva e inclusiva. \nReconocida por su firme compromiso con el servicio al cliente y por superar expectativas\, Anis siente una profunda pasión por construir conexiones significativas e impulsar un progreso sostenible\, especialmente para comunidades desatendidas y pequeñas empresas. \nHabrá interpretación simultánea disponible para personas de habla hispana–
URL:https://regionalhca.org/event/lunch-learn-contract-ready-how-to-win-goverment-prime-contractor-work/
LOCATION:1106 Clayton Lane  #5th Floor Austin\, TX 78723\, 1106 Clayton Lane #5th Floor\, Austin\, 78723\, United States
ATTACH;FMTTYPE=image/png:https://regionalhca.org/wp-content/uploads/2026/03/Screenshot-2026-03-30-at-2.27.16-p.m.png
END:VEVENT
END:VCALENDAR