BEGIN:VCALENDAR
VERSION:2.0
PRODID:-//Regional Hispanic Contractors Association - ECPv6.15.20//NONSGML v1.0//EN
CALSCALE:GREGORIAN
METHOD:PUBLISH
X-WR-CALNAME:Regional Hispanic Contractors Association
X-ORIGINAL-URL:https://regionalhca.org
X-WR-CALDESC:Events for Regional Hispanic Contractors Association
REFRESH-INTERVAL;VALUE=DURATION:PT1H
X-Robots-Tag:noindex
X-PUBLISHED-TTL:PT1H
BEGIN:VTIMEZONE
TZID:America/Chicago
BEGIN:DAYLIGHT
TZOFFSETFROM:-0600
TZOFFSETTO:-0500
TZNAME:CDT
DTSTART:20250309T080000
END:DAYLIGHT
BEGIN:STANDARD
TZOFFSETFROM:-0500
TZOFFSETTO:-0600
TZNAME:CST
DTSTART:20251102T070000
END:STANDARD
BEGIN:DAYLIGHT
TZOFFSETFROM:-0600
TZOFFSETTO:-0500
TZNAME:CDT
DTSTART:20260308T080000
END:DAYLIGHT
BEGIN:STANDARD
TZOFFSETFROM:-0500
TZOFFSETTO:-0600
TZNAME:CST
DTSTART:20261101T070000
END:STANDARD
BEGIN:DAYLIGHT
TZOFFSETFROM:-0600
TZOFFSETTO:-0500
TZNAME:CDT
DTSTART:20270314T080000
END:DAYLIGHT
BEGIN:STANDARD
TZOFFSETFROM:-0500
TZOFFSETTO:-0600
TZNAME:CST
DTSTART:20271107T070000
END:STANDARD
END:VTIMEZONE
BEGIN:VEVENT
DTSTART;TZID=America/Chicago:20260424T120000
DTEND;TZID=America/Chicago:20260424T140000
DTSTAMP:20260421T180304
CREATED:20260421T195856Z
LAST-MODIFIED:20260421T195856Z
UID:42866-1777032000-1777039200@regionalhca.org
SUMMARY:NAMC DFW Chapter Relaunch HUB Program Update
DESCRIPTION:NAMC DFW Chapter Relaunch HUB Program Update \nFriday April 24\, 2026 \n12:00 PM – 2:00 PM \nSpark Arlington\, 1000 Ballpark Way \nRegister Here
URL:https://regionalhca.org/event/namc-dfw-chapter-relaunch-hub-program-update/
LOCATION:Spark Arlington\, 1000 Ballpark Way\, 1000 Ballpark Way
ATTACH;FMTTYPE=image/png:https://regionalhca.org/wp-content/uploads/2026/04/Screenshot-2026-04-21-at-2.52.17-p.m.png
END:VEVENT
END:VCALENDAR