BEGIN:VCALENDAR
VERSION:2.0
PRODID:-//Regional Hispanic Contractors Association - ECPv6.15.20//NONSGML v1.0//EN
CALSCALE:GREGORIAN
METHOD:PUBLISH
X-WR-CALNAME:Regional Hispanic Contractors Association
X-ORIGINAL-URL:https://regionalhca.org
X-WR-CALDESC:Events for Regional Hispanic Contractors Association
REFRESH-INTERVAL;VALUE=DURATION:PT1H
X-Robots-Tag:noindex
X-PUBLISHED-TTL:PT1H
BEGIN:VTIMEZONE
TZID:America/Chicago
BEGIN:DAYLIGHT
TZOFFSETFROM:-0600
TZOFFSETTO:-0500
TZNAME:CDT
DTSTART:20230312T080000
END:DAYLIGHT
BEGIN:STANDARD
TZOFFSETFROM:-0500
TZOFFSETTO:-0600
TZNAME:CST
DTSTART:20231105T070000
END:STANDARD
BEGIN:DAYLIGHT
TZOFFSETFROM:-0600
TZOFFSETTO:-0500
TZNAME:CDT
DTSTART:20240310T080000
END:DAYLIGHT
BEGIN:STANDARD
TZOFFSETFROM:-0500
TZOFFSETTO:-0600
TZNAME:CST
DTSTART:20241103T070000
END:STANDARD
BEGIN:DAYLIGHT
TZOFFSETFROM:-0600
TZOFFSETTO:-0500
TZNAME:CDT
DTSTART:20250309T080000
END:DAYLIGHT
BEGIN:STANDARD
TZOFFSETFROM:-0500
TZOFFSETTO:-0600
TZNAME:CST
DTSTART:20251102T070000
END:STANDARD
END:VTIMEZONE
BEGIN:VEVENT
DTSTART;TZID=America/Chicago:20241022T113000
DTEND;TZID=America/Chicago:20241022T130000
DTSTAMP:20260421T202416
CREATED:20240903T214815Z
LAST-MODIFIED:20240903T215347Z
UID:30001-1729596600-1729602000@regionalhca.org
SUMMARY:NTTA Business Opportunities Stakeholders Session
DESCRIPTION:NTTA Business Opportunities Stakeholders Session \nMeet and connect with NTT executive leadership\, engage with stakeholders\, learn how to do business with NTTA\, learn about current and future opportunities\, network and promote your business. \nWhen: \nTuesday\, October 22 \n11:30 am – 1:00 pm \nWhere: \nTarrant County College\, South Campus Technology Center\, 1102 Fusion Auditorium\, 2537 Joe. B. Rushing Rd.\, Fort Worth\, TX 76119. \nRSVP: https://bit.ly/3AQlomy \n 
URL:https://regionalhca.org/event/ntta-business-opportunities-stakeholders-session/
LOCATION:South Campus Technology Center\, 1102 Fusion Auditorium\, 2537 Joe. B. Rushing Rd.\, Fort Worth\, TX 76119.
ATTACH;FMTTYPE=image/png:https://regionalhca.org/wp-content/uploads/2024/09/Screenshot-2024-09-03-at-4.19.25 p.m.png
END:VEVENT
END:VCALENDAR