BEGIN:VCALENDAR
VERSION:2.0
PRODID:-//Regional Hispanic Contractors Association - ECPv6.15.20//NONSGML v1.0//EN
CALSCALE:GREGORIAN
METHOD:PUBLISH
X-WR-CALNAME:Regional Hispanic Contractors Association
X-ORIGINAL-URL:https://regionalhca.org
X-WR-CALDESC:Events for Regional Hispanic Contractors Association
REFRESH-INTERVAL;VALUE=DURATION:PT1H
X-Robots-Tag:noindex
X-PUBLISHED-TTL:PT1H
BEGIN:VTIMEZONE
TZID:America/Chicago
BEGIN:DAYLIGHT
TZOFFSETFROM:-0600
TZOFFSETTO:-0500
TZNAME:CDT
DTSTART:20240310T080000
END:DAYLIGHT
BEGIN:STANDARD
TZOFFSETFROM:-0500
TZOFFSETTO:-0600
TZNAME:CST
DTSTART:20241103T070000
END:STANDARD
BEGIN:DAYLIGHT
TZOFFSETFROM:-0600
TZOFFSETTO:-0500
TZNAME:CDT
DTSTART:20250309T080000
END:DAYLIGHT
BEGIN:STANDARD
TZOFFSETFROM:-0500
TZOFFSETTO:-0600
TZNAME:CST
DTSTART:20251102T070000
END:STANDARD
BEGIN:DAYLIGHT
TZOFFSETFROM:-0600
TZOFFSETTO:-0500
TZNAME:CDT
DTSTART:20260308T080000
END:DAYLIGHT
BEGIN:STANDARD
TZOFFSETFROM:-0500
TZOFFSETTO:-0600
TZNAME:CST
DTSTART:20261101T070000
END:STANDARD
END:VTIMEZONE
BEGIN:VEVENT
DTSTART;VALUE=DATE:20250221
DTEND;VALUE=DATE:20250222
DTSTAMP:20260421T113534
CREATED:20250109T201346Z
LAST-MODIFIED:20250109T201346Z
UID:31810-1740096000-1740182399@regionalhca.org
SUMMARY:OSHA Fall Protection Safety Training 2024-2025
DESCRIPTION:Importance of Fall Protection in Construction\nPrevention Through Training \nIn Texas\, construction remains a high-risk industry with frequent incidents of worker injuries and fatalities. The primary cause? Falls. Understanding why fall protection is crucial can save lives and prevent debilitating injuries. \nReduced Severity of Injuries \nEven in the event of a fall\, trained workers are better prepared to mitigate injury severity. Properly trained individuals are more likely to utilize safety equipment effectively and maintain awareness of their surroundings\, which can minimize injury outcomes. \nCost Savings \nInvesting in fall protection training isn’t just about safety—it’s also a sound financial decision. By preventing falls\, employers can avoid the substantial costs associated with lost productivity\, medical expenses\, and potential legal fees. \nTraining Opportunity \nThe RHCA Safety Council is offering free fall protection training across Texas\, including the Dallas-Fort Worth area. Sponsored by the Susan Harwood Grant and conducted in collaboration with local safety experts\, this training covers essential aspects such as identifying fall hazards\, prevention strategies\, and rescue procedures. \nDetails: \nLanguage Options: Training is available in both English and Spanish. \nCertification: Participants who complete the training receive a certificate of completion\, demonstrating their proficiency in fall protection. \n  \nThis material was produced under grant number SH-000517-F24  from the Occupational Safety and Health Administration\, U.S. Department of Labor. It does not necessarily reflect the views or policies of the U.S. Department of Labor\, nor does mention of trade names\, commercial products\, or organizations implied endorsement by the U.S. Government. \n  \nPlease Click Here to register for the English Class – 7:30 AM to 10:00 AM \nPlease Click Here to register for the Spanish Class – 12:30 PM to 3:00 PM
URL:https://regionalhca.org/event/osha-fall-protection-safety-training-2024-2025-2/
LOCATION:Dallas College West Dallas Center\, 3330 N Hampton Rd\, Dallas\, 75212\, United States
ATTACH;FMTTYPE=image/jpeg:https://regionalhca.org/wp-content/uploads/2025/01/Image-1-8-25-at-11.46 AM.jpg
END:VEVENT
END:VCALENDAR