BEGIN:VCALENDAR
VERSION:2.0
PRODID:-//Regional Hispanic Contractors Association - ECPv6.15.20//NONSGML v1.0//EN
CALSCALE:GREGORIAN
METHOD:PUBLISH
X-WR-CALNAME:Regional Hispanic Contractors Association
X-ORIGINAL-URL:https://regionalhca.org
X-WR-CALDESC:Events for Regional Hispanic Contractors Association
REFRESH-INTERVAL;VALUE=DURATION:PT1H
X-Robots-Tag:noindex
X-PUBLISHED-TTL:PT1H
BEGIN:VTIMEZONE
TZID:America/Chicago
BEGIN:DAYLIGHT
TZOFFSETFROM:-0600
TZOFFSETTO:-0500
TZNAME:CDT
DTSTART:20250309T080000
END:DAYLIGHT
BEGIN:STANDARD
TZOFFSETFROM:-0500
TZOFFSETTO:-0600
TZNAME:CST
DTSTART:20251102T070000
END:STANDARD
BEGIN:DAYLIGHT
TZOFFSETFROM:-0600
TZOFFSETTO:-0500
TZNAME:CDT
DTSTART:20260308T080000
END:DAYLIGHT
BEGIN:STANDARD
TZOFFSETFROM:-0500
TZOFFSETTO:-0600
TZNAME:CST
DTSTART:20261101T070000
END:STANDARD
BEGIN:DAYLIGHT
TZOFFSETFROM:-0600
TZOFFSETTO:-0500
TZNAME:CDT
DTSTART:20270314T080000
END:DAYLIGHT
BEGIN:STANDARD
TZOFFSETFROM:-0500
TZOFFSETTO:-0600
TZNAME:CST
DTSTART:20271107T070000
END:STANDARD
END:VTIMEZONE
BEGIN:VEVENT
DTSTART;TZID=America/Chicago:20260604T170000
DTEND;TZID=America/Chicago:20260604T200000
DTSTAMP:20260419T052842
CREATED:20260416T154434Z
LAST-MODIFIED:20260416T154434Z
UID:42843-1780592400-1780603200@regionalhca.org
SUMMARY:RHCA Ambassadors Happy Hour
DESCRIPTION:Thursday\, June 4th\, 2026\n5:00 pm – 8:00 pm\nMy Stomping Grounds\n5130 Northern Cross Blvd\, Haltom City\, TX 76117\n\n\n\nRegister Here\n\nYou Are Invited! Meet Other RHCA Members\, Make Connections & Build Foundations
URL:https://regionalhca.org/event/rhca-ambassadors-happy-hour/
LOCATION:5130 Northern Cross Blvd\, Haltom City\, TX 76117\, 5130 Northern Cross Blvd\, Haltom City\, 76117\, United States
ATTACH;FMTTYPE=image/png:https://regionalhca.org/wp-content/uploads/2026/04/Screenshot-2026-04-16-at-10.43.50-a.m.png
END:VEVENT
END:VCALENDAR