BEGIN:VCALENDAR
VERSION:2.0
PRODID:-//Regional Hispanic Contractors Association - ECPv6.15.20//NONSGML v1.0//EN
CALSCALE:GREGORIAN
METHOD:PUBLISH
X-WR-CALNAME:Regional Hispanic Contractors Association
X-ORIGINAL-URL:https://regionalhca.org
X-WR-CALDESC:Events for Regional Hispanic Contractors Association
REFRESH-INTERVAL;VALUE=DURATION:PT1H
X-Robots-Tag:noindex
X-PUBLISHED-TTL:PT1H
BEGIN:VTIMEZONE
TZID:America/Chicago
BEGIN:DAYLIGHT
TZOFFSETFROM:-0600
TZOFFSETTO:-0500
TZNAME:CDT
DTSTART:20230312T080000
END:DAYLIGHT
BEGIN:STANDARD
TZOFFSETFROM:-0500
TZOFFSETTO:-0600
TZNAME:CST
DTSTART:20231105T070000
END:STANDARD
BEGIN:DAYLIGHT
TZOFFSETFROM:-0600
TZOFFSETTO:-0500
TZNAME:CDT
DTSTART:20240310T080000
END:DAYLIGHT
BEGIN:STANDARD
TZOFFSETFROM:-0500
TZOFFSETTO:-0600
TZNAME:CST
DTSTART:20241103T070000
END:STANDARD
BEGIN:DAYLIGHT
TZOFFSETFROM:-0600
TZOFFSETTO:-0500
TZNAME:CDT
DTSTART:20250309T080000
END:DAYLIGHT
BEGIN:STANDARD
TZOFFSETFROM:-0500
TZOFFSETTO:-0600
TZNAME:CST
DTSTART:20251102T070000
END:STANDARD
END:VTIMEZONE
BEGIN:VEVENT
DTSTART;TZID=America/Chicago:20240404T160000
DTEND;TZID=America/Chicago:20240404T193000
DTSTAMP:20260421T101713
CREATED:20240318T140355Z
LAST-MODIFIED:20240318T162648Z
UID:27367-1712246400-1712259000@regionalhca.org
SUMMARY:RHCA Grand Opening | 3 Projects • 1 Event
DESCRIPTION:The Regional Hispanic Contractors Association cordially invites you to join us on Thursday\, April 4\, 2024\, for a Business Mixer and Project Overview Sessions. The event aims to provide you with insights into three major Houston area construction ventures and provide an opportunity to network with influencers and representatives\, while we celebrate the opening of our Greater Houston Office & Training Center! \n  \nAgenda \nProject Overviews – 4:00 – 5:00 – 6:00 pm \nBusiness Mixer – 4:00 – 7:30 pm \nGrand Opening Ceremony & Celebration – 6:30 – 7:30 pm \n  \nThursday\, April 4\, 2024 \n4:00 -7:30 pm \n7047 Harrisburg Blvd.\, Houston\, TX 77011 \n  \nRSVP: https://form.jotform.com/240674225824154
URL:https://regionalhca.org/event/rhca-grand-opening-3-projects-1-event/
LOCATION:7047 Harrisburg Blvd.\, Houston\, TX 77011
ATTACH;FMTTYPE=image/png:https://regionalhca.org/wp-content/uploads/2024/03/Screenshot-2024-03-18-at-11.25.55 a.m.png
END:VEVENT
END:VCALENDAR