BEGIN:VCALENDAR
VERSION:2.0
PRODID:-//Regional Hispanic Contractors Association - ECPv6.15.20//NONSGML v1.0//EN
CALSCALE:GREGORIAN
METHOD:PUBLISH
X-WR-CALNAME:Regional Hispanic Contractors Association
X-ORIGINAL-URL:https://regionalhca.org
X-WR-CALDESC:Events for Regional Hispanic Contractors Association
REFRESH-INTERVAL;VALUE=DURATION:PT1H
X-Robots-Tag:noindex
X-PUBLISHED-TTL:PT1H
BEGIN:VTIMEZONE
TZID:America/Chicago
BEGIN:DAYLIGHT
TZOFFSETFROM:-0600
TZOFFSETTO:-0500
TZNAME:CDT
DTSTART:20240310T080000
END:DAYLIGHT
BEGIN:STANDARD
TZOFFSETFROM:-0500
TZOFFSETTO:-0600
TZNAME:CST
DTSTART:20241103T070000
END:STANDARD
BEGIN:DAYLIGHT
TZOFFSETFROM:-0600
TZOFFSETTO:-0500
TZNAME:CDT
DTSTART:20250309T080000
END:DAYLIGHT
BEGIN:STANDARD
TZOFFSETFROM:-0500
TZOFFSETTO:-0600
TZNAME:CST
DTSTART:20251102T070000
END:STANDARD
BEGIN:DAYLIGHT
TZOFFSETFROM:-0600
TZOFFSETTO:-0500
TZNAME:CDT
DTSTART:20260308T080000
END:DAYLIGHT
BEGIN:STANDARD
TZOFFSETFROM:-0500
TZOFFSETTO:-0600
TZNAME:CST
DTSTART:20261101T070000
END:STANDARD
END:VTIMEZONE
BEGIN:VEVENT
DTSTART;TZID=America/Chicago:20250113T110000
DTEND;TZID=America/Chicago:20250113T133000
DTSTAMP:20260421T100800
CREATED:20250108T172718Z
LAST-MODIFIED:20250108T172718Z
UID:31717-1736766000-1736775000@regionalhca.org
SUMMARY:RHCA Houston - Small Business Certification Series
DESCRIPTION:The RHCA Houston chapter invites you to join the Building Contractor Success seminars. \nMonday\, January 13th\, 2025 \nRSVP: https://form.jotform.com/250066804755863 \n11:00 a.m. – 1:30 p.m. \n7047 Harrisburg Blvd\, Houston\, TX 77011 \nThese seminars are tailored for small business owners and are designed to equip them with essential tools and strategies for growth and success in the market.
URL:https://regionalhca.org/event/rhca-houston-small-business-certification-series-2/
LOCATION:7047 Harrisburg Blvd\, Houston\, TX 77011\, 7047 Harrisburg Blvd\, Houston\, 77011\, United States
ATTACH;FMTTYPE=image/png:https://regionalhca.org/wp-content/uploads/2025/01/Screenshot-2025-01-07-at-16.09.26.png
END:VEVENT
END:VCALENDAR