BEGIN:VCALENDAR
VERSION:2.0
PRODID:-//Regional Hispanic Contractors Association - ECPv6.15.20//NONSGML v1.0//EN
CALSCALE:GREGORIAN
METHOD:PUBLISH
X-WR-CALNAME:Regional Hispanic Contractors Association
X-ORIGINAL-URL:https://regionalhca.org
X-WR-CALDESC:Events for Regional Hispanic Contractors Association
REFRESH-INTERVAL;VALUE=DURATION:PT1H
X-Robots-Tag:noindex
X-PUBLISHED-TTL:PT1H
BEGIN:VTIMEZONE
TZID:America/Chicago
BEGIN:DAYLIGHT
TZOFFSETFROM:-0600
TZOFFSETTO:-0500
TZNAME:CDT
DTSTART:20230312T080000
END:DAYLIGHT
BEGIN:STANDARD
TZOFFSETFROM:-0500
TZOFFSETTO:-0600
TZNAME:CST
DTSTART:20231105T070000
END:STANDARD
BEGIN:DAYLIGHT
TZOFFSETFROM:-0600
TZOFFSETTO:-0500
TZNAME:CDT
DTSTART:20240310T080000
END:DAYLIGHT
BEGIN:STANDARD
TZOFFSETFROM:-0500
TZOFFSETTO:-0600
TZNAME:CST
DTSTART:20241103T070000
END:STANDARD
BEGIN:DAYLIGHT
TZOFFSETFROM:-0600
TZOFFSETTO:-0500
TZNAME:CDT
DTSTART:20250309T080000
END:DAYLIGHT
BEGIN:STANDARD
TZOFFSETFROM:-0500
TZOFFSETTO:-0600
TZNAME:CST
DTSTART:20251102T070000
END:STANDARD
END:VTIMEZONE
BEGIN:VEVENT
DTSTART;TZID=America/Chicago:20240715T113000
DTEND;TZID=America/Chicago:20240715T130000
DTSTAMP:20260421T100138
CREATED:20240701T211851Z
LAST-MODIFIED:20240701T211851Z
UID:28996-1721043000-1721048400@regionalhca.org
SUMMARY:RHCA Houston Small Business Certification Series
DESCRIPTION:Small Business Certification Series \nThe RHCA Houston chapter invites you to join the Building Contractor Success seminars. \nThese seminars are tailored for small business owners and are designed to equip them with essential tools and strategies for growth and success in the market. \n\nPart 3 of this series will focus on acquiring and effectively managing certifications. \nJuly 15 | 11:30 a.m. – 1:00 p.m. \n7047 Harrisburg Blvd\, Houston\, TX 77011 \nSpeakers \nFrancisco Gonzalez \nLiftfund \nDignora Casanova \nStudent Testimony \nSandra Oliveros \nFinancial Planning \nJose Medina \nInteractive College of Technology \nMarco Ruiz \nTexas Capital Bank \nRSVP Today: https://form.jotform.com/241704375053149  \nContact: Delfina Flores | delfina@regionalhca.org | (713) 545-2442
URL:https://regionalhca.org/event/rhca-houston-small-business-certification-series/
LOCATION:7047 Harrisburg Blvd.\, Houston\, TX 77011
ATTACH;FMTTYPE=image/png:https://regionalhca.org/wp-content/uploads/2024/07/Building-Contractor-Success.png
END:VEVENT
END:VCALENDAR