BEGIN:VCALENDAR
VERSION:2.0
PRODID:-//Regional Hispanic Contractors Association - ECPv6.15.20//NONSGML v1.0//EN
CALSCALE:GREGORIAN
METHOD:PUBLISH
X-WR-CALNAME:Regional Hispanic Contractors Association
X-ORIGINAL-URL:https://regionalhca.org
X-WR-CALDESC:Events for Regional Hispanic Contractors Association
REFRESH-INTERVAL;VALUE=DURATION:PT1H
X-Robots-Tag:noindex
X-PUBLISHED-TTL:PT1H
BEGIN:VTIMEZONE
TZID:America/Chicago
BEGIN:DAYLIGHT
TZOFFSETFROM:-0600
TZOFFSETTO:-0500
TZNAME:CDT
DTSTART:20250309T080000
END:DAYLIGHT
BEGIN:STANDARD
TZOFFSETFROM:-0500
TZOFFSETTO:-0600
TZNAME:CST
DTSTART:20251102T070000
END:STANDARD
BEGIN:DAYLIGHT
TZOFFSETFROM:-0600
TZOFFSETTO:-0500
TZNAME:CDT
DTSTART:20260308T080000
END:DAYLIGHT
BEGIN:STANDARD
TZOFFSETFROM:-0500
TZOFFSETTO:-0600
TZNAME:CST
DTSTART:20261101T070000
END:STANDARD
BEGIN:DAYLIGHT
TZOFFSETFROM:-0600
TZOFFSETTO:-0500
TZNAME:CDT
DTSTART:20270314T080000
END:DAYLIGHT
BEGIN:STANDARD
TZOFFSETFROM:-0500
TZOFFSETTO:-0600
TZNAME:CST
DTSTART:20271107T070000
END:STANDARD
END:VTIMEZONE
BEGIN:VEVENT
DTSTART;TZID=America/Chicago:20260625T113000
DTEND;TZID=America/Chicago:20260625T130000
DTSTAMP:20260420T040228
CREATED:20251219T230337Z
LAST-MODIFIED:20251219T230337Z
UID:10001096-1782387000-1782392400@regionalhca.org
SUMMARY:RHCA Membership & Ambassador Committee Meeting
DESCRIPTION:RHCA Membership Committee members serve as ambassadors whose primary function is to help retain and recruit members\, execute outreach strategies\, and implement the RHCA membership strategic plan. \nThis committee provides feedback on RHCA programs to ensure they remain of the most benefit to members. Ambassadors are encouraged to attend events and to bring prospects as guests to share RCHA member benefits. \nThe fourth Thursday of the month is from 11:30 am to 1:00 pm. \nMeetings are open to members in good standing; registration is required. \n“Members interested in attending an ambassador meeting\, please call\n972-786-0909.” \nRHCA membership must remain beneficial and valuable and represents a wide range of businesses and groups in the construction industry\, including: \n\narchitecture\, engineering\, construction\, and associated firms\nnew and small businesses\nlarge general contractors\, major corporations\, and governmental agencies\nowners of diverse backgrounds\, including minority and women entrepreneurs\n\nCommittee Functions: \n\nAssists with RHCA membership marketing\nRetains and recruits RHCA members\nExecutes new member orientations\nCoordinates the RHCA Ambassador Program\nAttends and hosts exhibitor tables at expos\, outreach events\, and RHCA events\nFacilitates sponsors and resources for Committee activities.
URL:https://regionalhca.org/event/rhca-membership-ambassador-committee-meeting/2026-06-25/
LOCATION:RHCA Headquarters & Training Center\, 2210 W. Illinois Avenue\, Dallas\, TX\, 75224\, United States
ATTACH;FMTTYPE=image/png:https://regionalhca.org/wp-content/uploads/2025/12/Screenshot-2025-12-19-at-5.00.42-p.m.png
END:VEVENT
END:VCALENDAR