BEGIN:VCALENDAR
VERSION:2.0
PRODID:-//Regional Hispanic Contractors Association - ECPv6.15.20//NONSGML v1.0//EN
CALSCALE:GREGORIAN
METHOD:PUBLISH
X-WR-CALNAME:Regional Hispanic Contractors Association
X-ORIGINAL-URL:https://regionalhca.org
X-WR-CALDESC:Events for Regional Hispanic Contractors Association
REFRESH-INTERVAL;VALUE=DURATION:PT1H
X-Robots-Tag:noindex
X-PUBLISHED-TTL:PT1H
BEGIN:VTIMEZONE
TZID:America/Chicago
BEGIN:DAYLIGHT
TZOFFSETFROM:-0600
TZOFFSETTO:-0500
TZNAME:CDT
DTSTART:20230312T080000
END:DAYLIGHT
BEGIN:STANDARD
TZOFFSETFROM:-0500
TZOFFSETTO:-0600
TZNAME:CST
DTSTART:20231105T070000
END:STANDARD
BEGIN:DAYLIGHT
TZOFFSETFROM:-0600
TZOFFSETTO:-0500
TZNAME:CDT
DTSTART:20240310T080000
END:DAYLIGHT
BEGIN:STANDARD
TZOFFSETFROM:-0500
TZOFFSETTO:-0600
TZNAME:CST
DTSTART:20241103T070000
END:STANDARD
BEGIN:DAYLIGHT
TZOFFSETFROM:-0600
TZOFFSETTO:-0500
TZNAME:CDT
DTSTART:20250309T080000
END:DAYLIGHT
BEGIN:STANDARD
TZOFFSETFROM:-0500
TZOFFSETTO:-0600
TZNAME:CST
DTSTART:20251102T070000
END:STANDARD
END:VTIMEZONE
BEGIN:VEVENT
DTSTART;TZID=America/Chicago:20241010T113000
DTEND;TZID=America/Chicago:20241010T133000
DTSTAMP:20260421T125253
CREATED:20240625T164400Z
LAST-MODIFIED:20240625T164400Z
UID:28678-1728559800-1728567000@regionalhca.org
SUMMARY:San Antonio Luna Awards Luncheon
DESCRIPTION:San Antonio Luna Awards Luncheon \nThursday\, October 10\, 2024 \n11:30 AM – 1:30 PM \nArchitecture • Engineering • Construction \nThe Luna Awards celebrates the achievements of women\, women-owned businesses\, and advocates who promote and develop women at all levels in Architecture\, Engineering\, and Construction. \n  \nRSVP: https://form.jotform.com/240514850816152
URL:https://regionalhca.org/event/san-antonio-luna-awards-luncheon-2/
ATTACH;FMTTYPE=image/png:https://regionalhca.org/wp-content/uploads/2024/06/San-Antonio-2.png
END:VEVENT
END:VCALENDAR