BEGIN:VCALENDAR
VERSION:2.0
PRODID:-//Regional Hispanic Contractors Association - ECPv6.15.20//NONSGML v1.0//EN
CALSCALE:GREGORIAN
METHOD:PUBLISH
X-WR-CALNAME:Regional Hispanic Contractors Association
X-ORIGINAL-URL:https://regionalhca.org
X-WR-CALDESC:Events for Regional Hispanic Contractors Association
REFRESH-INTERVAL;VALUE=DURATION:PT1H
X-Robots-Tag:noindex
X-PUBLISHED-TTL:PT1H
BEGIN:VTIMEZONE
TZID:America/Chicago
BEGIN:DAYLIGHT
TZOFFSETFROM:-0600
TZOFFSETTO:-0500
TZNAME:CDT
DTSTART:20240310T080000
END:DAYLIGHT
BEGIN:STANDARD
TZOFFSETFROM:-0500
TZOFFSETTO:-0600
TZNAME:CST
DTSTART:20241103T070000
END:STANDARD
BEGIN:DAYLIGHT
TZOFFSETFROM:-0600
TZOFFSETTO:-0500
TZNAME:CDT
DTSTART:20250309T080000
END:DAYLIGHT
BEGIN:STANDARD
TZOFFSETFROM:-0500
TZOFFSETTO:-0600
TZNAME:CST
DTSTART:20251102T070000
END:STANDARD
BEGIN:DAYLIGHT
TZOFFSETFROM:-0600
TZOFFSETTO:-0500
TZNAME:CDT
DTSTART:20260308T080000
END:DAYLIGHT
BEGIN:STANDARD
TZOFFSETFROM:-0500
TZOFFSETTO:-0600
TZNAME:CST
DTSTART:20261101T070000
END:STANDARD
END:VTIMEZONE
BEGIN:VEVENT
DTSTART;TZID=America/Chicago:20251119T080000
DTEND;TZID=America/Chicago:20251119T150000
DTSTAMP:20260421T114407
CREATED:20251028T172801Z
LAST-MODIFIED:20251028T172801Z
UID:10000987-1763539200-1763564400@regionalhca.org
SUMMARY:OSHA 10-Hour - Spanish
DESCRIPTION:Participants in this class encourage a safety-focused workplace through peer-led training plus using participatory\, hands-on learning activities\, on top of trainers customizing topics to meet audience needs. The ten-hour\, two-day course covers hazard recognition\, workers’ rights\, employer responsibilities\, and complaint procedures in addition to highlighting the importance of safety and health\, especially for young workers. 
URL:https://regionalhca.org/event/osha-10-hour-spanish-4/2025-11-19/
LOCATION:RHCA Headquarters & Training Center\, 2210 W. Illinois Avenue\, Dallas\, TX\, 75224\, United States
CATEGORIES:Safety Training
ATTACH;FMTTYPE=image/png:https://regionalhca.org/wp-content/uploads/2025/03/Screenshot-2025-03-19-at-9.28.27 AM-2.png
END:VEVENT
BEGIN:VEVENT
DTSTART;TZID=America/Chicago:20251119T080000
DTEND;TZID=America/Chicago:20251119T150000
DTSTAMP:20260421T114407
CREATED:20251028T193029Z
LAST-MODIFIED:20251028T193029Z
UID:10000996-1763539200-1763564400@regionalhca.org
SUMMARY:OSHA 10-Hour - Spanish
DESCRIPTION:Participants in this class encourage a safety-focused workplace through peer-led training plus using participatory\, hands-on learning activities\, on top of trainers customizing topics to meet audience needs. The ten-hour\, two-day course covers hazard recognition\, workers’ rights\, employer responsibilities\, and complaint procedures in addition to highlighting the importance of safety and health\, especially for young workers. 
URL:https://regionalhca.org/event/osha-10-hour-spanish-5/
LOCATION:RHCA Headquarters & Training Center\, 2210 W. Illinois Avenue\, Dallas\, TX\, 75224\, United States
CATEGORIES:Safety Training
ATTACH;FMTTYPE=image/png:https://regionalhca.org/wp-content/uploads/2025/03/Screenshot-2025-03-19-at-9.28.27 AM-2.png
END:VEVENT
BEGIN:VEVENT
DTSTART;TZID=America/Chicago:20251119T080000
DTEND;TZID=America/Chicago:20251119T170000
DTSTAMP:20260421T114407
CREATED:20251028T193143Z
LAST-MODIFIED:20251028T193215Z
UID:10000995-1763539200-1763571600@regionalhca.org
SUMMARY:OSHA 10-Hour - Spanish
DESCRIPTION:Participants in this class encourage a safety-focused workplace through peer-led training plus using participatory\, hands-on learning activities\, on top of trainers customizing topics to meet audience needs. The ten-hour\, two-day course covers hazard recognition\, workers’ rights\, employer responsibilities\, and complaint procedures in addition to highlighting the importance of safety and health\, especially for young workers. 
URL:https://regionalhca.org/event/osha-10-hour-spanish-6/
LOCATION:RHCA Headquarters & Training Center\, 2210 W. Illinois Avenue\, Dallas\, TX\, 75224\, United States
CATEGORIES:Safety Training
ATTACH;FMTTYPE=image/png:https://regionalhca.org/wp-content/uploads/2025/03/Screenshot-2025-03-19-at-9.28.27 AM-2.png
END:VEVENT
BEGIN:VEVENT
DTSTART;TZID=America/Chicago:20251120T080000
DTEND;TZID=America/Chicago:20251120T170000
DTSTAMP:20260421T114407
CREATED:20251028T193333Z
LAST-MODIFIED:20251028T193333Z
UID:10000997-1763625600-1763658000@regionalhca.org
SUMMARY:OSHA 10-Hour - Spanish
DESCRIPTION:Participants in this class encourage a safety-focused workplace through peer-led training plus using participatory\, hands-on learning activities\, on top of trainers customizing topics to meet audience needs. The ten-hour\, two-day course covers hazard recognition\, workers’ rights\, employer responsibilities\, and complaint procedures in addition to highlighting the importance of safety and health\, especially for young workers. 
URL:https://regionalhca.org/event/osha-10-hour-spanish-7/
LOCATION:RHCA Headquarters & Training Center\, 2210 W. Illinois Avenue\, Dallas\, TX\, 75224\, United States
CATEGORIES:Safety Training
ATTACH;FMTTYPE=image/png:https://regionalhca.org/wp-content/uploads/2025/03/Screenshot-2025-03-19-at-9.28.27 AM-2.png
END:VEVENT
END:VCALENDAR