BEGIN:VCALENDAR
VERSION:2.0
PRODID:-//Regional Hispanic Contractors Association - ECPv6.15.20//NONSGML v1.0//EN
CALSCALE:GREGORIAN
METHOD:PUBLISH
X-WR-CALNAME:Regional Hispanic Contractors Association
X-ORIGINAL-URL:https://regionalhca.org
X-WR-CALDESC:Events for Regional Hispanic Contractors Association
REFRESH-INTERVAL;VALUE=DURATION:PT1H
X-Robots-Tag:noindex
X-PUBLISHED-TTL:PT1H
BEGIN:VTIMEZONE
TZID:America/Chicago
BEGIN:DAYLIGHT
TZOFFSETFROM:-0600
TZOFFSETTO:-0500
TZNAME:CDT
DTSTART:20250309T080000
END:DAYLIGHT
BEGIN:STANDARD
TZOFFSETFROM:-0500
TZOFFSETTO:-0600
TZNAME:CST
DTSTART:20251102T070000
END:STANDARD
BEGIN:DAYLIGHT
TZOFFSETFROM:-0600
TZOFFSETTO:-0500
TZNAME:CDT
DTSTART:20260308T080000
END:DAYLIGHT
BEGIN:STANDARD
TZOFFSETFROM:-0500
TZOFFSETTO:-0600
TZNAME:CST
DTSTART:20261101T070000
END:STANDARD
BEGIN:DAYLIGHT
TZOFFSETFROM:-0600
TZOFFSETTO:-0500
TZNAME:CDT
DTSTART:20270314T080000
END:DAYLIGHT
BEGIN:STANDARD
TZOFFSETFROM:-0500
TZOFFSETTO:-0600
TZNAME:CST
DTSTART:20271107T070000
END:STANDARD
END:VTIMEZONE
BEGIN:VEVENT
DTSTART;TZID=America/Chicago:20260204T110000
DTEND;TZID=America/Chicago:20260204T130000
DTSTAMP:20260421T083248
CREATED:20260202T153636Z
LAST-MODIFIED:20260202T153636Z
UID:10001119-1770202800-1770210000@regionalhca.org
SUMMARY:NAMC Greater Austin Relaunch & HUB Program Discussion
DESCRIPTION:Join us in Austin for the NAMC relaunch and an informative discussion about the HUB Program in Texas—don’t miss out! \n\n\n\nNAMC Greater Austin Relaunch & HUB Program Discussion\nGreater Austin Black Chamber of CommerceAustin\, TX \nFeb 4 at 11 am to Apr 4 at 1 pm CST \nRegister Here\nLearn how NAMC is actively confronting the issues that impact MWBE and HUB contractors in Central Texas. \nNAMC is a sub plaintiff in a lawsuit to challenge Texas’ freeze on the HUB program. HUB-rejected contractors should attend. Austin\, Dallas\, Houston\, and San Antonio are the four metropolitan areas affected by the lawsuit. \nWho should attend? \nInterested MWBE contractors\, DBEs\, prime contractors\, industry partners\, HUB program -rejected contractors\, and public-sector stakeholders. \nFor more information\, contact: events@namcnational.org
URL:https://regionalhca.org/event/namc-greater-austin-relaunch-hub-program-discussion/
LOCATION:912 East 11th Street  #Suite A Austin\, TX 78702\, 912 East 11th Street\, Suite A\, Austin\, 78702\, United States
ATTACH;FMTTYPE=image/png:https://regionalhca.org/wp-content/uploads/2026/02/Screenshot-2026-02-02-at-9.35.58-a.m.png
END:VEVENT
BEGIN:VEVENT
DTSTART;TZID=America/Chicago:20260210T080000
DTEND;TZID=America/Chicago:20260210T133000
DTSTAMP:20260421T083248
CREATED:20260128T225848Z
LAST-MODIFIED:20260128T225848Z
UID:10001105-1770710400-1770730200@regionalhca.org
SUMMARY:Building Blocks of Business Success
DESCRIPTION:The Building Blocks of Business Success seminars are tailored for small business owners and are designed to equip them with essential tools and strategies for growth and success in the market. \nMonthly workshops. \nTuesday\, February 10\, 2026\, 11:00 am – 1:30 pm \nRHCA Houston HQ & Training Center\, 7047 Harrisburg Blvd\, Houston\, TX 77011  \nSpeakers \n\nHouston City College – Veronica Douglas\nGoldman Sachs 10\,000 Small Business – Melissa Ngome\nSubcontractors USA – Chivon Jones\nSouthEast Fabricators and Erector’s LLC – Claudia Baca-Ruiz\nCity of Houston – Alejandro Guajardo MBA\n\nRegister Here \n 
URL:https://regionalhca.org/event/building-blocks-of-business-success/2026-02-10/
LOCATION:7047 Harrisburg Blvd\, Houston\, TX 77011\, 7047 Harrisburg Blvd\, Houston\, 77011\, United States
CATEGORIES:Small Business Training
ATTACH;FMTTYPE=image/png:https://regionalhca.org/wp-content/uploads/2026/01/Screenshot-2026-01-28-at-4.55.57-p.m.png
END:VEVENT
BEGIN:VEVENT
DTSTART;TZID=America/Chicago:20260225T080000
DTEND;TZID=America/Chicago:20260225T130000
DTSTAMP:20260421T083248
CREATED:20260127T205205Z
LAST-MODIFIED:20260127T205848Z
UID:10001103-1772006400-1772024400@regionalhca.org
SUMMARY:OSHA 10-Hour - English
DESCRIPTION:OSHA 10-Hour – English \n\n\nFebruary 25 & 26 – 8:00 am – 1:00 pm\n7047 Harrisburg Blvd\,. Houston\, TX 77011\n\n\nParticipants in this class encourage a safety-focused workplace through peer-led training plus using participatory\, hands-on learning activities\, on top of trainers customizing topics to meet audience needs. The ten-hour\, two-day course covers hazard recognition\, workers’ rights\, employer responsibilities\, and complaint procedures in addition to highlighting the importance of safety and health\, especially for young workers.  \nRegister Here
URL:https://regionalhca.org/event/osha-10-hour-english-3/2026-02-25/
LOCATION:7047 Harrisburg Boulevard  Houston\, TX 77011 United States\, 7047 Harrisburg Boulevard\, Houston\, 77011\, United States
CATEGORIES:Safety Training
ATTACH;FMTTYPE=image/png:https://regionalhca.org/wp-content/uploads/2026/01/Screenshot-2026-01-27-at-2.57.55-p.m.png
END:VEVENT
BEGIN:VEVENT
DTSTART;TZID=America/Chicago:20260226T080000
DTEND;TZID=America/Chicago:20260226T130000
DTSTAMP:20260421T083248
CREATED:20260127T205205Z
LAST-MODIFIED:20260127T205848Z
UID:10001104-1772092800-1772110800@regionalhca.org
SUMMARY:OSHA 10-Hour - English
DESCRIPTION:OSHA 10-Hour – English \n\n\nFebruary 25 & 26 – 8:00 am – 1:00 pm\n7047 Harrisburg Blvd\,. Houston\, TX 77011\n\n\nParticipants in this class encourage a safety-focused workplace through peer-led training plus using participatory\, hands-on learning activities\, on top of trainers customizing topics to meet audience needs. The ten-hour\, two-day course covers hazard recognition\, workers’ rights\, employer responsibilities\, and complaint procedures in addition to highlighting the importance of safety and health\, especially for young workers.  \nRegister Here
URL:https://regionalhca.org/event/osha-10-hour-english-3/2026-02-26/
LOCATION:7047 Harrisburg Boulevard  Houston\, TX 77011 United States\, 7047 Harrisburg Boulevard\, Houston\, 77011\, United States
CATEGORIES:Safety Training
ATTACH;FMTTYPE=image/png:https://regionalhca.org/wp-content/uploads/2026/01/Screenshot-2026-01-27-at-2.57.55-p.m.png
END:VEVENT
BEGIN:VEVENT
DTSTART;TZID=America/Chicago:20260310T080000
DTEND;TZID=America/Chicago:20260310T133000
DTSTAMP:20260421T083248
CREATED:20260128T225848Z
LAST-MODIFIED:20260128T225848Z
UID:10001106-1773129600-1773149400@regionalhca.org
SUMMARY:Building Blocks of Business Success
DESCRIPTION:The Building Blocks of Business Success seminars are tailored for small business owners and are designed to equip them with essential tools and strategies for growth and success in the market. \nMonthly workshops. \nTuesday\, February 10\, 2026\, 11:00 am – 1:30 pm \nRHCA Houston HQ & Training Center\, 7047 Harrisburg Blvd\, Houston\, TX 77011  \nSpeakers \n\nHouston City College – Veronica Douglas\nGoldman Sachs 10\,000 Small Business – Melissa Ngome\nSubcontractors USA – Chivon Jones\nSouthEast Fabricators and Erector’s LLC – Claudia Baca-Ruiz\nCity of Houston – Alejandro Guajardo MBA\n\nRegister Here \n 
URL:https://regionalhca.org/event/building-blocks-of-business-success/2026-03-10/
LOCATION:7047 Harrisburg Blvd\, Houston\, TX 77011\, 7047 Harrisburg Blvd\, Houston\, 77011\, United States
CATEGORIES:Small Business Training
ATTACH;FMTTYPE=image/png:https://regionalhca.org/wp-content/uploads/2026/01/Screenshot-2026-01-28-at-4.55.57-p.m.png
END:VEVENT
BEGIN:VEVENT
DTSTART;TZID=America/Chicago:20260414T080000
DTEND;TZID=America/Chicago:20260414T133000
DTSTAMP:20260421T083248
CREATED:20260128T225848Z
LAST-MODIFIED:20260128T225848Z
UID:10001107-1776153600-1776173400@regionalhca.org
SUMMARY:Building Blocks of Business Success
DESCRIPTION:The Building Blocks of Business Success seminars are tailored for small business owners and are designed to equip them with essential tools and strategies for growth and success in the market. \nMonthly workshops. \nTuesday\, February 10\, 2026\, 11:00 am – 1:30 pm \nRHCA Houston HQ & Training Center\, 7047 Harrisburg Blvd\, Houston\, TX 77011  \nSpeakers \n\nHouston City College – Veronica Douglas\nGoldman Sachs 10\,000 Small Business – Melissa Ngome\nSubcontractors USA – Chivon Jones\nSouthEast Fabricators and Erector’s LLC – Claudia Baca-Ruiz\nCity of Houston – Alejandro Guajardo MBA\n\nRegister Here \n 
URL:https://regionalhca.org/event/building-blocks-of-business-success/2026-04-14/
LOCATION:7047 Harrisburg Blvd\, Houston\, TX 77011\, 7047 Harrisburg Blvd\, Houston\, 77011\, United States
CATEGORIES:Small Business Training
ATTACH;FMTTYPE=image/png:https://regionalhca.org/wp-content/uploads/2026/01/Screenshot-2026-01-28-at-4.55.57-p.m.png
END:VEVENT
BEGIN:VEVENT
DTSTART;TZID=America/Chicago:20260415T080000
DTEND;TZID=America/Chicago:20260415T130000
DTSTAMP:20260421T083248
CREATED:20260313T212917Z
LAST-MODIFIED:20260313T212917Z
UID:10002488-1776240000-1776258000@regionalhca.org
SUMMARY:Fall Protection Training - English - Houston
DESCRIPTION:Fall Protection Training – English – Houston \nWhen \nWednesday \, April 15 \, 2026 \n8:00 AM to 10:00 AM CDT \nWhere \n7047 Harrisburg Blvd\, 2nd Floor \nHouston\, TX 77011 \nTime / Horario \nClass: 8:00 PM a 10:00 PM \nRegister Here
URL:https://regionalhca.org/event/fall-protection-training-english-houston/
LOCATION:7047 Harrisburg Blvd\, Houston\, TX 77011\, 7047 Harrisburg Blvd\, Houston\, 77011\, United States
CATEGORIES:Safety Training
ATTACH;FMTTYPE=image/png:https://regionalhca.org/wp-content/uploads/2026/03/Screenshot-2026-03-12-at-5.07.42-p.m-1.png
END:VEVENT
BEGIN:VEVENT
DTSTART;TZID=America/Chicago:20260416T090000
DTEND;TZID=America/Chicago:20260416T160000
DTSTAMP:20260421T083248
CREATED:20260316T222817Z
LAST-MODIFIED:20260316T222817Z
UID:10002489-1776330000-1776355200@regionalhca.org
SUMMARY:Cash Flow Like a Pro: QuickBooks for Business Success (Houston)
DESCRIPTION:Cash Flow Like a Pro: QuickBooks for Business Success (Houston) \nRegister Here \nThursday\, Apr 16 from 9 am to 4 pm \n7047 Harrisburg Blvd. Houston\, TX \n\n\n\n\nJoin us IN PERSON as we explore the multifaceted aspects of financial management and unlock a wealth of invaluable knowledge essential for business prosperity! \nThis comprehensive\, day-long workshop is designed to emphasize the critical importance of effective financial management in achieving sustainable business success. Throughout the workshop\, participants will gain invaluable insights into the intricate workings of financial management\, equipping them with the knowledge and skills necessary to navigate and optimize their business’s financial landscape. \n**LIGHT SNACKS AND LUNCH WILL BE PROVIDED** \nHere’s what we will cover: \nWhat is Financial Management to Your Business? \nWe will discuss how managing financial management helps your business succeed. Participants will walk away from this session with a keen understanding of the financial cycle and application to their company. \nWhat Accounts are Important to your Business? \nWe will help you set up your company in QuickBooks Online. We will customize the Chart of Accounts to meet the company’s needs and align with GAAP. We will demonstrate how to create and track Accounts Receivables and Accounts Payables in QBO. Participants will walk away knowing how to set up bank feeds\, create new accounts\, invoices\, expenses\, write checks\, and categorize accounts in bank feeds. \nReconciliation of Balance Sheet Accounts \nWe will discuss the importance of reconciling balance sheet accounts monthly and how to resolve any duplications or missing transactions. You will walk away with the knowledge of reconciling statements in QBO and correct any missing or duplicated transactions. \nUnderstanding and Creating Monthly Reports – Profit & Loss\, Balance Sheet\, and Statement of Cash Flow Report \nWe will help you understand how to create the company Profit & Loss (Income Statement)\, Balance Sheet\, and Statement of Cash Flow Report for any given period on an Accrual or Cash Basis. You will walk away with knowledge of understanding the financial position of your company based on the reports. \nThis event is made possible by the Small Business Administration.
URL:https://regionalhca.org/event/cash-flow-like-a-pro-quickbooks-for-business-success-houston/
LOCATION:7047 Harrisburg Blvd\, Houston\, TX 77011\, 7047 Harrisburg Blvd\, Houston\, 77011\, United States
CATEGORIES:Small Business Training
ATTACH;FMTTYPE=image/png:https://regionalhca.org/wp-content/uploads/2026/03/Screenshot-2026-03-16-at-5.27.21-p.m.png
END:VEVENT
END:VCALENDAR