BEGIN:VCALENDAR
VERSION:2.0
PRODID:-//Regional Hispanic Contractors Association - ECPv6.15.20//NONSGML v1.0//EN
CALSCALE:GREGORIAN
METHOD:PUBLISH
X-ORIGINAL-URL:https://regionalhca.org
X-WR-CALDESC:Events for Regional Hispanic Contractors Association
REFRESH-INTERVAL;VALUE=DURATION:PT1H
X-Robots-Tag:noindex
X-PUBLISHED-TTL:PT1H
BEGIN:VTIMEZONE
TZID:America/Chicago
BEGIN:DAYLIGHT
TZOFFSETFROM:-0600
TZOFFSETTO:-0500
TZNAME:CDT
DTSTART:20240310T080000
END:DAYLIGHT
BEGIN:STANDARD
TZOFFSETFROM:-0500
TZOFFSETTO:-0600
TZNAME:CST
DTSTART:20241103T070000
END:STANDARD
BEGIN:DAYLIGHT
TZOFFSETFROM:-0600
TZOFFSETTO:-0500
TZNAME:CDT
DTSTART:20250309T080000
END:DAYLIGHT
BEGIN:STANDARD
TZOFFSETFROM:-0500
TZOFFSETTO:-0600
TZNAME:CST
DTSTART:20251102T070000
END:STANDARD
BEGIN:DAYLIGHT
TZOFFSETFROM:-0600
TZOFFSETTO:-0500
TZNAME:CDT
DTSTART:20260308T080000
END:DAYLIGHT
BEGIN:STANDARD
TZOFFSETFROM:-0500
TZOFFSETTO:-0600
TZNAME:CST
DTSTART:20261101T070000
END:STANDARD
END:VTIMEZONE
BEGIN:VEVENT
DTSTART;TZID=America/Chicago:20250806T090000
DTEND;TZID=America/Chicago:20250806T100000
DTSTAMP:20260423T050532
CREATED:20250108T173417Z
LAST-MODIFIED:20251007T142922Z
UID:10000700-1754470800-1754474400@regionalhca.org
SUMMARY:RHCA Safety Council Committee Meetings 2025
DESCRIPTION:RHCA Safety Council is an advisory body formed to provide the RHCA\, Health and Safety field input and perspective in the development and maintenance of construction safety program guidance and in the review and resolution of construction safety issues. The Safety Council also serves as a topical committee to provide advice and support on safety-related construction issues. It serves as a subject matter expert panel to advise the RHCA in construction safety and health matters. \nThe RHCA Safety Council Functions: \n\nResource for training instructors\n\n\nTraining topics and speakers\n\n\nAssists with RHCA Safety events (Safety Stand-Down\, DIA and Safe + Sound)\n\n\nAssists with the development of grants and training\n\nRHCA Safety Council Meetings \nThe first Wednesday of the Month from 9:00 am to 10:00 am. CST\nMeetings are open to members in good standing; registration is required. \nInterested in presenting a project opportunity or topic? Please get in touch with Cesar Barajas (Cesar@regionalhca.org) or Julio Florez (julio@regionalhca.org)
URL:https://regionalhca.org/event/https-regionalhca-org-safety-council/2025-08-06/
LOCATION:RHCA Headquarters & Training Center\, 2210 W. Illinois Avenue\, Dallas\, TX\, 75224\, United States
ATTACH;FMTTYPE=image/jpeg:https://regionalhca.org/wp-content/uploads/2023/12/Screen-Shot-2023-04-28-at-11.31.541111.jpg
ORGANIZER;CN="Julio Florez":MAILTO:julio@regionalhca.org
END:VEVENT
BEGIN:VEVENT
DTSTART;TZID=America/Chicago:20250808T080000
DTEND;TZID=America/Chicago:20250808T100000
DTSTAMP:20260423T050532
CREATED:20250117T214320Z
LAST-MODIFIED:20250728T190548Z
UID:10000790-1754640000-1754647200@regionalhca.org
SUMMARY:(English) Fall Protection Training
DESCRIPTION:The Fall Protection Class is a one-day\, two-hour course. Upon completing the two-hour course\, each student will receive a “Certificate of Completion” of the OSHA Susan Harwood Training Grant Fall Protection.
URL:https://regionalhca.org/event/fall-protection-training-english-36/
LOCATION:West Dallas Multipurpose Center\, 2828 Fish Trap Rd\, Dallas\, 75212\, United States
CATEGORIES:Safety Training
ATTACH;FMTTYPE=image/png:https://regionalhca.org/wp-content/uploads/2025/01/Screenshot-2025-03-19-at-9.59.53 AM-11.png
END:VEVENT
BEGIN:VEVENT
DTSTART;TZID=America/Chicago:20250808T130000
DTEND;TZID=America/Chicago:20250808T150000
DTSTAMP:20260423T050532
CREATED:20250117T214451Z
LAST-MODIFIED:20250728T190612Z
UID:10000791-1754658000-1754665200@regionalhca.org
SUMMARY:(Spanish) Fall Protection Training
DESCRIPTION:The Fall Protection Class is a one-day\, two-hour course. Upon completing the two-hour course\, each student will receive a “Certificate of Completion” of the OSHA Susan Harwood Training Grant Fall Protection.
URL:https://regionalhca.org/event/fall-protection-training-spanish-34/
LOCATION:West Dallas Multipurpose Center\, 2828 Fish Trap Rd\, Dallas\, 75212\, United States
CATEGORIES:Safety Training
ATTACH;FMTTYPE=image/png:https://regionalhca.org/wp-content/uploads/2025/01/Screenshot-2025-03-19-at-9.59.53 AM-10.png
END:VEVENT
BEGIN:VEVENT
DTSTART;TZID=America/Chicago:20250813T083000
DTEND;TZID=America/Chicago:20250813T100000
DTSTAMP:20260423T050532
CREATED:20250109T225607Z
LAST-MODIFIED:20250109T225607Z
UID:10000719-1755073800-1755079200@regionalhca.org
SUMMARY:AEC Roundtable Committee Meeting 08 13 2025
DESCRIPTION:Architecture\, Engineering and Construction – AEC The RHCA Architecture\, Engineering\, and Construction Committee (AEC). The Committee supports the RHCA mission to increase architecture\, engineering and contractor business capacity\, efficiency\, and profitability through civil\, heavy highway and infrastructure project opportunities. The Committee develops programming and relationships with major general contractors\, owners and developers to use RHCA members and small\, minority\, and women-owned contractors; and to help members to contract with each other. \nAEC Roundtable Committee Meetings \nThe second Wednesday of the month from 8:30 am to 10:00 am.\nMeetings are open to members in good standing; registration is required. \nInterested in presenting a project opportunity or topic please contact Julio Florez (julio@regionalhca.org)
URL:https://regionalhca.org/event/aec-roundtable-committee-meeting-08-13-2025/
LOCATION:Virtual
ATTACH;FMTTYPE=image/png:https://regionalhca.org/wp-content/uploads/2023/12/image.png
ORGANIZER;CN="Julio Florez":MAILTO:julio@regionalhca.org
END:VEVENT
BEGIN:VEVENT
DTSTART;TZID=America/Chicago:20250815T080000
DTEND;TZID=America/Chicago:20250815T100000
DTSTAMP:20260423T050532
CREATED:20250117T215327Z
LAST-MODIFIED:20250729T201408Z
UID:10000793-1755244800-1755252000@regionalhca.org
SUMMARY:(Spanish) Fall Protection Training
DESCRIPTION:The Fall Protection Class is a one-day\, two-hour course. Upon completing the two-hour course\, each student will receive a “Certificate of Completion” of the OSHA Susan Harwood Training Grant Fall Protection.
URL:https://regionalhca.org/event/fall-protection-training-spanish-35/
LOCATION:RHCA Houston Office\, 7047 Harrisburg Blvd\, 2nd Floor\, Houston\, TX\, 77011
CATEGORIES:Safety Training
ATTACH;FMTTYPE=image/png:https://regionalhca.org/wp-content/uploads/2025/01/Screenshot-2025-03-19-at-9.59.53 AM-8.png
END:VEVENT
BEGIN:VEVENT
DTSTART;TZID=America/Chicago:20250815T130000
DTEND;TZID=America/Chicago:20250815T150000
DTSTAMP:20260423T050532
CREATED:20250117T214847Z
LAST-MODIFIED:20250729T201427Z
UID:10000792-1755262800-1755270000@regionalhca.org
SUMMARY:(English) Fall Protection Training
DESCRIPTION:The Fall Protection Class is a one-day\, two-hour course. Upon completing the two-hour course\, each student will receive a “Certificate of Completion” of the OSHA Susan Harwood Training Grant Fall Protection.
URL:https://regionalhca.org/event/fall-protection-training-english-37/
LOCATION:RHCA Houston Office\, 7047 Harrisburg Blvd\, 2nd Floor\, Houston\, TX\, 77011
CATEGORIES:Safety Training
ATTACH;FMTTYPE=image/png:https://regionalhca.org/wp-content/uploads/2025/01/Screenshot-2025-03-19-at-9.59.53 AM-9.png
END:VEVENT
BEGIN:VEVENT
DTSTART;TZID=America/Chicago:20250819T083000
DTEND;TZID=America/Chicago:20250819T100000
DTSTAMP:20260423T050532
CREATED:20250110T142906Z
LAST-MODIFIED:20250110T142906Z
UID:10000730-1755592200-1755597600@regionalhca.org
SUMMARY:Economic and Business Development Committee Meeting 08 19 2025
DESCRIPTION:  \nThe RHCA Economic and Business Development Committee is a standing committee. The Committee supports the RHCA mission to increase contractor business capacity\, efficiency\, and profitability through project opportunities and building relationships with key industry contacts. \nThe Committee develops programming and relationships with major general contractors\, owners and developers to use RHCA members and small\, minority\, and women-owned contractors; and to help members to contract with each other. \nEconomic and Business Development Committee Meetings are held on The third Tuesday of the Month from 8:30 am to 10:00 am. CST.\nMeetings are open to members in good standing; registration is required. \nInterested in presenting a project opportunity or topic please get in touch with Julio Florez (julio@regionalhca.org)
URL:https://regionalhca.org/event/economic-and-business-development-committee-meeting-08-19-2025/
LOCATION:Virtual
ATTACH;FMTTYPE=image/jpeg:https://regionalhca.org/wp-content/uploads/2023/12/Screenshot-2023-12-01-at-10.09.041111-1-scaled.jpg
ORGANIZER;CN="Julio Florez":MAILTO:julio@regionalhca.org
END:VEVENT
BEGIN:VEVENT
DTSTART;TZID=America/Chicago:20250820T070000
DTEND;TZID=America/Chicago:20250820T160000
DTSTAMP:20260423T050532
CREATED:20250318T151145Z
LAST-MODIFIED:20250318T152308Z
UID:10000830-1755673200-1755705600@regionalhca.org
SUMMARY:Build Fort Worth Construction EXPO
DESCRIPTION:Join us and learn about the over $500 Billion in Construction opportunities in Texas. \nEvent highlights: Construction Project Sessions\, Heavey Highway Session\, EXPO and Closing Reception
URL:https://regionalhca.org/event/build-fort-worth-construction-expo/
LOCATION:Will Rogers Memorial Center\, 3401 W Lancaster Avenue\, Fort Worth\, TX\, 75107\, United States
ATTACH;FMTTYPE=image/png:https://regionalhca.org/wp-content/uploads/2025/03/BFW-2025.png
END:VEVENT
BEGIN:VEVENT
DTSTART;TZID=America/Chicago:20250821T080000
DTEND;TZID=America/Chicago:20250821T150000
DTSTAMP:20260423T050532
CREATED:20250318T202012Z
LAST-MODIFIED:20250319T144546Z
UID:10000851-1755763200-1755788400@regionalhca.org
SUMMARY:OSHA 10-Hour - English
DESCRIPTION:Participants in this class encourage a safety-focused workplace through peer-led training plus using participatory\, hands-on learning activities\, on top of trainers customizing topics to meet audience needs. The ten-hour\, two-day course covers hazard recognition\, workers’ rights\, employer responsibilities\, and complaint procedures in addition to highlighting the importance of safety and health\, especially for young workers. 
URL:https://regionalhca.org/event/osha-10-hour-english-2/2025-08-21/
LOCATION:RHCA Headquarters & Training Center\, 2210 W. Illinois Avenue\, Dallas\, TX\, 75224\, United States
CATEGORIES:Safety Training
ATTACH;FMTTYPE=image/png:https://regionalhca.org/wp-content/uploads/2025/03/Screenshot-2025-03-19-at-9.28.27 AM-4.png
END:VEVENT
BEGIN:VEVENT
DTSTART;TZID=America/Chicago:20250822T080000
DTEND;TZID=America/Chicago:20250822T150000
DTSTAMP:20260423T050532
CREATED:20250318T202012Z
LAST-MODIFIED:20250319T144546Z
UID:10000852-1755849600-1755874800@regionalhca.org
SUMMARY:OSHA 10-Hour - English
DESCRIPTION:Participants in this class encourage a safety-focused workplace through peer-led training plus using participatory\, hands-on learning activities\, on top of trainers customizing topics to meet audience needs. The ten-hour\, two-day course covers hazard recognition\, workers’ rights\, employer responsibilities\, and complaint procedures in addition to highlighting the importance of safety and health\, especially for young workers. 
URL:https://regionalhca.org/event/osha-10-hour-english-2/2025-08-22/
LOCATION:RHCA Headquarters & Training Center\, 2210 W. Illinois Avenue\, Dallas\, TX\, 75224\, United States
CATEGORIES:Safety Training
ATTACH;FMTTYPE=image/png:https://regionalhca.org/wp-content/uploads/2025/03/Screenshot-2025-03-19-at-9.28.27 AM-4.png
END:VEVENT
BEGIN:VEVENT
DTSTART;TZID=America/Chicago:20250827T110000
DTEND;TZID=America/Chicago:20250827T133000
DTSTAMP:20260423T050532
CREATED:20250225T000525Z
LAST-MODIFIED:20250318T125659Z
UID:10000813-1756292400-1756301400@regionalhca.org
SUMMARY:LUNA Rio Grande Valley SOUTH CENTRAL
DESCRIPTION:The Luna Awards celebrates the achievements of women\, women-owned businesses and advocates who promote and develop women at all levels in Architecture\, Engineering and Construction. \nThe award celebrates diversity and inclusivity\, welcoming nominees regardless of RHCA membership or Hispanic background. \n \n#LUNAAWARDS      #STATEWIDE      #LUNARGV
URL:https://regionalhca.org/event/luna-rgv-south-central/
LOCATION:Harlingen Convention Center (Great Kiskadee Ballroom E-H)\, 701 Harlingen Heights Drive\, Harlingen\, TX\, 78552\, United States
ATTACH;FMTTYPE=image/png:https://regionalhca.org/wp-content/uploads/2025/03/Screenshot-2025-03-18-at-7.41.18 AM.png
END:VEVENT
BEGIN:VEVENT
DTSTART;TZID=America/Chicago:20250828T110000
DTEND;TZID=America/Chicago:20250828T130000
DTSTAMP:20260423T050532
CREATED:20250805T163657Z
LAST-MODIFIED:20250805T170741Z
UID:10000895-1756378800-1756386000@regionalhca.org
SUMMARY:RHCA Houston Luncheon Mixer
DESCRIPTION:RHCA Houston Luncheon Mixer\nThursday\, August 28 2025 \n11:00 am – 1:00 pm \nFelix Fraga Academic Campus 3rd Floor \n301 North Drennan Street\, \nHouston\, TX 77003 \nJoin the RHCA Houston Team and Leadership for an exclusive Luncheon Mixer—a dynamic networking event designed to bring together the leading contractors\, industry professionals\, and community stakeholders from across the Greater Houston Area. \nRegister Here: https://form.jotform.com/252059314999166
URL:https://regionalhca.org/event/rhca-houston-luncheon-mixer/
LOCATION:Felix Fraga Academic Campus 3rd Floor 301 North Drennan Street\,  Houston\, TX 77003\, 301 North Drennan Street\, Houston\, 77003\, United States
ATTACH;FMTTYPE=image/png:https://regionalhca.org/wp-content/uploads/2025/08/Screenshot-2025-08-05-at-11.34.05-a.m.png
END:VEVENT
BEGIN:VEVENT
DTSTART;TZID=America/Chicago:20250829T080000
DTEND;TZID=America/Chicago:20250829T100000
DTSTAMP:20260423T050532
CREATED:20250117T220351Z
LAST-MODIFIED:20250319T150847Z
UID:10000794-1756454400-1756461600@regionalhca.org
SUMMARY:(English) Fall Protection Training
DESCRIPTION:The Fall Protection Class is a one-day\, two-hour course. Upon completing the two-hour course\, each student will receive a “Certificate of Completion” of the OSHA Susan Harwood Training Grant Fall Protection.
URL:https://regionalhca.org/event/fall-protection-training-english-38/
LOCATION:Fort Worth Small Business Assistance Center\, 1150 South Fwy\, Suite 116\, Fort Worth\, TX\, 76104\, United States
CATEGORIES:Safety Training
ATTACH;FMTTYPE=image/png:https://regionalhca.org/wp-content/uploads/2025/01/Screenshot-2025-03-19-at-9.59.53 AM-7.png
END:VEVENT
BEGIN:VEVENT
DTSTART;TZID=America/Chicago:20250829T130000
DTEND;TZID=America/Chicago:20250829T150000
DTSTAMP:20260423T050532
CREATED:20250117T220710Z
LAST-MODIFIED:20250319T150738Z
UID:10000795-1756472400-1756479600@regionalhca.org
SUMMARY:(Spanish) Fall Protection Training
DESCRIPTION:The Fall Protection Class is a one-day\, two-hour course. Upon completing the two-hour course\, each student will receive a “Certificate of Completion” of the OSHA Susan Harwood Training Grant Fall Protection.
URL:https://regionalhca.org/event/fall-protection-training-spanish-36/
LOCATION:Fort Worth Small Business Assistance Center\, 1150 South Fwy\, Suite 116\, Fort Worth\, TX\, 76104\, United States
CATEGORIES:Safety Training
ATTACH;FMTTYPE=image/png:https://regionalhca.org/wp-content/uploads/2025/01/Screenshot-2025-03-19-at-9.59.53 AM-6.png
END:VEVENT
END:VCALENDAR