BEGIN:VCALENDAR
VERSION:2.0
PRODID:-//Regional Hispanic Contractors Association - ECPv6.15.20//NONSGML v1.0//EN
CALSCALE:GREGORIAN
METHOD:PUBLISH
X-WR-CALNAME:Regional Hispanic Contractors Association
X-ORIGINAL-URL:https://regionalhca.org
X-WR-CALDESC:Events for Regional Hispanic Contractors Association
REFRESH-INTERVAL;VALUE=DURATION:PT1H
X-Robots-Tag:noindex
X-PUBLISHED-TTL:PT1H
BEGIN:VTIMEZONE
TZID:America/Chicago
BEGIN:DAYLIGHT
TZOFFSETFROM:-0600
TZOFFSETTO:-0500
TZNAME:CDT
DTSTART:20240310T080000
END:DAYLIGHT
BEGIN:STANDARD
TZOFFSETFROM:-0500
TZOFFSETTO:-0600
TZNAME:CST
DTSTART:20241103T070000
END:STANDARD
BEGIN:DAYLIGHT
TZOFFSETFROM:-0600
TZOFFSETTO:-0500
TZNAME:CDT
DTSTART:20250309T080000
END:DAYLIGHT
BEGIN:STANDARD
TZOFFSETFROM:-0500
TZOFFSETTO:-0600
TZNAME:CST
DTSTART:20251102T070000
END:STANDARD
BEGIN:DAYLIGHT
TZOFFSETFROM:-0600
TZOFFSETTO:-0500
TZNAME:CDT
DTSTART:20260308T080000
END:DAYLIGHT
BEGIN:STANDARD
TZOFFSETFROM:-0500
TZOFFSETTO:-0600
TZNAME:CST
DTSTART:20261101T070000
END:STANDARD
END:VTIMEZONE
BEGIN:VEVENT
DTSTART;TZID=America/Chicago:20250903T090000
DTEND;TZID=America/Chicago:20250903T100000
DTSTAMP:20260421T151209
CREATED:20250108T173417Z
LAST-MODIFIED:20251007T142922Z
UID:10000701-1756890000-1756893600@regionalhca.org
SUMMARY:RHCA Safety Council Committee Meetings 2025
DESCRIPTION:RHCA Safety Council is an advisory body formed to provide the RHCA\, Health and Safety field input and perspective in the development and maintenance of construction safety program guidance and in the review and resolution of construction safety issues. The Safety Council also serves as a topical committee to provide advice and support on safety-related construction issues. It serves as a subject matter expert panel to advise the RHCA in construction safety and health matters. \nThe RHCA Safety Council Functions: \n\nResource for training instructors\n\n\nTraining topics and speakers\n\n\nAssists with RHCA Safety events (Safety Stand-Down\, DIA and Safe + Sound)\n\n\nAssists with the development of grants and training\n\nRHCA Safety Council Meetings \nThe first Wednesday of the Month from 9:00 am to 10:00 am. CST\nMeetings are open to members in good standing; registration is required. \nInterested in presenting a project opportunity or topic? Please get in touch with Cesar Barajas (Cesar@regionalhca.org) or Julio Florez (julio@regionalhca.org)
URL:https://regionalhca.org/event/https-regionalhca-org-safety-council/2025-09-03/
LOCATION:RHCA Headquarters & Training Center\, 2210 W. Illinois Avenue\, Dallas\, TX\, 75224\, United States
ATTACH;FMTTYPE=image/jpeg:https://regionalhca.org/wp-content/uploads/2023/12/Screen-Shot-2023-04-28-at-11.31.541111.jpg
ORGANIZER;CN="Julio Florez":MAILTO:julio@regionalhca.org
END:VEVENT
BEGIN:VEVENT
DTSTART;TZID=America/Chicago:20250910T083000
DTEND;TZID=America/Chicago:20250910T100000
DTSTAMP:20260421T151209
CREATED:20250109T225840Z
LAST-MODIFIED:20250109T225840Z
UID:10000720-1757493000-1757498400@regionalhca.org
SUMMARY:AEC Roundtable Committee Meeting 09 10 2025
DESCRIPTION:Architecture\, Engineering and Construction – AEC The RHCA Architecture\, Engineering\, and Construction Committee (AEC). The Committee supports the RHCA mission to increase architecture\, engineering and contractor business capacity\, efficiency\, and profitability through civil\, heavy highway and infrastructure project opportunities. The Committee develops programming and relationships with major general contractors\, owners and developers to use RHCA members and small\, minority\, and women-owned contractors; and to help members to contract with each other. \nAEC Roundtable Committee Meetings \nThe second Wednesday of the month from 8:30 am to 10:00 am.\nMeetings are open to members in good standing; registration is required. \nInterested in presenting a project opportunity or topic please contact Julio Florez (julio@regionalhca.org)
URL:https://regionalhca.org/event/aec-roundtable-committee-meeting-09-10-2025/
LOCATION:Virtual
ATTACH;FMTTYPE=image/png:https://regionalhca.org/wp-content/uploads/2023/12/image.png
ORGANIZER;CN="Julio Florez":MAILTO:julio@regionalhca.org
END:VEVENT
BEGIN:VEVENT
DTSTART;TZID=America/Chicago:20250912T080000
DTEND;TZID=America/Chicago:20250912T100000
DTSTAMP:20260421T151209
CREATED:20250117T221201Z
LAST-MODIFIED:20250909T170908Z
UID:10000796-1757664000-1757671200@regionalhca.org
SUMMARY:(English) Fall Protection Training
DESCRIPTION:The Fall Protection Class is a one-day\, two-hour course. Upon completing the two-hour course\, each student will receive a “Certificate of Completion” of the OSHA Susan Harwood Training Grant Fall Protection.
URL:https://regionalhca.org/event/fall-protection-training-english-39/
LOCATION:West Dallas Multipurpose Center\, 2828 Fish Trap Rd\, Dallas\, 75212\, United States
CATEGORIES:Safety Training
ATTACH;FMTTYPE=image/png:https://regionalhca.org/wp-content/uploads/2025/01/Screenshot-2025-03-19-at-9.59.53 AM-5.png
END:VEVENT
BEGIN:VEVENT
DTSTART;TZID=America/Chicago:20250912T080000
DTEND;TZID=America/Chicago:20250912T100000
DTSTAMP:20260421T151209
CREATED:20250117T222046Z
LAST-MODIFIED:20250826T171909Z
UID:10000798-1757664000-1757671200@regionalhca.org
SUMMARY:(Spanish) Fall Protection Training
DESCRIPTION:The Fall Protection Class is a one-day\, two-hour course. Upon completing the two-hour course\, each student will receive a “Certificate of Completion” of the OSHA Susan Harwood Training Grant Fall Protection.
URL:https://regionalhca.org/event/fall-protection-training-english-40/
LOCATION:RHCA Houston Office\, 7047 Harrisburg Blvd\, 2nd Floor\, Houston\, TX\, 77011
CATEGORIES:Safety Training
ATTACH;FMTTYPE=image/png:https://regionalhca.org/wp-content/uploads/2025/01/Screenshot-2025-03-19-at-9.59.53 AM-3.png
END:VEVENT
BEGIN:VEVENT
DTSTART;TZID=America/Chicago:20250912T130000
DTEND;TZID=America/Chicago:20250912T150000
DTSTAMP:20260421T151209
CREATED:20250117T221455Z
LAST-MODIFIED:20250909T170934Z
UID:10000797-1757682000-1757689200@regionalhca.org
SUMMARY:(Spanish) Fall Protection Training
DESCRIPTION:The Fall Protection Class is a one-day\, two-hour course. Upon completing the two-hour course\, each student will receive a “Certificate of Completion” of the OSHA Susan Harwood Training Grant Fall Protection.
URL:https://regionalhca.org/event/fall-protection-training-spanish-37/
LOCATION:West Dallas Multipurpose Center\, 2828 Fish Trap Rd\, Dallas\, 75212\, United States
CATEGORIES:Safety Training
ATTACH;FMTTYPE=image/png:https://regionalhca.org/wp-content/uploads/2025/01/Screenshot-2025-03-19-at-9.59.53 AM-4.png
END:VEVENT
BEGIN:VEVENT
DTSTART;TZID=America/Chicago:20250912T130000
DTEND;TZID=America/Chicago:20250912T150000
DTSTAMP:20260421T151209
CREATED:20250117T223240Z
LAST-MODIFIED:20250826T172008Z
UID:10000799-1757682000-1757689200@regionalhca.org
SUMMARY:(English) Fall Protection Training
DESCRIPTION:The Fall Protection Class is a one-day\, two-hour course. Upon completing the two-hour course\, each student will receive a “Certificate of Completion” of the OSHA Susan Harwood Training Grant Fall Protection.
URL:https://regionalhca.org/event/fall-protection-training-spanish-38/
LOCATION:RHCA Houston Office\, 7047 Harrisburg Blvd\, 2nd Floor\, Houston\, TX\, 77011
CATEGORIES:Safety Training
ATTACH;FMTTYPE=image/png:https://regionalhca.org/wp-content/uploads/2025/01/Screenshot-2025-03-19-at-9.59.53 AM-2.png
END:VEVENT
BEGIN:VEVENT
DTSTART;TZID=America/Chicago:20250916T083000
DTEND;TZID=America/Chicago:20250916T100000
DTSTAMP:20260421T151209
CREATED:20250110T143116Z
LAST-MODIFIED:20250110T143116Z
UID:10000731-1758011400-1758016800@regionalhca.org
SUMMARY:Economic and Business Development Committee Meeting 09 16 2025
DESCRIPTION:  \nThe RHCA Economic and Business Development Committee is a standing committee. The Committee supports the RHCA mission to increase contractor business capacity\, efficiency\, and profitability through project opportunities and building relationships with key industry contacts. \nThe Committee develops programming and relationships with major general contractors\, owners and developers to use RHCA members and small\, minority\, and women-owned contractors; and to help members to contract with each other. \nEconomic and Business Development Committee Meetings are held on The third Tuesday of the Month from 8:30 am to 10:00 am. CST.\nMeetings are open to members in good standing; registration is required. \nInterested in presenting a project opportunity or topic please get in touch with Julio Florez (julio@regionalhca.org)
URL:https://regionalhca.org/event/economic-and-business-development-committee-meeting-09-16-2025/
LOCATION:Virtual
ATTACH;FMTTYPE=image/jpeg:https://regionalhca.org/wp-content/uploads/2023/12/Screenshot-2023-12-01-at-10.09.041111-1-scaled.jpg
ORGANIZER;CN="Julio Florez":MAILTO:julio@regionalhca.org
END:VEVENT
BEGIN:VEVENT
DTSTART;TZID=America/Chicago:20250919T113000
DTEND;TZID=America/Chicago:20250919T133000
DTSTAMP:20260421T151209
CREATED:20250225T001000Z
LAST-MODIFIED:20250318T133527Z
UID:10000814-1758281400-1758288600@regionalhca.org
SUMMARY:LUNA EL PASO
DESCRIPTION:The Luna Awards celebrates the achievements of women\, women-owned businesses and advocates who promote and develop women at all levels in Architecture\, Engineering and Construction. \nThe award celebrates diversity and inclusivity\, welcoming nominees regardless of RHCA membership or Hispanic background. \n \n#LUNAAWARDS      #STATEWIDE      #LUNAELPASO
URL:https://regionalhca.org/event/luna-el-paso/
LOCATION:The Plaza Hotel Pioneer Park (Trost Ballroom & Mezzanine)\, 106 W Mills Ave.\, El Paso\, TX\, 79901\, United States
ATTACH;FMTTYPE=image/png:https://regionalhca.org/wp-content/uploads/2025/03/El-P-Calendar.png
END:VEVENT
BEGIN:VEVENT
DTSTART;TZID=America/Chicago:20250923T080000
DTEND;TZID=America/Chicago:20250923T170000
DTSTAMP:20260421T151209
CREATED:20250910T153703Z
LAST-MODIFIED:20250910T153703Z
UID:10000966-1758614400-1758646800@regionalhca.org
SUMMARY:DART 12th Annual Small Business Academy
DESCRIPTION:DART’S 12TH ANNUAL SMALL BUSINESS ACADEMY \nRegister Here \nTuesday\, September 23\, 2025 \nDallas College Bill J. Priest institute \n1402 Corinth St. Dallas\, TX 75215 \n8 am – 9 am – Check-in and breakfast \n9 am – 5 pm – Small Business Academy \nConnect with prime contractors\, learn their subcontractor criteria\, and grow your business. \nDART PROCUREMENT OVERVIEW AND ENGAGEMENT As a significant consumer of goods and services\, DART provides numerous contracting opportunities. Discover how to make your bid or proposal stand out and successfully compete. \nPROMOTE & ESTABLISH YOUR BUSINESS IDENTITY Marketing and branding help small businesses to gain recognition\, attract customers\, and grow. We’ll show you how to succeed in these areas. \nTHE PATH TO BUSINESS ASSISTANCE Gain knowledge from small business support experts on the certification process\, educational and assistance programs\, the importance of credit\, and available funding sources. \nQUESTIONS? \nCONTACT: Cibia Jones\, CJones2@DART.org | Justin Chatman\, JChatman@DART.org \n 
URL:https://regionalhca.org/event/dart-12th-annual-small-business-academy/
LOCATION:Dallas College Bill J. Priest Institute\, 1402 Corinth St.\, Dallas\, TX 75215\, 1402 Corinth St.\, Dallas\, 75215\, United States
ATTACH;FMTTYPE=image/png:https://regionalhca.org/wp-content/uploads/2025/09/Screenshot-2025-09-10-at-10.03.18-a.m.png
END:VEVENT
BEGIN:VEVENT
DTSTART;TZID=America/Chicago:20250924T090000
DTEND;TZID=America/Chicago:20250924T133000
DTSTAMP:20260421T151209
CREATED:20250919T161631Z
LAST-MODIFIED:20250919T161631Z
UID:10000969-1758704400-1758720600@regionalhca.org
SUMMARY:EGBI Winning Contracts with Government and Primes
DESCRIPTION:EGBI Winning Contracts with Government and Primes:\nWhen: September 24\, 2025\n    9:00 AM – 1:30 PM\nWhere: Dwell Coworking Muller\, 1106 Clayton Lane #5th Floor\, Austin\, TX 78723 United States\nRSVP: https://www.eventbrite.com/e/winning-contracts-with-government-and-primes-tickets-1543265912889?aff=oddtdtcreator
URL:https://regionalhca.org/event/egbi-winning-contracts-with-government-and-primes/
LOCATION:Dwell Coworking Muller\, 1106 Clayton Lane\, 5th Floor\, Austin\, 78723\, United States
ATTACH;FMTTYPE=image/png:https://regionalhca.org/wp-content/uploads/2025/09/Screenshot-2025-09-19-at-11.07.44-AM.png
END:VEVENT
BEGIN:VEVENT
DTSTART;TZID=America/Chicago:20250925T113000
DTEND;TZID=America/Chicago:20250925T130000
DTSTAMP:20260421T151209
CREATED:20250905T171852Z
LAST-MODIFIED:20250905T173534Z
UID:10000961-1758799800-1758805200@regionalhca.org
SUMMARY:RHCA Ambassador Committee Meeting
DESCRIPTION:
URL:https://regionalhca.org/event/rhca-ambassador-committee-meeting-3/
LOCATION:RHCA Women Center\, 3918 N. Hampton Rd.\, Dallas\, Texas\, 75212
ATTACH;FMTTYPE=image/png:https://regionalhca.org/wp-content/uploads/2025/09/Screenshot-2025-09-03-at-2.38.00-PM-1.png
ORGANIZER;CN="Yolanda Coleman":MAILTO:coleman@regionalhca.org
END:VEVENT
BEGIN:VEVENT
DTSTART;TZID=America/Chicago:20250927T190000
DTEND;TZID=America/Chicago:20250927T210000
DTSTAMP:20260421T151209
CREATED:20250919T162449Z
LAST-MODIFIED:20250919T162449Z
UID:10000970-1758999600-1759006800@regionalhca.org
SUMMARY:GAHCC Celebrando Austin 2025
DESCRIPTION:When:  September 27\, 2025\nWhere: JW Marriott Hotel\, 110 E 2nd St.\, Austin\, TX 78701\n    7:00 PM – 9:00 PM\nRSVP: https://app.betterunite.com/celebrando-2025celebrandoaustinhavananights-thegoldenera
URL:https://regionalhca.org/event/gahcc-celebrando-austin-2025/
LOCATION:JW Marriott Hotel\, 110 E 2nd Street\, Austin\, 78701\, United States
ATTACH;FMTTYPE=image/png:https://regionalhca.org/wp-content/uploads/2025/09/Screenshot-2025-09-19-at-11.22.22-AM.png
END:VEVENT
BEGIN:VEVENT
DTSTART;TZID=America/Chicago:20250929T073000
DTEND;TZID=America/Chicago:20250929T100000
DTSTAMP:20260421T151209
CREATED:20250924T164612Z
LAST-MODIFIED:20250924T171630Z
UID:10000971-1759131000-1759140000@regionalhca.org
SUMMARY:OSHA Fall Protection Training Class - English | Austin\, Tx
DESCRIPTION:When \nMonday\, September 29\, 2025 \n8:00 AM to 10:00 AM CDT \nWhere \nEconomic Business Growth Incubator \n1144 Airport Blvd #260\, Austin\, TX 78702 \nTime / Horario \nRegistration: 7:30 AM \nClass: 8:00 AM a 10:00 AM
URL:https://regionalhca.org/event/osha-fall-protection-training-class-english-austin-tx/
LOCATION:Economic Business Growth Incubator\, 1144 Airport Blvd #260\, Austin\, 78702\, United States
CATEGORIES:Safety Training
ATTACH;FMTTYPE=image/png:https://regionalhca.org/wp-content/uploads/2025/09/Screenshot-2025-09-24-at-11.45.03-AM.png
END:VEVENT
END:VCALENDAR