BEGIN:VCALENDAR
VERSION:2.0
PRODID:-//Regional Hispanic Contractors Association - ECPv6.15.20//NONSGML v1.0//EN
CALSCALE:GREGORIAN
METHOD:PUBLISH
X-ORIGINAL-URL:https://regionalhca.org
X-WR-CALDESC:Events for Regional Hispanic Contractors Association
REFRESH-INTERVAL;VALUE=DURATION:PT1H
X-Robots-Tag:noindex
X-PUBLISHED-TTL:PT1H
BEGIN:VTIMEZONE
TZID:America/Chicago
BEGIN:DAYLIGHT
TZOFFSETFROM:-0600
TZOFFSETTO:-0500
TZNAME:CDT
DTSTART:20240310T080000
END:DAYLIGHT
BEGIN:STANDARD
TZOFFSETFROM:-0500
TZOFFSETTO:-0600
TZNAME:CST
DTSTART:20241103T070000
END:STANDARD
BEGIN:DAYLIGHT
TZOFFSETFROM:-0600
TZOFFSETTO:-0500
TZNAME:CDT
DTSTART:20250309T080000
END:DAYLIGHT
BEGIN:STANDARD
TZOFFSETFROM:-0500
TZOFFSETTO:-0600
TZNAME:CST
DTSTART:20251102T070000
END:STANDARD
BEGIN:DAYLIGHT
TZOFFSETFROM:-0600
TZOFFSETTO:-0500
TZNAME:CDT
DTSTART:20260308T080000
END:DAYLIGHT
BEGIN:STANDARD
TZOFFSETFROM:-0500
TZOFFSETTO:-0600
TZNAME:CST
DTSTART:20261101T070000
END:STANDARD
END:VTIMEZONE
BEGIN:VEVENT
DTSTART;TZID=America/Chicago:20251009T090000
DTEND;TZID=America/Chicago:20251009T160000
DTSTAMP:20260421T124331
CREATED:20250930T185842Z
LAST-MODIFIED:20250930T191505Z
UID:10000975-1760000400-1760025600@regionalhca.org
SUMMARY:Cash Flow Like a Pro: QuickBooks for Business Success
DESCRIPTION:Register Here\nThursday\, October 9\, 2025 \n9:00 a – 4:00 pm \nJoin us IN PERSON as we explore the multifaceted aspects of financial management and unlock a wealth of invaluable knowledge essential for business prosperity! \nThis comprehensive\, day-long workshop is designed to emphasize the critical importance of effective financial management in achieving sustainable business success. Throughout the workshop\, participants will gain invaluable insights into the intricate workings of financial management\, equipping them with the knowledge and skills necessary to navigate and optimize their business’s financial landscape. \n 
URL:https://regionalhca.org/event/cash-flow-like-a-pro-quickbooks-for-business-success-2/
LOCATION:7047 Harrisburg Blvd.\, Houston\, TX 77011
ATTACH;FMTTYPE=image/png:https://regionalhca.org/wp-content/uploads/2025/09/Screenshot-2025-09-30-at-1.58.11-p.m.png
END:VEVENT
BEGIN:VEVENT
DTSTART;TZID=America/Chicago:20251009T113000
DTEND;TZID=America/Chicago:20251009T133000
DTSTAMP:20260421T124331
CREATED:20250225T001158Z
LAST-MODIFIED:20251002T133513Z
UID:10000815-1760009400-1760016600@regionalhca.org
SUMMARY:LUNA Houston
DESCRIPTION:The Luna Awards celebrates the achievements of women\, women-owned businesses and advocates who promote and develop women at all levels in Architecture\, Engineering and Construction. \nThe award celebrates diversity and inclusivity\, welcoming nominees regardless of RHCA membership or Hispanic background. \n \n#LUNAAWARDS      #STATEWIDE      #LUNAHOUSTON
URL:https://regionalhca.org/event/33094/
LOCATION:JW Marriott Houston by the Galleria (Grand Ballroom)\, 5150 Westheimer Road\, Houston\, TX\, 77056\, United States
ATTACH;FMTTYPE=image/png:https://regionalhca.org/wp-content/uploads/2025/02/Houston-Luna-2025-e1759373200551.png
END:VEVENT
BEGIN:VEVENT
DTSTART;TZID=America/Chicago:20251013T110000
DTEND;TZID=America/Chicago:20251013T133000
DTSTAMP:20260421T124331
CREATED:20250930T185052Z
LAST-MODIFIED:20250930T203228Z
UID:10000972-1760353200-1760362200@regionalhca.org
SUMMARY:RHCA Building Blocks of Success
DESCRIPTION:  \nThe RHCA Houston office invites you to join the Building Contractor Success seminars. \nMonday\, \nOctober 13\, 2025 \n11:00 am – 1:30 pm \nRegister Here \n  \nSpeakers \nJha Allen\, Endless 8 Marketing\, How to bid with AI \nVeronica Douglas\, Small Business Development Program\, \nHouston City College\, How to do Business with the New HCC \nMichelle Ngome\, Goldman Sachs 10\,000 Small Businesses \nChivon Jones\, Subcontractor USA | A+ Factoring \nAdvertising/Marketing \nPedro Garcia\, Outreach Manager\, Port of Houston \nHow to do Business with the Port of Houston \n  \nContact: Delfina Flores \ndelfina@regionalhca.org \n(713) 545-2442
URL:https://regionalhca.org/event/rhca-building-blocks-of-success/
LOCATION:Statwide: Austin | Dallas | El Paso | Houston | Rio Grande Valley | Laredo | Sherman | Tyler\, TX\, United States
ATTACH;FMTTYPE=image/png:https://regionalhca.org/wp-content/uploads/2025/09/Screenshot-2025-09-30-at-1.48.28-p.m.png
END:VEVENT
BEGIN:VEVENT
DTSTART;TZID=America/Chicago:20251015T080000
DTEND;TZID=America/Chicago:20251015T180000
DTSTAMP:20260421T124331
CREATED:20251001T203808Z
LAST-MODIFIED:20251001T205312Z
UID:10000981-1760515200-1760551200@regionalhca.org
SUMMARY:Subcontractors USA - E.C.O. Summit & Expo | Meet the Primes
DESCRIPTION:E.C.O. Summit & Expo \nEvent Date: Wednesday\, October 15\, 2025 \nEvent Time: 8:00 AM – 6:00 PM (CST) \nLocation: Bayou CIty Event Center | 9401 Knight Rd\, Houston\, TX 77045 \nRegister Here \nSchedule of Events: \n\nRegistration  7:30 AM – 8:00 AM\nMain Stage Opening  8:00 AM – 8:50 AM\nExhibitor Breakout Sessions\, Workshops & Prime Panel  9:00 AM – 12:00 PM\nLunch/Networking  12:00 PM – 12:25 PM\nExhibitor Breakout Sessions\, Workshops & Prime Panel  12:25 PM – 2:55 PM\nSpecial Forum  3:00 PM – 4:00 PM\nNetworking/Happy Hour  4:00 PM – 6:00 PM\n\nWorkshop Topics Include: \n\nHow to Do Business with Agencies (METRO\, TXDOT\, PORT HOUSTON\, ETC.)\nHUB Certification Processes\nAccess to Capital\n\n \n \nFOR MORE INFORMATION ABOUT THIS EVENT\, CONTACT operations@subcusa.com
URL:https://regionalhca.org/event/subcontractors-usa-e-c-o-summit-expo-meet-the-primes/
LOCATION:Bayou CIty Event Center | 9401 Knight Rd\, Houston\, TX 77045\, 9401 Knight Rd\, Houston\, 77045\, United States
ATTACH;FMTTYPE=image/png:https://regionalhca.org/wp-content/uploads/2025/10/Screenshot-2025-10-01-at-3.52.12-p.m.png
END:VEVENT
BEGIN:VEVENT
DTSTART;TZID=America/Chicago:20251022T100000
DTEND;TZID=America/Chicago:20251022T160000
DTSTAMP:20260421T124331
CREATED:20250930T185637Z
LAST-MODIFIED:20250930T203323Z
UID:10000974-1761127200-1761148800@regionalhca.org
SUMMARY:The HUB Blueprint: Contracting & HUB Certification Essentials
DESCRIPTION:The HUB Blueprint: Contracting & HUB Certification Essentials\n\n\nJoin us as we dive-deep into Contracting! We will discuss Procurement and how to become HUB certified for the State of Texas HUB Program! \n\n\n\n\n\n\n\n\n\nDate and time\n\n\n\n  \n\nWednesday\, October 22 · 10am – 4pm CDT\n\nRegister Here\n\n\n\n\n\n\n\n\n\n\n\n\n\n\nLocation\n\n\n  \n\n7047 Harrisburg Blvd \n7047 Harrisburg Boulevard Houston\, TX 77011 United States
URL:https://regionalhca.org/event/the-hub-blueprint-contracting-hub-certification-essentials/
LOCATION:7047 Harrisburg Boulevard  Houston\, TX 77011 United States\, 7047 Harrisburg Boulevard\, Houston\, 77011\, United States
ATTACH;FMTTYPE=image/png:https://regionalhca.org/wp-content/uploads/2025/09/Screenshot-2025-09-30-at-1.55.08-p.m.png
END:VEVENT
END:VCALENDAR