BEGIN:VCALENDAR
VERSION:2.0
PRODID:-//Regional Hispanic Contractors Association - ECPv6.15.20//NONSGML v1.0//EN
CALSCALE:GREGORIAN
METHOD:PUBLISH
X-WR-CALNAME:Regional Hispanic Contractors Association
X-ORIGINAL-URL:https://regionalhca.org
X-WR-CALDESC:Events for Regional Hispanic Contractors Association
REFRESH-INTERVAL;VALUE=DURATION:PT1H
X-Robots-Tag:noindex
X-PUBLISHED-TTL:PT1H
BEGIN:VTIMEZONE
TZID:America/Chicago
BEGIN:DAYLIGHT
TZOFFSETFROM:-0600
TZOFFSETTO:-0500
TZNAME:CDT
DTSTART:20250309T080000
END:DAYLIGHT
BEGIN:STANDARD
TZOFFSETFROM:-0500
TZOFFSETTO:-0600
TZNAME:CST
DTSTART:20251102T070000
END:STANDARD
BEGIN:DAYLIGHT
TZOFFSETFROM:-0600
TZOFFSETTO:-0500
TZNAME:CDT
DTSTART:20260308T080000
END:DAYLIGHT
BEGIN:STANDARD
TZOFFSETFROM:-0500
TZOFFSETTO:-0600
TZNAME:CST
DTSTART:20261101T070000
END:STANDARD
BEGIN:DAYLIGHT
TZOFFSETFROM:-0600
TZOFFSETTO:-0500
TZNAME:CDT
DTSTART:20270314T080000
END:DAYLIGHT
BEGIN:STANDARD
TZOFFSETFROM:-0500
TZOFFSETTO:-0600
TZNAME:CST
DTSTART:20271107T070000
END:STANDARD
BEGIN:DAYLIGHT
TZOFFSETFROM:-0600
TZOFFSETTO:-0500
TZNAME:CDT
DTSTART:20280312T080000
END:DAYLIGHT
BEGIN:STANDARD
TZOFFSETFROM:-0500
TZOFFSETTO:-0600
TZNAME:CST
DTSTART:20281105T070000
END:STANDARD
END:VTIMEZONE
BEGIN:VEVENT
DTSTART;TZID=America/Chicago:20260908T080000
DTEND;TZID=America/Chicago:20260908T133000
DTSTAMP:20260421T181015
CREATED:20260128T225848Z
LAST-MODIFIED:20260128T225848Z
UID:10001112-1788854400-1788874200@regionalhca.org
SUMMARY:Building Blocks of Business Success
DESCRIPTION:The Building Blocks of Business Success seminars are tailored for small business owners and are designed to equip them with essential tools and strategies for growth and success in the market. \nMonthly workshops. \nTuesday\, February 10\, 2026\, 11:00 am – 1:30 pm \nRHCA Houston HQ & Training Center\, 7047 Harrisburg Blvd\, Houston\, TX 77011  \nSpeakers \n\nHouston City College – Veronica Douglas\nGoldman Sachs 10\,000 Small Business – Melissa Ngome\nSubcontractors USA – Chivon Jones\nSouthEast Fabricators and Erector’s LLC – Claudia Baca-Ruiz\nCity of Houston – Alejandro Guajardo MBA\n\nRegister Here \n 
URL:https://regionalhca.org/event/building-blocks-of-business-success/2026-09-08/
LOCATION:7047 Harrisburg Blvd\, Houston\, TX 77011\, 7047 Harrisburg Blvd\, Houston\, 77011\, United States
CATEGORIES:Small Business Training
ATTACH;FMTTYPE=image/png:https://regionalhca.org/wp-content/uploads/2026/01/Screenshot-2026-01-28-at-4.55.57-p.m.png
END:VEVENT
BEGIN:VEVENT
DTSTART;TZID=America/Chicago:20260910T090000
DTEND;TZID=America/Chicago:20260910T160000
DTSTAMP:20260421T181015
CREATED:20260316T223048Z
LAST-MODIFIED:20260316T223048Z
UID:10002495-1789030800-1789056000@regionalhca.org
SUMMARY:Cash Flow Like a Pro: QuickBooks for Business Success (Houston)
DESCRIPTION:Cash Flow Like a Pro: QuickBooks for Business Success (Houston) \nRegister Here \nThursday\, May 14 from 9 am to 4 pm \n7047 Harrisburg Blvd. Houston\, TX \n\n\n\n\nJoin us IN PERSON as we explore the multifaceted aspects of financial management and unlock a wealth of invaluable knowledge essential for business prosperity! \nThis comprehensive\, day-long workshop is designed to emphasize the critical importance of effective financial management in achieving sustainable business success. Throughout the workshop\, participants will gain invaluable insights into the intricate workings of financial management\, equipping them with the knowledge and skills necessary to navigate and optimize their business’s financial landscape. \n**LIGHT SNACKS AND LUNCH WILL BE PROVIDED** \nHere’s what we will cover: \nWhat is Financial Management to Your Business? \nWe will discuss how managing financial management helps your business succeed. Participants will walk away from this session with a keen understanding of the financial cycle and application to their company. \nWhat Accounts are Important to your Business? \nWe will help you set up your company in QuickBooks Online. We will customize the Chart of Accounts to meet the company’s needs and align with GAAP. We will demonstrate how to create and track Accounts Receivables and Accounts Payables in QBO. Participants will walk away knowing how to set up bank feeds\, create new accounts\, invoices\, expenses\, write checks\, and categorize accounts in bank feeds. \nReconciliation of Balance Sheet Accounts \nWe will discuss the importance of reconciling balance sheet accounts monthly and how to resolve any duplications or missing transactions. You will walk away with the knowledge of reconciling statements in QBO and correct any missing or duplicated transactions. \nUnderstanding and Creating Monthly Reports – Profit & Loss\, Balance Sheet\, and Statement of Cash Flow Report \nWe will help you understand how to create the company Profit & Loss (Income Statement)\, Balance Sheet\, and Statement of Cash Flow Report for any given period on an Accrual or Cash Basis. You will walk away with knowledge of understanding the financial position of your company based on the reports. \nThis event is made possible by the Small Business Administration.
URL:https://regionalhca.org/event/cash-flow-like-a-pro-quickbooks-for-business-success-houston-2/2026-09-10/
LOCATION:7047 Harrisburg Blvd\, Houston\, TX 77011\, 7047 Harrisburg Blvd\, Houston\, 77011\, United States
CATEGORIES:Small Business Training
ATTACH;FMTTYPE=image/png:https://regionalhca.org/wp-content/uploads/2026/03/Screenshot-2026-03-16-at-5.27.21-p.m.png
END:VEVENT
BEGIN:VEVENT
DTSTART;TZID=America/Chicago:20261008T090000
DTEND;TZID=America/Chicago:20261008T160000
DTSTAMP:20260421T181015
CREATED:20260316T223048Z
LAST-MODIFIED:20260316T223048Z
UID:10002496-1791450000-1791475200@regionalhca.org
SUMMARY:Cash Flow Like a Pro: QuickBooks for Business Success (Houston)
DESCRIPTION:Cash Flow Like a Pro: QuickBooks for Business Success (Houston) \nRegister Here \nThursday\, May 14 from 9 am to 4 pm \n7047 Harrisburg Blvd. Houston\, TX \n\n\n\n\nJoin us IN PERSON as we explore the multifaceted aspects of financial management and unlock a wealth of invaluable knowledge essential for business prosperity! \nThis comprehensive\, day-long workshop is designed to emphasize the critical importance of effective financial management in achieving sustainable business success. Throughout the workshop\, participants will gain invaluable insights into the intricate workings of financial management\, equipping them with the knowledge and skills necessary to navigate and optimize their business’s financial landscape. \n**LIGHT SNACKS AND LUNCH WILL BE PROVIDED** \nHere’s what we will cover: \nWhat is Financial Management to Your Business? \nWe will discuss how managing financial management helps your business succeed. Participants will walk away from this session with a keen understanding of the financial cycle and application to their company. \nWhat Accounts are Important to your Business? \nWe will help you set up your company in QuickBooks Online. We will customize the Chart of Accounts to meet the company’s needs and align with GAAP. We will demonstrate how to create and track Accounts Receivables and Accounts Payables in QBO. Participants will walk away knowing how to set up bank feeds\, create new accounts\, invoices\, expenses\, write checks\, and categorize accounts in bank feeds. \nReconciliation of Balance Sheet Accounts \nWe will discuss the importance of reconciling balance sheet accounts monthly and how to resolve any duplications or missing transactions. You will walk away with the knowledge of reconciling statements in QBO and correct any missing or duplicated transactions. \nUnderstanding and Creating Monthly Reports – Profit & Loss\, Balance Sheet\, and Statement of Cash Flow Report \nWe will help you understand how to create the company Profit & Loss (Income Statement)\, Balance Sheet\, and Statement of Cash Flow Report for any given period on an Accrual or Cash Basis. You will walk away with knowledge of understanding the financial position of your company based on the reports. \nThis event is made possible by the Small Business Administration.
URL:https://regionalhca.org/event/cash-flow-like-a-pro-quickbooks-for-business-success-houston-2/2026-10-08/
LOCATION:7047 Harrisburg Blvd\, Houston\, TX 77011\, 7047 Harrisburg Blvd\, Houston\, 77011\, United States
CATEGORIES:Small Business Training
ATTACH;FMTTYPE=image/png:https://regionalhca.org/wp-content/uploads/2026/03/Screenshot-2026-03-16-at-5.27.21-p.m.png
END:VEVENT
BEGIN:VEVENT
DTSTART;TZID=America/Chicago:20261013T080000
DTEND;TZID=America/Chicago:20261013T133000
DTSTAMP:20260421T181015
CREATED:20260128T225848Z
LAST-MODIFIED:20260128T225848Z
UID:10001113-1791878400-1791898200@regionalhca.org
SUMMARY:Building Blocks of Business Success
DESCRIPTION:The Building Blocks of Business Success seminars are tailored for small business owners and are designed to equip them with essential tools and strategies for growth and success in the market. \nMonthly workshops. \nTuesday\, February 10\, 2026\, 11:00 am – 1:30 pm \nRHCA Houston HQ & Training Center\, 7047 Harrisburg Blvd\, Houston\, TX 77011  \nSpeakers \n\nHouston City College – Veronica Douglas\nGoldman Sachs 10\,000 Small Business – Melissa Ngome\nSubcontractors USA – Chivon Jones\nSouthEast Fabricators and Erector’s LLC – Claudia Baca-Ruiz\nCity of Houston – Alejandro Guajardo MBA\n\nRegister Here \n 
URL:https://regionalhca.org/event/building-blocks-of-business-success/2026-10-13/
LOCATION:7047 Harrisburg Blvd\, Houston\, TX 77011\, 7047 Harrisburg Blvd\, Houston\, 77011\, United States
CATEGORIES:Small Business Training
ATTACH;FMTTYPE=image/png:https://regionalhca.org/wp-content/uploads/2026/01/Screenshot-2026-01-28-at-4.55.57-p.m.png
END:VEVENT
BEGIN:VEVENT
DTSTART;TZID=America/Chicago:20261110T080000
DTEND;TZID=America/Chicago:20261110T133000
DTSTAMP:20260421T181015
CREATED:20260128T225848Z
LAST-MODIFIED:20260128T225848Z
UID:10001114-1794297600-1794317400@regionalhca.org
SUMMARY:Building Blocks of Business Success
DESCRIPTION:The Building Blocks of Business Success seminars are tailored for small business owners and are designed to equip them with essential tools and strategies for growth and success in the market. \nMonthly workshops. \nTuesday\, February 10\, 2026\, 11:00 am – 1:30 pm \nRHCA Houston HQ & Training Center\, 7047 Harrisburg Blvd\, Houston\, TX 77011  \nSpeakers \n\nHouston City College – Veronica Douglas\nGoldman Sachs 10\,000 Small Business – Melissa Ngome\nSubcontractors USA – Chivon Jones\nSouthEast Fabricators and Erector’s LLC – Claudia Baca-Ruiz\nCity of Houston – Alejandro Guajardo MBA\n\nRegister Here \n 
URL:https://regionalhca.org/event/building-blocks-of-business-success/2026-11-10/
LOCATION:7047 Harrisburg Blvd\, Houston\, TX 77011\, 7047 Harrisburg Blvd\, Houston\, 77011\, United States
CATEGORIES:Small Business Training
ATTACH;FMTTYPE=image/png:https://regionalhca.org/wp-content/uploads/2026/01/Screenshot-2026-01-28-at-4.55.57-p.m.png
END:VEVENT
BEGIN:VEVENT
DTSTART;TZID=America/Chicago:20261112T090000
DTEND;TZID=America/Chicago:20261112T160000
DTSTAMP:20260421T181015
CREATED:20260316T223048Z
LAST-MODIFIED:20260316T223048Z
UID:10002497-1794474000-1794499200@regionalhca.org
SUMMARY:Cash Flow Like a Pro: QuickBooks for Business Success (Houston)
DESCRIPTION:Cash Flow Like a Pro: QuickBooks for Business Success (Houston) \nRegister Here \nThursday\, May 14 from 9 am to 4 pm \n7047 Harrisburg Blvd. Houston\, TX \n\n\n\n\nJoin us IN PERSON as we explore the multifaceted aspects of financial management and unlock a wealth of invaluable knowledge essential for business prosperity! \nThis comprehensive\, day-long workshop is designed to emphasize the critical importance of effective financial management in achieving sustainable business success. Throughout the workshop\, participants will gain invaluable insights into the intricate workings of financial management\, equipping them with the knowledge and skills necessary to navigate and optimize their business’s financial landscape. \n**LIGHT SNACKS AND LUNCH WILL BE PROVIDED** \nHere’s what we will cover: \nWhat is Financial Management to Your Business? \nWe will discuss how managing financial management helps your business succeed. Participants will walk away from this session with a keen understanding of the financial cycle and application to their company. \nWhat Accounts are Important to your Business? \nWe will help you set up your company in QuickBooks Online. We will customize the Chart of Accounts to meet the company’s needs and align with GAAP. We will demonstrate how to create and track Accounts Receivables and Accounts Payables in QBO. Participants will walk away knowing how to set up bank feeds\, create new accounts\, invoices\, expenses\, write checks\, and categorize accounts in bank feeds. \nReconciliation of Balance Sheet Accounts \nWe will discuss the importance of reconciling balance sheet accounts monthly and how to resolve any duplications or missing transactions. You will walk away with the knowledge of reconciling statements in QBO and correct any missing or duplicated transactions. \nUnderstanding and Creating Monthly Reports – Profit & Loss\, Balance Sheet\, and Statement of Cash Flow Report \nWe will help you understand how to create the company Profit & Loss (Income Statement)\, Balance Sheet\, and Statement of Cash Flow Report for any given period on an Accrual or Cash Basis. You will walk away with knowledge of understanding the financial position of your company based on the reports. \nThis event is made possible by the Small Business Administration.
URL:https://regionalhca.org/event/cash-flow-like-a-pro-quickbooks-for-business-success-houston-2/2026-11-12/
LOCATION:7047 Harrisburg Blvd\, Houston\, TX 77011\, 7047 Harrisburg Blvd\, Houston\, 77011\, United States
CATEGORIES:Small Business Training
ATTACH;FMTTYPE=image/png:https://regionalhca.org/wp-content/uploads/2026/03/Screenshot-2026-03-16-at-5.27.21-p.m.png
END:VEVENT
BEGIN:VEVENT
DTSTART;TZID=America/Chicago:20261208T080000
DTEND;TZID=America/Chicago:20261208T133000
DTSTAMP:20260421T181015
CREATED:20260128T225848Z
LAST-MODIFIED:20260128T225848Z
UID:10001115-1796716800-1796736600@regionalhca.org
SUMMARY:Building Blocks of Business Success
DESCRIPTION:The Building Blocks of Business Success seminars are tailored for small business owners and are designed to equip them with essential tools and strategies for growth and success in the market. \nMonthly workshops. \nTuesday\, February 10\, 2026\, 11:00 am – 1:30 pm \nRHCA Houston HQ & Training Center\, 7047 Harrisburg Blvd\, Houston\, TX 77011  \nSpeakers \n\nHouston City College – Veronica Douglas\nGoldman Sachs 10\,000 Small Business – Melissa Ngome\nSubcontractors USA – Chivon Jones\nSouthEast Fabricators and Erector’s LLC – Claudia Baca-Ruiz\nCity of Houston – Alejandro Guajardo MBA\n\nRegister Here \n 
URL:https://regionalhca.org/event/building-blocks-of-business-success/2026-12-08/
LOCATION:7047 Harrisburg Blvd\, Houston\, TX 77011\, 7047 Harrisburg Blvd\, Houston\, 77011\, United States
CATEGORIES:Small Business Training
ATTACH;FMTTYPE=image/png:https://regionalhca.org/wp-content/uploads/2026/01/Screenshot-2026-01-28-at-4.55.57-p.m.png
END:VEVENT
BEGIN:VEVENT
DTSTART;TZID=America/Chicago:20261210T090000
DTEND;TZID=America/Chicago:20261210T160000
DTSTAMP:20260421T181015
CREATED:20260316T223048Z
LAST-MODIFIED:20260316T223048Z
UID:10002498-1796893200-1796918400@regionalhca.org
SUMMARY:Cash Flow Like a Pro: QuickBooks for Business Success (Houston)
DESCRIPTION:Cash Flow Like a Pro: QuickBooks for Business Success (Houston) \nRegister Here \nThursday\, May 14 from 9 am to 4 pm \n7047 Harrisburg Blvd. Houston\, TX \n\n\n\n\nJoin us IN PERSON as we explore the multifaceted aspects of financial management and unlock a wealth of invaluable knowledge essential for business prosperity! \nThis comprehensive\, day-long workshop is designed to emphasize the critical importance of effective financial management in achieving sustainable business success. Throughout the workshop\, participants will gain invaluable insights into the intricate workings of financial management\, equipping them with the knowledge and skills necessary to navigate and optimize their business’s financial landscape. \n**LIGHT SNACKS AND LUNCH WILL BE PROVIDED** \nHere’s what we will cover: \nWhat is Financial Management to Your Business? \nWe will discuss how managing financial management helps your business succeed. Participants will walk away from this session with a keen understanding of the financial cycle and application to their company. \nWhat Accounts are Important to your Business? \nWe will help you set up your company in QuickBooks Online. We will customize the Chart of Accounts to meet the company’s needs and align with GAAP. We will demonstrate how to create and track Accounts Receivables and Accounts Payables in QBO. Participants will walk away knowing how to set up bank feeds\, create new accounts\, invoices\, expenses\, write checks\, and categorize accounts in bank feeds. \nReconciliation of Balance Sheet Accounts \nWe will discuss the importance of reconciling balance sheet accounts monthly and how to resolve any duplications or missing transactions. You will walk away with the knowledge of reconciling statements in QBO and correct any missing or duplicated transactions. \nUnderstanding and Creating Monthly Reports – Profit & Loss\, Balance Sheet\, and Statement of Cash Flow Report \nWe will help you understand how to create the company Profit & Loss (Income Statement)\, Balance Sheet\, and Statement of Cash Flow Report for any given period on an Accrual or Cash Basis. You will walk away with knowledge of understanding the financial position of your company based on the reports. \nThis event is made possible by the Small Business Administration.
URL:https://regionalhca.org/event/cash-flow-like-a-pro-quickbooks-for-business-success-houston-2/2026-12-10/
LOCATION:7047 Harrisburg Blvd\, Houston\, TX 77011\, 7047 Harrisburg Blvd\, Houston\, 77011\, United States
CATEGORIES:Small Business Training
ATTACH;FMTTYPE=image/png:https://regionalhca.org/wp-content/uploads/2026/03/Screenshot-2026-03-16-at-5.27.21-p.m.png
END:VEVENT
BEGIN:VEVENT
DTSTART;TZID=America/Chicago:20270112T080000
DTEND;TZID=America/Chicago:20270112T133000
DTSTAMP:20260421T181015
CREATED:20260128T225848Z
LAST-MODIFIED:20260128T225848Z
UID:10001116-1799740800-1799760600@regionalhca.org
SUMMARY:Building Blocks of Business Success
DESCRIPTION:The Building Blocks of Business Success seminars are tailored for small business owners and are designed to equip them with essential tools and strategies for growth and success in the market. \nMonthly workshops. \nTuesday\, February 10\, 2026\, 11:00 am – 1:30 pm \nRHCA Houston HQ & Training Center\, 7047 Harrisburg Blvd\, Houston\, TX 77011  \nSpeakers \n\nHouston City College – Veronica Douglas\nGoldman Sachs 10\,000 Small Business – Melissa Ngome\nSubcontractors USA – Chivon Jones\nSouthEast Fabricators and Erector’s LLC – Claudia Baca-Ruiz\nCity of Houston – Alejandro Guajardo MBA\n\nRegister Here \n 
URL:https://regionalhca.org/event/building-blocks-of-business-success/2027-01-12/
LOCATION:7047 Harrisburg Blvd\, Houston\, TX 77011\, 7047 Harrisburg Blvd\, Houston\, 77011\, United States
CATEGORIES:Small Business Training
ATTACH;FMTTYPE=image/png:https://regionalhca.org/wp-content/uploads/2026/01/Screenshot-2026-01-28-at-4.55.57-p.m.png
END:VEVENT
BEGIN:VEVENT
DTSTART;TZID=America/Chicago:20270209T080000
DTEND;TZID=America/Chicago:20270209T133000
DTSTAMP:20260421T181015
CREATED:20260128T225848Z
LAST-MODIFIED:20260128T225848Z
UID:10001117-1802160000-1802179800@regionalhca.org
SUMMARY:Building Blocks of Business Success
DESCRIPTION:The Building Blocks of Business Success seminars are tailored for small business owners and are designed to equip them with essential tools and strategies for growth and success in the market. \nMonthly workshops. \nTuesday\, February 10\, 2026\, 11:00 am – 1:30 pm \nRHCA Houston HQ & Training Center\, 7047 Harrisburg Blvd\, Houston\, TX 77011  \nSpeakers \n\nHouston City College – Veronica Douglas\nGoldman Sachs 10\,000 Small Business – Melissa Ngome\nSubcontractors USA – Chivon Jones\nSouthEast Fabricators and Erector’s LLC – Claudia Baca-Ruiz\nCity of Houston – Alejandro Guajardo MBA\n\nRegister Here \n 
URL:https://regionalhca.org/event/building-blocks-of-business-success/2027-02-09/
LOCATION:7047 Harrisburg Blvd\, Houston\, TX 77011\, 7047 Harrisburg Blvd\, Houston\, 77011\, United States
CATEGORIES:Small Business Training
ATTACH;FMTTYPE=image/png:https://regionalhca.org/wp-content/uploads/2026/01/Screenshot-2026-01-28-at-4.55.57-p.m.png
END:VEVENT
END:VCALENDAR