BEGIN:VCALENDAR
VERSION:2.0
PRODID:-//Regional Hispanic Contractors Association - ECPv6.15.20//NONSGML v1.0//EN
CALSCALE:GREGORIAN
METHOD:PUBLISH
X-ORIGINAL-URL:https://regionalhca.org
X-WR-CALDESC:Events for Regional Hispanic Contractors Association
REFRESH-INTERVAL;VALUE=DURATION:PT1H
X-Robots-Tag:noindex
X-PUBLISHED-TTL:PT1H
BEGIN:VTIMEZONE
TZID:America/Chicago
BEGIN:DAYLIGHT
TZOFFSETFROM:-0600
TZOFFSETTO:-0500
TZNAME:CDT
DTSTART:20250309T080000
END:DAYLIGHT
BEGIN:STANDARD
TZOFFSETFROM:-0500
TZOFFSETTO:-0600
TZNAME:CST
DTSTART:20251102T070000
END:STANDARD
BEGIN:DAYLIGHT
TZOFFSETFROM:-0600
TZOFFSETTO:-0500
TZNAME:CDT
DTSTART:20260308T080000
END:DAYLIGHT
BEGIN:STANDARD
TZOFFSETFROM:-0500
TZOFFSETTO:-0600
TZNAME:CST
DTSTART:20261101T070000
END:STANDARD
BEGIN:DAYLIGHT
TZOFFSETFROM:-0600
TZOFFSETTO:-0500
TZNAME:CDT
DTSTART:20270314T080000
END:DAYLIGHT
BEGIN:STANDARD
TZOFFSETFROM:-0500
TZOFFSETTO:-0600
TZNAME:CST
DTSTART:20271107T070000
END:STANDARD
END:VTIMEZONE
BEGIN:VEVENT
DTSTART;TZID=America/Chicago:20260515T080000
DTEND;TZID=America/Chicago:20260515T160000
DTSTAMP:20260420T035906
CREATED:20260402T193502Z
LAST-MODIFIED:20260402T195147Z
UID:10002523-1778832000-1778860800@regionalhca.org
SUMMARY:NCCER Construction Workforce Training Cohort 9 Spanish
DESCRIPTION:NCCER Construction Workforce Training \nCohort 9 – Español \nViernes\, 15 de Mayo\, 2026 a Viernes\, 17 de Julio\, 2026 \nRegístrate Aquí \nViernes\, 8:00 am – 4:00 pm \n 
URL:https://regionalhca.org/event/nccer-construction-workforce-training-2-2/2026-05-15/
LOCATION:RHCA Headquarters & Training Center\, 2210 W. Illinois Avenue\, Dallas\, TX\, 75224\, United States
CATEGORIES:Workforce Training
ATTACH;FMTTYPE=image/png:https://regionalhca.org/wp-content/uploads/2026/02/Mail-headers-19.png
END:VEVENT
BEGIN:VEVENT
DTSTART;TZID=America/Chicago:20260522T080000
DTEND;TZID=America/Chicago:20260522T160000
DTSTAMP:20260420T035906
CREATED:20260402T193502Z
LAST-MODIFIED:20260402T195147Z
UID:10002533-1779436800-1779465600@regionalhca.org
SUMMARY:NCCER Construction Workforce Training Cohort 9 Spanish
DESCRIPTION:NCCER Construction Workforce Training \nCohort 9 – Español \nViernes\, 15 de Mayo\, 2026 a Viernes\, 17 de Julio\, 2026 \nRegístrate Aquí \nViernes\, 8:00 am – 4:00 pm \n 
URL:https://regionalhca.org/event/nccer-construction-workforce-training-2-2/2026-05-22/
LOCATION:RHCA Headquarters & Training Center\, 2210 W. Illinois Avenue\, Dallas\, TX\, 75224\, United States
CATEGORIES:Workforce Training
ATTACH;FMTTYPE=image/png:https://regionalhca.org/wp-content/uploads/2026/02/Mail-headers-19.png
END:VEVENT
BEGIN:VEVENT
DTSTART;TZID=America/Chicago:20260529T080000
DTEND;TZID=America/Chicago:20260529T160000
DTSTAMP:20260420T035906
CREATED:20260402T193502Z
LAST-MODIFIED:20260402T195147Z
UID:10002534-1780041600-1780070400@regionalhca.org
SUMMARY:NCCER Construction Workforce Training Cohort 9 Spanish
DESCRIPTION:NCCER Construction Workforce Training \nCohort 9 – Español \nViernes\, 15 de Mayo\, 2026 a Viernes\, 17 de Julio\, 2026 \nRegístrate Aquí \nViernes\, 8:00 am – 4:00 pm \n 
URL:https://regionalhca.org/event/nccer-construction-workforce-training-2-2/2026-05-29/
LOCATION:RHCA Headquarters & Training Center\, 2210 W. Illinois Avenue\, Dallas\, TX\, 75224\, United States
CATEGORIES:Workforce Training
ATTACH;FMTTYPE=image/png:https://regionalhca.org/wp-content/uploads/2026/02/Mail-headers-19.png
END:VEVENT
BEGIN:VEVENT
DTSTART;TZID=America/Chicago:20260605T080000
DTEND;TZID=America/Chicago:20260605T160000
DTSTAMP:20260420T035906
CREATED:20260402T193502Z
LAST-MODIFIED:20260402T195147Z
UID:10002535-1780646400-1780675200@regionalhca.org
SUMMARY:NCCER Construction Workforce Training Cohort 9 Spanish
DESCRIPTION:NCCER Construction Workforce Training \nCohort 9 – Español \nViernes\, 15 de Mayo\, 2026 a Viernes\, 17 de Julio\, 2026 \nRegístrate Aquí \nViernes\, 8:00 am – 4:00 pm \n 
URL:https://regionalhca.org/event/nccer-construction-workforce-training-2-2/2026-06-05/
LOCATION:RHCA Headquarters & Training Center\, 2210 W. Illinois Avenue\, Dallas\, TX\, 75224\, United States
CATEGORIES:Workforce Training
ATTACH;FMTTYPE=image/png:https://regionalhca.org/wp-content/uploads/2026/02/Mail-headers-19.png
END:VEVENT
BEGIN:VEVENT
DTSTART;TZID=America/Chicago:20260612T080000
DTEND;TZID=America/Chicago:20260612T160000
DTSTAMP:20260420T035906
CREATED:20260402T193502Z
LAST-MODIFIED:20260402T195147Z
UID:10002536-1781251200-1781280000@regionalhca.org
SUMMARY:NCCER Construction Workforce Training Cohort 9 Spanish
DESCRIPTION:NCCER Construction Workforce Training \nCohort 9 – Español \nViernes\, 15 de Mayo\, 2026 a Viernes\, 17 de Julio\, 2026 \nRegístrate Aquí \nViernes\, 8:00 am – 4:00 pm \n 
URL:https://regionalhca.org/event/nccer-construction-workforce-training-2-2/2026-06-12/
LOCATION:RHCA Headquarters & Training Center\, 2210 W. Illinois Avenue\, Dallas\, TX\, 75224\, United States
CATEGORIES:Workforce Training
ATTACH;FMTTYPE=image/png:https://regionalhca.org/wp-content/uploads/2026/02/Mail-headers-19.png
END:VEVENT
BEGIN:VEVENT
DTSTART;TZID=America/Chicago:20260619T080000
DTEND;TZID=America/Chicago:20260619T160000
DTSTAMP:20260420T035906
CREATED:20260402T193502Z
LAST-MODIFIED:20260402T195147Z
UID:10002537-1781856000-1781884800@regionalhca.org
SUMMARY:NCCER Construction Workforce Training Cohort 9 Spanish
DESCRIPTION:NCCER Construction Workforce Training \nCohort 9 – Español \nViernes\, 15 de Mayo\, 2026 a Viernes\, 17 de Julio\, 2026 \nRegístrate Aquí \nViernes\, 8:00 am – 4:00 pm \n 
URL:https://regionalhca.org/event/nccer-construction-workforce-training-2-2/2026-06-19/
LOCATION:RHCA Headquarters & Training Center\, 2210 W. Illinois Avenue\, Dallas\, TX\, 75224\, United States
CATEGORIES:Workforce Training
ATTACH;FMTTYPE=image/png:https://regionalhca.org/wp-content/uploads/2026/02/Mail-headers-19.png
END:VEVENT
BEGIN:VEVENT
DTSTART;TZID=America/Chicago:20260626T080000
DTEND;TZID=America/Chicago:20260626T160000
DTSTAMP:20260420T035906
CREATED:20260402T193502Z
LAST-MODIFIED:20260402T195147Z
UID:10002538-1782460800-1782489600@regionalhca.org
SUMMARY:NCCER Construction Workforce Training Cohort 9 Spanish
DESCRIPTION:NCCER Construction Workforce Training \nCohort 9 – Español \nViernes\, 15 de Mayo\, 2026 a Viernes\, 17 de Julio\, 2026 \nRegístrate Aquí \nViernes\, 8:00 am – 4:00 pm \n 
URL:https://regionalhca.org/event/nccer-construction-workforce-training-2-2/2026-06-26/
LOCATION:RHCA Headquarters & Training Center\, 2210 W. Illinois Avenue\, Dallas\, TX\, 75224\, United States
CATEGORIES:Workforce Training
ATTACH;FMTTYPE=image/png:https://regionalhca.org/wp-content/uploads/2026/02/Mail-headers-19.png
END:VEVENT
BEGIN:VEVENT
DTSTART;TZID=America/Chicago:20260703T080000
DTEND;TZID=America/Chicago:20260703T160000
DTSTAMP:20260420T035906
CREATED:20260402T193502Z
LAST-MODIFIED:20260402T195147Z
UID:10002539-1783065600-1783094400@regionalhca.org
SUMMARY:NCCER Construction Workforce Training Cohort 9 Spanish
DESCRIPTION:NCCER Construction Workforce Training \nCohort 9 – Español \nViernes\, 15 de Mayo\, 2026 a Viernes\, 17 de Julio\, 2026 \nRegístrate Aquí \nViernes\, 8:00 am – 4:00 pm \n 
URL:https://regionalhca.org/event/nccer-construction-workforce-training-2-2/2026-07-03/
LOCATION:RHCA Headquarters & Training Center\, 2210 W. Illinois Avenue\, Dallas\, TX\, 75224\, United States
CATEGORIES:Workforce Training
ATTACH;FMTTYPE=image/png:https://regionalhca.org/wp-content/uploads/2026/02/Mail-headers-19.png
END:VEVENT
BEGIN:VEVENT
DTSTART;TZID=America/Chicago:20260710T080000
DTEND;TZID=America/Chicago:20260710T160000
DTSTAMP:20260420T035906
CREATED:20260402T193502Z
LAST-MODIFIED:20260402T195147Z
UID:10002540-1783670400-1783699200@regionalhca.org
SUMMARY:NCCER Construction Workforce Training Cohort 9 Spanish
DESCRIPTION:NCCER Construction Workforce Training \nCohort 9 – Español \nViernes\, 15 de Mayo\, 2026 a Viernes\, 17 de Julio\, 2026 \nRegístrate Aquí \nViernes\, 8:00 am – 4:00 pm \n 
URL:https://regionalhca.org/event/nccer-construction-workforce-training-2-2/2026-07-10/
LOCATION:RHCA Headquarters & Training Center\, 2210 W. Illinois Avenue\, Dallas\, TX\, 75224\, United States
CATEGORIES:Workforce Training
ATTACH;FMTTYPE=image/png:https://regionalhca.org/wp-content/uploads/2026/02/Mail-headers-19.png
END:VEVENT
BEGIN:VEVENT
DTSTART;TZID=America/Chicago:20260717T080000
DTEND;TZID=America/Chicago:20260717T160000
DTSTAMP:20260420T035906
CREATED:20260402T193502Z
LAST-MODIFIED:20260402T195147Z
UID:10002541-1784275200-1784304000@regionalhca.org
SUMMARY:NCCER Construction Workforce Training Cohort 9 Spanish
DESCRIPTION:NCCER Construction Workforce Training \nCohort 9 – Español \nViernes\, 15 de Mayo\, 2026 a Viernes\, 17 de Julio\, 2026 \nRegístrate Aquí \nViernes\, 8:00 am – 4:00 pm \n 
URL:https://regionalhca.org/event/nccer-construction-workforce-training-2-2/2026-07-17/
LOCATION:RHCA Headquarters & Training Center\, 2210 W. Illinois Avenue\, Dallas\, TX\, 75224\, United States
CATEGORIES:Workforce Training
ATTACH;FMTTYPE=image/png:https://regionalhca.org/wp-content/uploads/2026/02/Mail-headers-19.png
END:VEVENT
END:VCALENDAR