BEGIN:VCALENDAR
VERSION:2.0
PRODID:-//Regional Hispanic Contractors Association - ECPv6.15.20//NONSGML v1.0//EN
CALSCALE:GREGORIAN
METHOD:PUBLISH
X-WR-CALNAME:Regional Hispanic Contractors Association
X-ORIGINAL-URL:https://regionalhca.org
X-WR-CALDESC:Events for Regional Hispanic Contractors Association
REFRESH-INTERVAL;VALUE=DURATION:PT1H
X-Robots-Tag:noindex
X-PUBLISHED-TTL:PT1H
BEGIN:VTIMEZONE
TZID:America/Chicago
BEGIN:DAYLIGHT
TZOFFSETFROM:-0600
TZOFFSETTO:-0500
TZNAME:CDT
DTSTART:20240310T080000
END:DAYLIGHT
BEGIN:STANDARD
TZOFFSETFROM:-0500
TZOFFSETTO:-0600
TZNAME:CST
DTSTART:20241103T070000
END:STANDARD
BEGIN:DAYLIGHT
TZOFFSETFROM:-0600
TZOFFSETTO:-0500
TZNAME:CDT
DTSTART:20250309T080000
END:DAYLIGHT
BEGIN:STANDARD
TZOFFSETFROM:-0500
TZOFFSETTO:-0600
TZNAME:CST
DTSTART:20251102T070000
END:STANDARD
BEGIN:DAYLIGHT
TZOFFSETFROM:-0600
TZOFFSETTO:-0500
TZNAME:CDT
DTSTART:20260308T080000
END:DAYLIGHT
BEGIN:STANDARD
TZOFFSETFROM:-0500
TZOFFSETTO:-0600
TZNAME:CST
DTSTART:20261101T070000
END:STANDARD
END:VTIMEZONE
BEGIN:VEVENT
DTSTART;TZID=America/Chicago:20251013T110000
DTEND;TZID=America/Chicago:20251013T133000
DTSTAMP:20260421T163355
CREATED:20250930T185052Z
LAST-MODIFIED:20250930T203228Z
UID:10000972-1760353200-1760362200@regionalhca.org
SUMMARY:RHCA Building Blocks of Success
DESCRIPTION:  \nThe RHCA Houston office invites you to join the Building Contractor Success seminars. \nMonday\, \nOctober 13\, 2025 \n11:00 am – 1:30 pm \nRegister Here \n  \nSpeakers \nJha Allen\, Endless 8 Marketing\, How to bid with AI \nVeronica Douglas\, Small Business Development Program\, \nHouston City College\, How to do Business with the New HCC \nMichelle Ngome\, Goldman Sachs 10\,000 Small Businesses \nChivon Jones\, Subcontractor USA | A+ Factoring \nAdvertising/Marketing \nPedro Garcia\, Outreach Manager\, Port of Houston \nHow to do Business with the Port of Houston \n  \nContact: Delfina Flores \ndelfina@regionalhca.org \n(713) 545-2442
URL:https://regionalhca.org/event/rhca-building-blocks-of-success/
LOCATION:Statwide: Austin | Dallas | El Paso | Houston | Rio Grande Valley | Laredo | Sherman | Tyler\, TX\, United States
ATTACH;FMTTYPE=image/png:https://regionalhca.org/wp-content/uploads/2025/09/Screenshot-2025-09-30-at-1.48.28-p.m.png
END:VEVENT
BEGIN:VEVENT
DTSTART;TZID=America/Chicago:20251014T090000
DTEND;TZID=America/Chicago:20251014T110000
DTSTAMP:20260421T163355
CREATED:20250903T205408Z
LAST-MODIFIED:20250903T205408Z
UID:10000897-1760432400-1760439600@regionalhca.org
SUMMARY:The Professional Edge: Business Etiquette\, Dining\, and Networking Skills
DESCRIPTION:The Professional Edge: Business Etiquette\, Dining\, and Networking Skills \nSpeaker: Linda Valdez Thompson\, Valdez Thompson Consulting LLC \nRegister Here: https://form.jotform.com/250626151375151 \nSuccess in the construction industry isn’t just about technical skills—it’s also about how you present yourself. This workshop will equip construction professionals with the business etiquette\, dining manners\, and networking skills needed to build strong relationships and make lasting impressions. \nYou’ll learn:\n✔ Professional Etiquette: How to communicate confidently in meetings\, emails\, and business settings. \n✔ Dining & Business Meals: Proper table manners\, ordering strategies\, and handling professional meals with clients and partners. \n✔ Networking Skills: How to start conversations\, build connections\, and leave a positive impression at industry events. \n✔ Construction Industry Focus: Tips for navigating business interactions with general contractors\, developers\, and suppliers. \nWhether you’re meeting with clients\, attending industry events\, or negotiating contracts\, this workshop will give you the tools to navigate professional settings with confidence and credibility. \nDate: Tuesday\, October 14\, 2025 \nTime: 9:00 am to 11:00 am \nCost: $25 for RHCA Members\, $50 for Non-RHCA Members \nLocation: RHCA Headquarters \n2210 W. Illinois Ave\, Dallas\, TX 75224
URL:https://regionalhca.org/event/the-professional-edge-business-etiquette-dining-and-networking-skills/
LOCATION:RHCA Headquarters  2210 W. Illinois Ave\, Dallas\, TX 75224\, 2210 W. Illinois Ave\, Dallas\, 75224\, United States
ATTACH;FMTTYPE=image/png:https://regionalhca.org/wp-content/uploads/2025/09/Screenshot-2025-09-03-at-2.41.22-p.m.png
END:VEVENT
BEGIN:VEVENT
DTSTART;TZID=America/Chicago:20251015T080000
DTEND;TZID=America/Chicago:20251015T180000
DTSTAMP:20260421T163355
CREATED:20251001T203808Z
LAST-MODIFIED:20251001T205312Z
UID:10000981-1760515200-1760551200@regionalhca.org
SUMMARY:Subcontractors USA - E.C.O. Summit & Expo | Meet the Primes
DESCRIPTION:E.C.O. Summit & Expo \nEvent Date: Wednesday\, October 15\, 2025 \nEvent Time: 8:00 AM – 6:00 PM (CST) \nLocation: Bayou CIty Event Center | 9401 Knight Rd\, Houston\, TX 77045 \nRegister Here \nSchedule of Events: \n\nRegistration  7:30 AM – 8:00 AM\nMain Stage Opening  8:00 AM – 8:50 AM\nExhibitor Breakout Sessions\, Workshops & Prime Panel  9:00 AM – 12:00 PM\nLunch/Networking  12:00 PM – 12:25 PM\nExhibitor Breakout Sessions\, Workshops & Prime Panel  12:25 PM – 2:55 PM\nSpecial Forum  3:00 PM – 4:00 PM\nNetworking/Happy Hour  4:00 PM – 6:00 PM\n\nWorkshop Topics Include: \n\nHow to Do Business with Agencies (METRO\, TXDOT\, PORT HOUSTON\, ETC.)\nHUB Certification Processes\nAccess to Capital\n\n \n \nFOR MORE INFORMATION ABOUT THIS EVENT\, CONTACT operations@subcusa.com
URL:https://regionalhca.org/event/subcontractors-usa-e-c-o-summit-expo-meet-the-primes/
LOCATION:Bayou CIty Event Center | 9401 Knight Rd\, Houston\, TX 77045\, 9401 Knight Rd\, Houston\, 77045\, United States
ATTACH;FMTTYPE=image/png:https://regionalhca.org/wp-content/uploads/2025/10/Screenshot-2025-10-01-at-3.52.12-p.m.png
END:VEVENT
END:VCALENDAR