BEGIN:VCALENDAR
VERSION:2.0
PRODID:-//Regional Hispanic Contractors Association - ECPv6.15.20//NONSGML v1.0//EN
CALSCALE:GREGORIAN
METHOD:PUBLISH
X-WR-CALNAME:Regional Hispanic Contractors Association
X-ORIGINAL-URL:https://regionalhca.org
X-WR-CALDESC:Events for Regional Hispanic Contractors Association
REFRESH-INTERVAL;VALUE=DURATION:PT1H
X-Robots-Tag:noindex
X-PUBLISHED-TTL:PT1H
BEGIN:VTIMEZONE
TZID:America/Chicago
BEGIN:DAYLIGHT
TZOFFSETFROM:-0600
TZOFFSETTO:-0500
TZNAME:CDT
DTSTART:20240310T080000
END:DAYLIGHT
BEGIN:STANDARD
TZOFFSETFROM:-0500
TZOFFSETTO:-0600
TZNAME:CST
DTSTART:20241103T070000
END:STANDARD
BEGIN:DAYLIGHT
TZOFFSETFROM:-0600
TZOFFSETTO:-0500
TZNAME:CDT
DTSTART:20250309T080000
END:DAYLIGHT
BEGIN:STANDARD
TZOFFSETFROM:-0500
TZOFFSETTO:-0600
TZNAME:CST
DTSTART:20251102T070000
END:STANDARD
BEGIN:DAYLIGHT
TZOFFSETFROM:-0600
TZOFFSETTO:-0500
TZNAME:CDT
DTSTART:20260308T080000
END:DAYLIGHT
BEGIN:STANDARD
TZOFFSETFROM:-0500
TZOFFSETTO:-0600
TZNAME:CST
DTSTART:20261101T070000
END:STANDARD
END:VTIMEZONE
BEGIN:VEVENT
DTSTART;TZID=America/Chicago:20251029T100000
DTEND;TZID=America/Chicago:20251029T113000
DTSTAMP:20260421T163355
CREATED:20251017T193055Z
LAST-MODIFIED:20251017T193055Z
UID:10000983-1761732000-1761737400@regionalhca.org
SUMMARY:North Texas Tollway Authority Surety Bond Workshop
DESCRIPTION:North Texas Tollway Authority Surety Bond Workshop \nRSVP Here \nWednesday\, October 29\, 2025 \n10:00 am – 11:30 am \nHurst Conference Center\, 1601 Conference Drive\, Hurst\, TX 76054 \nThis is a free program and open to all small and emerging contractors in construction who are looking to: \n\nGain access to Public Construction Contracts\nIncrease Prime Contractor Visibility\n\nFor more information\, please reach out to Eric Barron\, Frost Insurance- eric.barron@frostinsurance.com; 682-715-3071. \n  \n 
URL:https://regionalhca.org/event/north-texas-tollway-authority-surety-bond-workshop/
LOCATION:Hurst Conference Center 1601 Conference Drive Hurst\, TX 76054\, 1601 Conference Drive\, Hurst\, 76054\, United States
END:VEVENT
BEGIN:VEVENT
DTSTART;TZID=America/Chicago:20251030T113000
DTEND;TZID=America/Chicago:20251030T130000
DTSTAMP:20260421T163355
CREATED:20250905T200740Z
LAST-MODIFIED:20250929T033156Z
UID:10000963-1761823800-1761829200@regionalhca.org
SUMMARY:RHCA Ambassador Committee Meeting
DESCRIPTION:
URL:https://regionalhca.org/event/rhca-ambassador-committee-meeting-4/
LOCATION:RHCA Headquarters & Training Center\, 2210 W. Illinois Avenue\, Dallas\, TX\, 75224\, United States
ATTACH;FMTTYPE=image/png:https://regionalhca.org/wp-content/uploads/2025/09/Screenshot-2025-09-03-at-2.38.00-PM-1.png
END:VEVENT
END:VCALENDAR