BEGIN:VCALENDAR
VERSION:2.0
PRODID:-//Regional Hispanic Contractors Association - ECPv6.15.20//NONSGML v1.0//EN
CALSCALE:GREGORIAN
METHOD:PUBLISH
X-WR-CALNAME:Regional Hispanic Contractors Association
X-ORIGINAL-URL:https://regionalhca.org
X-WR-CALDESC:Events for Regional Hispanic Contractors Association
REFRESH-INTERVAL;VALUE=DURATION:PT1H
X-Robots-Tag:noindex
X-PUBLISHED-TTL:PT1H
BEGIN:VTIMEZONE
TZID:America/Chicago
BEGIN:DAYLIGHT
TZOFFSETFROM:-0600
TZOFFSETTO:-0500
TZNAME:CDT
DTSTART:20240310T080000
END:DAYLIGHT
BEGIN:STANDARD
TZOFFSETFROM:-0500
TZOFFSETTO:-0600
TZNAME:CST
DTSTART:20241103T070000
END:STANDARD
BEGIN:DAYLIGHT
TZOFFSETFROM:-0600
TZOFFSETTO:-0500
TZNAME:CDT
DTSTART:20250309T080000
END:DAYLIGHT
BEGIN:STANDARD
TZOFFSETFROM:-0500
TZOFFSETTO:-0600
TZNAME:CST
DTSTART:20251102T070000
END:STANDARD
BEGIN:DAYLIGHT
TZOFFSETFROM:-0600
TZOFFSETTO:-0500
TZNAME:CDT
DTSTART:20260308T080000
END:DAYLIGHT
BEGIN:STANDARD
TZOFFSETFROM:-0500
TZOFFSETTO:-0600
TZNAME:CST
DTSTART:20261101T070000
END:STANDARD
END:VTIMEZONE
BEGIN:VEVENT
DTSTART;TZID=America/Chicago:20251105T090000
DTEND;TZID=America/Chicago:20251105T100000
DTSTAMP:20260421T151211
CREATED:20250108T173417Z
LAST-MODIFIED:20251007T142922Z
UID:10000703-1762333200-1762336800@regionalhca.org
SUMMARY:RHCA Safety Council Committee Meetings 2025
DESCRIPTION:RHCA Safety Council is an advisory body formed to provide the RHCA\, Health and Safety field input and perspective in the development and maintenance of construction safety program guidance and in the review and resolution of construction safety issues. The Safety Council also serves as a topical committee to provide advice and support on safety-related construction issues. It serves as a subject matter expert panel to advise the RHCA in construction safety and health matters. \nThe RHCA Safety Council Functions: \n\nResource for training instructors\n\n\nTraining topics and speakers\n\n\nAssists with RHCA Safety events (Safety Stand-Down\, DIA and Safe + Sound)\n\n\nAssists with the development of grants and training\n\nRHCA Safety Council Meetings \nThe first Wednesday of the Month from 9:00 am to 10:00 am. CST\nMeetings are open to members in good standing; registration is required. \nInterested in presenting a project opportunity or topic? Please get in touch with Cesar Barajas (Cesar@regionalhca.org) or Julio Florez (julio@regionalhca.org)
URL:https://regionalhca.org/event/https-regionalhca-org-safety-council/2025-11-05/
LOCATION:RHCA Headquarters & Training Center\, 2210 W. Illinois Avenue\, Dallas\, TX\, 75224\, United States
ATTACH;FMTTYPE=image/jpeg:https://regionalhca.org/wp-content/uploads/2023/12/Screen-Shot-2023-04-28-at-11.31.541111.jpg
ORGANIZER;CN="Julio Florez":MAILTO:julio@regionalhca.org
END:VEVENT
BEGIN:VEVENT
DTSTART;TZID=America/Chicago:20251107T110000
DTEND;TZID=America/Chicago:20251107T133000
DTSTAMP:20260421T151211
CREATED:20250225T001404Z
LAST-MODIFIED:20251027T211655Z
UID:10000816-1762513200-1762522200@regionalhca.org
SUMMARY:LUNA DFW
DESCRIPTION:The Luna Awards celebrates the achievements of women\, women-owned businesses and advocates who promote and develop women at all levels in Architecture\, Engineering and Construction. \nThe award celebrates diversity and inclusivity\, welcoming nominees regardless of RHCA membership or Hispanic background. \n \n#LUNAAWARDS      #STATEWIDE      #LUNAHOUSTON
URL:https://regionalhca.org/event/luna-dfw/
LOCATION:Omni Fort Worth Hotel (Texas Ballroom – 2nd Floor)\, 1300 Houston Street\, Fort Worth\, TX\, 76102\, United States
ATTACH;FMTTYPE=image/png:https://regionalhca.org/wp-content/uploads/2025/03/DFW-Calen-dar.png
END:VEVENT
END:VCALENDAR