BEGIN:VCALENDAR
VERSION:2.0
PRODID:-//Regional Hispanic Contractors Association - ECPv6.15.20//NONSGML v1.0//EN
CALSCALE:GREGORIAN
METHOD:PUBLISH
X-ORIGINAL-URL:https://regionalhca.org
X-WR-CALDESC:Events for Regional Hispanic Contractors Association
REFRESH-INTERVAL;VALUE=DURATION:PT1H
X-Robots-Tag:noindex
X-PUBLISHED-TTL:PT1H
BEGIN:VTIMEZONE
TZID:America/Chicago
BEGIN:DAYLIGHT
TZOFFSETFROM:-0600
TZOFFSETTO:-0500
TZNAME:CDT
DTSTART:20240310T080000
END:DAYLIGHT
BEGIN:STANDARD
TZOFFSETFROM:-0500
TZOFFSETTO:-0600
TZNAME:CST
DTSTART:20241103T070000
END:STANDARD
BEGIN:DAYLIGHT
TZOFFSETFROM:-0600
TZOFFSETTO:-0500
TZNAME:CDT
DTSTART:20250309T080000
END:DAYLIGHT
BEGIN:STANDARD
TZOFFSETFROM:-0500
TZOFFSETTO:-0600
TZNAME:CST
DTSTART:20251102T070000
END:STANDARD
BEGIN:DAYLIGHT
TZOFFSETFROM:-0600
TZOFFSETTO:-0500
TZNAME:CDT
DTSTART:20260308T080000
END:DAYLIGHT
BEGIN:STANDARD
TZOFFSETFROM:-0500
TZOFFSETTO:-0600
TZNAME:CST
DTSTART:20261101T070000
END:STANDARD
END:VTIMEZONE
BEGIN:VEVENT
DTSTART;TZID=America/Chicago:20251110T070000
DTEND;TZID=America/Chicago:20251110T140000
DTSTAMP:20260421T180315
CREATED:20250630T232322Z
LAST-MODIFIED:20250707T220924Z
UID:10000894-1762758000-1762783200@regionalhca.org
SUMMARY:RHCA Golf Classic Houston 2025
DESCRIPTION:REGISTRATION FORM \nEvent Website\nThe River Bend Dress Code\n \n 
URL:https://regionalhca.org/event/rhca-houston-golf-tournament-2025/
LOCATION:Riverbend Country Club\, 1214 Dulles Avenue\, Sugar Land\, TX\, 77478-4002
ATTACH;FMTTYPE=image/png:https://regionalhca.org/wp-content/uploads/2025/07/Screenshot-2025-07-06-at-12.09.04 PM-1.png
END:VEVENT
BEGIN:VEVENT
DTSTART;TZID=America/Chicago:20251112T083000
DTEND;TZID=America/Chicago:20251112T100000
DTSTAMP:20260421T180315
CREATED:20250109T230218Z
LAST-MODIFIED:20250109T230218Z
UID:10000722-1762936200-1762941600@regionalhca.org
SUMMARY:AEC Roundtable Committee Meeting 11 12 2025
DESCRIPTION:Architecture\, Engineering and Construction – AEC The RHCA Architecture\, Engineering\, and Construction Committee (AEC). The Committee supports the RHCA mission to increase architecture\, engineering and contractor business capacity\, efficiency\, and profitability through civil\, heavy highway and infrastructure project opportunities. The Committee develops programming and relationships with major general contractors\, owners and developers to use RHCA members and small\, minority\, and women-owned contractors; and to help members to contract with each other. \nAEC Roundtable Committee Meetings \nThe second Wednesday of the month from 8:30 am to 10:00 am.\nMeetings are open to members in good standing; registration is required. \nInterested in presenting a project opportunity or topic please contact Julio Florez (julio@regionalhca.org)
URL:https://regionalhca.org/event/aec-roundtable-committee-meeting-11-12-2025/
LOCATION:Virtual
ATTACH;FMTTYPE=image/png:https://regionalhca.org/wp-content/uploads/2023/12/image.png
ORGANIZER;CN="Julio Florez":MAILTO:julio@regionalhca.org
END:VEVENT
BEGIN:VEVENT
DTSTART;TZID=America/Chicago:20251113T080000
DTEND;TZID=America/Chicago:20251113T140000
DTSTAMP:20260421T180315
CREATED:20250225T014150Z
LAST-MODIFIED:20250707T221753Z
UID:10000821-1763020800-1763042400@regionalhca.org
SUMMARY:Central Texas Heavy Highway & Transportation Forum
DESCRIPTION:Heavy Highway & Transportation Forum | Austin \nNovember 13\, 2025 \nRSVP Here \nThe RHCA invites consultants\, engineers\, and contractors\, as well as any professional services or construction services companies interested in or currently working in the Heavy Highway and Transportation industry\, to participate in this upcoming Forum. \nJoin us to hear from key decision makers\, including TxDOT leadership and technical experts\, as they discuss the State of the Industry and upcoming opportunities. \nLocation: Austin\, TX
URL:https://regionalhca.org/event/central-texas-heavy-highway-transportation-forum/
ATTACH;FMTTYPE=image/png:https://regionalhca.org/wp-content/uploads/2025/02/HHW-Central-calendar.png
END:VEVENT
BEGIN:VEVENT
DTSTART;TZID=America/Chicago:20251113T090000
DTEND;TZID=America/Chicago:20251113T160000
DTSTAMP:20260421T180315
CREATED:20250930T205038Z
LAST-MODIFIED:20250930T205038Z
UID:10000978-1763024400-1763049600@regionalhca.org
SUMMARY:Cash Flow Like a Pro: QuickBooks for Business Success
DESCRIPTION:Register Here\nThursday\, November 13\, 2025 \n9:00 a – 4:00 pm \nJoin us IN PERSON as we explore the multifaceted aspects of financial management and unlock a wealth of invaluable knowledge essential for business prosperity! \nThis comprehensive\, day-long workshop is designed to emphasize the critical importance of effective financial management in achieving sustainable business success. Throughout the workshop\, participants will gain invaluable insights into the intricate workings of financial management\, equipping them with the knowledge and skills necessary to navigate and optimize their business’s financial landscape. \n 
URL:https://regionalhca.org/event/cash-flow-like-a-pro-quickbooks-for-business-success-3/
LOCATION:7047 Harrisburg Blvd.\, Houston\, TX 77011
ATTACH;FMTTYPE=image/png:https://regionalhca.org/wp-content/uploads/2025/09/Screenshot-2025-09-30-at-1.58.11-p.m.png
END:VEVENT
BEGIN:VEVENT
DTSTART;TZID=America/Chicago:20251113T113000
DTEND;TZID=America/Chicago:20251113T130000
DTSTAMP:20260421T180315
CREATED:20250930T213913Z
LAST-MODIFIED:20250930T220150Z
UID:10000980-1763033400-1763038800@regionalhca.org
SUMMARY:NTTA Business Opportunities Stakeholders Session
DESCRIPTION:Thursday\, November 13\, 2025  \n11:30 am – 1:00 pm \nRegister Here \nAmon Carter Center at Lena Pope \n3200 Sanguinet St. Fort Worth\, TX 76107 \nDiscover upcoming contracting opportunities with NTTA\, connect with our leadership as well as industry peers and learn how to grow your business. You will also have the opportunity to network and gain valuable insights on how to do business with NTTA during this focused session. \nLunch will be served.
URL:https://regionalhca.org/event/ntta-business-opportunities-stakeholders-session-2/
LOCATION:Amon Carter Center at Lena Pope\, 3200 Sanguinet St.\, Fort Worth\, 76107\, United States
ATTACH;FMTTYPE=image/png:https://regionalhca.org/wp-content/uploads/2025/09/Screenshot-2025-09-30-at-4.37.35-p.m.png
END:VEVENT
END:VCALENDAR