BEGIN:VCALENDAR
VERSION:2.0
PRODID:-//Regional Hispanic Contractors Association - ECPv6.15.20//NONSGML v1.0//EN
CALSCALE:GREGORIAN
METHOD:PUBLISH
X-WR-CALNAME:Regional Hispanic Contractors Association
X-ORIGINAL-URL:https://regionalhca.org
X-WR-CALDESC:Events for Regional Hispanic Contractors Association
REFRESH-INTERVAL;VALUE=DURATION:PT1H
X-Robots-Tag:noindex
X-PUBLISHED-TTL:PT1H
BEGIN:VTIMEZONE
TZID:America/Chicago
BEGIN:DAYLIGHT
TZOFFSETFROM:-0600
TZOFFSETTO:-0500
TZNAME:CDT
DTSTART:20250309T080000
END:DAYLIGHT
BEGIN:STANDARD
TZOFFSETFROM:-0500
TZOFFSETTO:-0600
TZNAME:CST
DTSTART:20251102T070000
END:STANDARD
BEGIN:DAYLIGHT
TZOFFSETFROM:-0600
TZOFFSETTO:-0500
TZNAME:CDT
DTSTART:20260308T080000
END:DAYLIGHT
BEGIN:STANDARD
TZOFFSETFROM:-0500
TZOFFSETTO:-0600
TZNAME:CST
DTSTART:20261101T070000
END:STANDARD
BEGIN:DAYLIGHT
TZOFFSETFROM:-0600
TZOFFSETTO:-0500
TZNAME:CDT
DTSTART:20270314T080000
END:DAYLIGHT
BEGIN:STANDARD
TZOFFSETFROM:-0500
TZOFFSETTO:-0600
TZNAME:CST
DTSTART:20271107T070000
END:STANDARD
END:VTIMEZONE
BEGIN:VEVENT
DTSTART;TZID=America/Chicago:20260114T080000
DTEND;TZID=America/Chicago:20260114T100000
DTSTAMP:20260421T140202
CREATED:20251219T225631Z
LAST-MODIFIED:20251219T225631Z
UID:10001032-1768377600-1768384800@regionalhca.org
SUMMARY:RHCA Safety Council Meeting
DESCRIPTION:RHCA Safety Council serves as a subject matter expert panel to advise the RHCA on construction safety issues and health matters by providing health and safety field input and perspective. Develops the RHCA Construction Safety Program\, provides guidance\, and reviews the resolution of construction safety issues. \nRegister Here \nCommittee Functions: \n\nActs as a resource for Construction Safety instructors\nRecommends training topics and speakers\nAssists with RHCA Safety activities\nAssists with grant research and submittals\nAssists with annual events:\n\nOSHA Safety Stand-Down\nTexas-wide RHCA Day of the Construction Worker\nNational Safe + Sound Week\n\n\nFacilitates sponsors and resources for Committee activities.
URL:https://regionalhca.org/event/rhca-safety-council-meeting/
LOCATION:RHCA Headquarters & Training Center\, 2210 W. Illinois Avenue\, Dallas\, TX\, 75224\, United States
ATTACH;FMTTYPE=image/png:https://regionalhca.org/wp-content/uploads/2025/12/Screenshot-2025-12-19-at-4.53.36-p.m.png
END:VEVENT
BEGIN:VEVENT
DTSTART;TZID=America/Chicago:20260114T080000
DTEND;TZID=America/Chicago:20260115T170000
DTSTAMP:20260421T140202
CREATED:20251216T184221Z
LAST-MODIFIED:20251216T184221Z
UID:10001006-1768377600-1768496400@regionalhca.org
SUMMARY:OSHA 10 - Hour Spanish
DESCRIPTION:
URL:https://regionalhca.org/event/osha-10-hour-spanish-8/
LOCATION:RHCA Headquarters  2210 W. Illinois Ave\, Dallas\, TX 75224\, 2210 W. Illinois Ave\, Dallas\, 75224\, United States
CATEGORIES:Safety Training
END:VEVENT
BEGIN:VEVENT
DTSTART;TZID=America/Chicago:20260114T083000
DTEND;TZID=America/Chicago:20260114T100000
DTSTAMP:20260421T140202
CREATED:20251219T215330Z
LAST-MODIFIED:20251219T215330Z
UID:10001019-1768379400-1768384800@regionalhca.org
SUMMARY:RHCA Architecture\, Engineering & Construction Roundtable Committee Meeting
DESCRIPTION:RHCA Architecture\, Engineering & Construction Roundtable Committee Meeting \nRHCA Architecture\, Engineering\, and Construction Committee (AEC) is dedicated to supporting the RHCA’s goal of enhancing business capacity\, efficiency\, and profitability in architecture\, engineering\, and construction. The Committee’s primarily focused on civil\, heavy highway\, and infrastructure project opportunities. \nRegister Here \nThe second Wednesday of the month from 8:30 am to 10:00 am.\n\nMeetings are open to members in good standing; registration is required.
URL:https://regionalhca.org/event/rhca-architecture-engineering-construction-roundtable-committee-meeting/2026-01-14/
LOCATION:RHCA Headquarters & Training Center\, 2210 W. Illinois Avenue\, Dallas\, TX\, 75224\, United States
ATTACH;FMTTYPE=image/png:https://regionalhca.org/wp-content/uploads/2025/12/Screenshot-2025-12-19-at-3.12.58-p.m.png
END:VEVENT
END:VCALENDAR