BEGIN:VCALENDAR
VERSION:2.0
PRODID:-//Regional Hispanic Contractors Association - ECPv6.15.20//NONSGML v1.0//EN
CALSCALE:GREGORIAN
METHOD:PUBLISH
X-ORIGINAL-URL:https://regionalhca.org
X-WR-CALDESC:Events for Regional Hispanic Contractors Association
REFRESH-INTERVAL;VALUE=DURATION:PT1H
X-Robots-Tag:noindex
X-PUBLISHED-TTL:PT1H
BEGIN:VTIMEZONE
TZID:America/Chicago
BEGIN:DAYLIGHT
TZOFFSETFROM:-0600
TZOFFSETTO:-0500
TZNAME:CDT
DTSTART:20250309T080000
END:DAYLIGHT
BEGIN:STANDARD
TZOFFSETFROM:-0500
TZOFFSETTO:-0600
TZNAME:CST
DTSTART:20251102T070000
END:STANDARD
BEGIN:DAYLIGHT
TZOFFSETFROM:-0600
TZOFFSETTO:-0500
TZNAME:CDT
DTSTART:20260308T080000
END:DAYLIGHT
BEGIN:STANDARD
TZOFFSETFROM:-0500
TZOFFSETTO:-0600
TZNAME:CST
DTSTART:20261101T070000
END:STANDARD
BEGIN:DAYLIGHT
TZOFFSETFROM:-0600
TZOFFSETTO:-0500
TZNAME:CDT
DTSTART:20270314T080000
END:DAYLIGHT
BEGIN:STANDARD
TZOFFSETFROM:-0500
TZOFFSETTO:-0600
TZNAME:CST
DTSTART:20271107T070000
END:STANDARD
END:VTIMEZONE
BEGIN:VEVENT
DTSTART;TZID=America/Chicago:20260120T080000
DTEND;TZID=America/Chicago:20260123T170000
DTSTAMP:20260421T123625
CREATED:20250318T185845Z
LAST-MODIFIED:20251204T213413Z
UID:10000982-1768896000-1769187600@regionalhca.org
SUMMARY:OSHA 30-Hour Construction - English
DESCRIPTION:Participants in this class encourage a safety-focused workplace through peer-led training plus using participatory\, hands-on learning activities\, on top of trainers customizing topics to meet audience needs. The seven-hour\, four-day course covers hazard recognition\, workers’ rights\, employer responsibilities\, and complaint procedures in addition to highlighting the importance of safety and health\, especially for young workers. 
URL:https://regionalhca.org/event/osha-30-hour-construction-english-2/
LOCATION:RHCA Headquarters & Training Center\, 2210 W. Illinois Avenue\, Dallas\, TX\, 75224\, United States
CATEGORIES:Safety Training
ATTACH;FMTTYPE=image/png:https://regionalhca.org/wp-content/uploads/2025/03/Screenshot-2025-03-19-at-9.35.49 AM.png
END:VEVENT
BEGIN:VEVENT
DTSTART;TZID=America/Chicago:20260120T080000
DTEND;TZID=America/Chicago:20260123T170000
DTSTAMP:20260421T123625
CREATED:20251204T212942Z
LAST-MODIFIED:20251204T212942Z
UID:10000844-1768896000-1769187600@regionalhca.org
SUMMARY:OSHA 30-Hour Construction - English
DESCRIPTION:Participants in this class encourage a safety-focused workplace through peer-led training plus using participatory\, hands-on learning activities\, on top of trainers customizing topics to meet audience needs. The seven-hour\, four-day course covers hazard recognition\, workers’ rights\, employer responsibilities\, and complaint procedures in addition to highlighting the importance of safety and health\, especially for young workers. 
URL:https://regionalhca.org/event/osha-30-hour-construction-english-2-2-2/
LOCATION:RHCA Headquarters & Training Center\, 2210 W. Illinois Avenue\, Dallas\, TX\, 75224\, United States
CATEGORIES:Safety Training
ATTACH;FMTTYPE=image/png:https://regionalhca.org/wp-content/uploads/2025/03/Screenshot-2025-03-19-at-9.35.49 AM.png
END:VEVENT
BEGIN:VEVENT
DTSTART;TZID=America/Chicago:20260120T083000
DTEND;TZID=America/Chicago:20260120T100000
DTSTAMP:20260421T123625
CREATED:20251219T210825Z
LAST-MODIFIED:20251219T210825Z
UID:10001007-1768897800-1768903200@regionalhca.org
SUMMARY:RHCA Economic & Business Committee
DESCRIPTION:RHCA ECONOMIC & BUSINESS DEVELOPMENT COMMITTEE MEETING\n\n\n\n\nThe third Tuesday of the Month from 8:30 am to 10:00 am. \nEBD Committee is focused on enhancing the business capabilities\, efficiency\, and profitability of contractors. This is achieved by fostering project opportunities and establishing vital industry connections \nMeetings are open to members in good standing; registration is required. \n\nRegister Here
URL:https://regionalhca.org/event/rhca-economic-business-committee/2026-01-20/
LOCATION:2210 W. Illinois Avenue\, Dallas\, TX 75224
ATTACH;FMTTYPE=image/png:https://regionalhca.org/wp-content/uploads/2025/12/Screenshot-2025-12-19-at-3.02.12-p.m.png
END:VEVENT
BEGIN:VEVENT
DTSTART;TZID=America/Chicago:20260122T113000
DTEND;TZID=America/Chicago:20260122T130000
DTSTAMP:20260421T123625
CREATED:20251219T230337Z
LAST-MODIFIED:20251219T230337Z
UID:10001091-1769081400-1769086800@regionalhca.org
SUMMARY:RHCA Membership & Ambassador Committee Meeting
DESCRIPTION:RHCA Membership Committee members serve as ambassadors whose primary function is to help retain and recruit members\, execute outreach strategies\, and implement the RHCA membership strategic plan. \nThis committee provides feedback on RHCA programs to ensure they remain of the most benefit to members. Ambassadors are encouraged to attend events and to bring prospects as guests to share RCHA member benefits. \nThe fourth Thursday of the month is from 11:30 am to 1:00 pm. \nMeetings are open to members in good standing; registration is required. \n“Members interested in attending an ambassador meeting\, please call\n972-786-0909.” \nRHCA membership must remain beneficial and valuable and represents a wide range of businesses and groups in the construction industry\, including: \n\narchitecture\, engineering\, construction\, and associated firms\nnew and small businesses\nlarge general contractors\, major corporations\, and governmental agencies\nowners of diverse backgrounds\, including minority and women entrepreneurs\n\nCommittee Functions: \n\nAssists with RHCA membership marketing\nRetains and recruits RHCA members\nExecutes new member orientations\nCoordinates the RHCA Ambassador Program\nAttends and hosts exhibitor tables at expos\, outreach events\, and RHCA events\nFacilitates sponsors and resources for Committee activities.
URL:https://regionalhca.org/event/rhca-membership-ambassador-committee-meeting/2026-01-22/
LOCATION:RHCA Headquarters & Training Center\, 2210 W. Illinois Avenue\, Dallas\, TX\, 75224\, United States
ATTACH;FMTTYPE=image/png:https://regionalhca.org/wp-content/uploads/2025/12/Screenshot-2025-12-19-at-5.00.42-p.m.png
END:VEVENT
BEGIN:VEVENT
DTSTART;TZID=America/Chicago:20260123T080000
DTEND;TZID=America/Chicago:20260123T100000
DTSTAMP:20260421T123625
CREATED:20251219T222403Z
LAST-MODIFIED:20251219T222403Z
UID:10001031-1769155200-1769162400@regionalhca.org
SUMMARY:RHCA Legislative & Public Policy Committee Meeting
DESCRIPTION:RHCA Legislative & Public Policy Committee Meeting \nThis Committee offers a colaborative Platform for educational and informational programs to keep members eithin the architecture engineering\, and construction sectors updated on local\, state\, and federal issues. \nThe second Friday of the Month 8:30 am to 10:00 am Central Time. Meetings are open to members in good standing; registration is required. \nRegister Here \nCommittee Functions:\n\n\nFormulates positions on business and community issues based on their local impact. These positions reflect a consensus within the architecture\, engineering\, and construction business community rather than a unanimous agreement among all members.\n\n\nProposed policy statements can be submitted by any RHCA member\, RHCA Committee\, Board Director\, or the RHCA CEO\, with the preferred route being through an RHCA committee.\n\n\nThe Legislative Committee reviews these submissions and makes recommendations to the RHCA CEO.\n\n\nThe RHCA Executive Committee then considers these recommendations for inclusion on the RHCA Board’s meeting agenda.\n\n\nFacilitates sponsors and resources for Committee activities.
URL:https://regionalhca.org/event/rhca-legislative-public-policy-committee-meeting/
LOCATION:RHCA Headquarters & Training Center\, 2210 W. Illinois Avenue\, Dallas\, TX\, 75224\, United States
ATTACH;FMTTYPE=image/png:https://regionalhca.org/wp-content/uploads/2025/12/Screenshot-2025-12-19-at-3.58.09-p.m.png
END:VEVENT
END:VCALENDAR