BEGIN:VCALENDAR
VERSION:2.0
PRODID:-//Regional Hispanic Contractors Association - ECPv6.15.20//NONSGML v1.0//EN
CALSCALE:GREGORIAN
METHOD:PUBLISH
X-WR-CALNAME:Regional Hispanic Contractors Association
X-ORIGINAL-URL:https://regionalhca.org
X-WR-CALDESC:Events for Regional Hispanic Contractors Association
REFRESH-INTERVAL;VALUE=DURATION:PT1H
X-Robots-Tag:noindex
X-PUBLISHED-TTL:PT1H
BEGIN:VTIMEZONE
TZID:America/Chicago
BEGIN:DAYLIGHT
TZOFFSETFROM:-0600
TZOFFSETTO:-0500
TZNAME:CDT
DTSTART:20250309T080000
END:DAYLIGHT
BEGIN:STANDARD
TZOFFSETFROM:-0500
TZOFFSETTO:-0600
TZNAME:CST
DTSTART:20251102T070000
END:STANDARD
BEGIN:DAYLIGHT
TZOFFSETFROM:-0600
TZOFFSETTO:-0500
TZNAME:CDT
DTSTART:20260308T080000
END:DAYLIGHT
BEGIN:STANDARD
TZOFFSETFROM:-0500
TZOFFSETTO:-0600
TZNAME:CST
DTSTART:20261101T070000
END:STANDARD
BEGIN:DAYLIGHT
TZOFFSETFROM:-0600
TZOFFSETTO:-0500
TZNAME:CDT
DTSTART:20270314T080000
END:DAYLIGHT
BEGIN:STANDARD
TZOFFSETFROM:-0500
TZOFFSETTO:-0600
TZNAME:CST
DTSTART:20271107T070000
END:STANDARD
END:VTIMEZONE
BEGIN:VEVENT
DTSTART;TZID=America/Chicago:20260408T083000
DTEND;TZID=America/Chicago:20260408T100000
DTSTAMP:20260421T083151
CREATED:20251219T215330Z
LAST-MODIFIED:20251219T215330Z
UID:10001022-1775637000-1775642400@regionalhca.org
SUMMARY:RHCA Architecture\, Engineering & Construction Roundtable Committee Meeting
DESCRIPTION:RHCA Architecture\, Engineering & Construction Roundtable Committee Meeting \nRHCA Architecture\, Engineering\, and Construction Committee (AEC) is dedicated to supporting the RHCA’s goal of enhancing business capacity\, efficiency\, and profitability in architecture\, engineering\, and construction. The Committee’s primarily focused on civil\, heavy highway\, and infrastructure project opportunities. \nRegister Here \nThe second Wednesday of the month from 8:30 am to 10:00 am.\n\nMeetings are open to members in good standing; registration is required.
URL:https://regionalhca.org/event/rhca-architecture-engineering-construction-roundtable-committee-meeting/2026-04-08/
LOCATION:RHCA Headquarters & Training Center\, 2210 W. Illinois Avenue\, Dallas\, TX\, 75224\, United States
ATTACH;FMTTYPE=image/png:https://regionalhca.org/wp-content/uploads/2025/12/Screenshot-2025-12-19-at-3.12.58-p.m.png
END:VEVENT
BEGIN:VEVENT
DTSTART;TZID=America/Chicago:20260410T080000
DTEND;TZID=America/Chicago:20260410T163000
DTSTAMP:20260421T083151
CREATED:20260220T205427Z
LAST-MODIFIED:20260220T205427Z
UID:10001128-1775808000-1775838600@regionalhca.org
SUMMARY:Workforce Training Program - Cohorte 7 (Español)
DESCRIPTION:COMPLETELY FREE CONSTRUCTION FUNDAMENTAL CERTIFICATION \nThis certification program has been crafted to deliver the NCCER CORE Curriculum (National Center for Construction Education and Research)\, paving the way for participants to acquire a nationally recognized certification.
URL:https://regionalhca.org/event/workforce-training-program-cohorte-7-espanol/2026-04-10/
LOCATION:RHCA Headquarters  2210 W. Illinois Ave\, Dallas\, TX 75224\, 2210 W. Illinois Ave\, Dallas\, 75224\, United States
CATEGORIES:Workforce Training
ATTACH;FMTTYPE=image/png:https://regionalhca.org/wp-content/uploads/2026/02/Mail-headers-19.png
END:VEVENT
BEGIN:VEVENT
DTSTART;TZID=America/Chicago:20260411T080000
DTEND;TZID=America/Chicago:20260411T123000
DTSTAMP:20260421T083151
CREATED:20260227T172855Z
LAST-MODIFIED:20260402T202500Z
UID:10001714-1775894400-1775910600@regionalhca.org
SUMMARY:Blueprint Reading Class - Dallas - Spanish
DESCRIPTION:Blueprint Reading Class – Dallas – Spanish \n\n\nAn entry-level practical\, hands-on course designed for commercial subcontractors\, estimators\, and field staff who need to read plans accurately for bidding\, estimating\, and construction.\n\n\n\n\nSpanish \nDates\nSaturdays (2 Classes): April 4 – May 16\nFrom 8:00 am – 12:30 pm \nLocation\nRHCA HQ & Training Center\, 2210 W. Illinois Av. Dallas\, Texas 75224
URL:https://regionalhca.org/event/blueprint-reading-class-dallas-spanish/2026-04-11/
LOCATION:2210 W. Illinois Avenue\, Dallas\, TX 75224
CATEGORIES:Small Business Training
ATTACH;FMTTYPE=image/png:https://regionalhca.org/wp-content/uploads/2026/02/Web-cover-73.png
END:VEVENT
END:VCALENDAR