BEGIN:VCALENDAR
VERSION:2.0
PRODID:-//Regional Hispanic Contractors Association - ECPv6.15.20//NONSGML v1.0//EN
CALSCALE:GREGORIAN
METHOD:PUBLISH
X-WR-CALNAME:Regional Hispanic Contractors Association
X-ORIGINAL-URL:https://regionalhca.org
X-WR-CALDESC:Events for Regional Hispanic Contractors Association
REFRESH-INTERVAL;VALUE=DURATION:PT1H
X-Robots-Tag:noindex
X-PUBLISHED-TTL:PT1H
BEGIN:VTIMEZONE
TZID:America/Chicago
BEGIN:DAYLIGHT
TZOFFSETFROM:-0600
TZOFFSETTO:-0500
TZNAME:CDT
DTSTART:20250309T080000
END:DAYLIGHT
BEGIN:STANDARD
TZOFFSETFROM:-0500
TZOFFSETTO:-0600
TZNAME:CST
DTSTART:20251102T070000
END:STANDARD
BEGIN:DAYLIGHT
TZOFFSETFROM:-0600
TZOFFSETTO:-0500
TZNAME:CDT
DTSTART:20260308T080000
END:DAYLIGHT
BEGIN:STANDARD
TZOFFSETFROM:-0500
TZOFFSETTO:-0600
TZNAME:CST
DTSTART:20261101T070000
END:STANDARD
BEGIN:DAYLIGHT
TZOFFSETFROM:-0600
TZOFFSETTO:-0500
TZNAME:CDT
DTSTART:20270314T080000
END:DAYLIGHT
BEGIN:STANDARD
TZOFFSETFROM:-0500
TZOFFSETTO:-0600
TZNAME:CST
DTSTART:20271107T070000
END:STANDARD
END:VTIMEZONE
BEGIN:VEVENT
DTSTART;TZID=America/Chicago:20260420T080000
DTEND;TZID=America/Chicago:20260420T130000
DTSTAMP:20260421T083151
CREATED:20260227T162708Z
LAST-MODIFIED:20260320T145017Z
UID:10002500-1776672000-1776690000@regionalhca.org
SUMMARY:OSHA -  10 Hour - Spanish
DESCRIPTION:OSHA – 10 Hour – Spanish \nMonday\, April 20\, 2026 – 8:00 AM-1:00 AM \nTuesday\, April 21\, 2026 – 8:00 AM-1:00 AM \nRHCA 2210 Illinois Ave\, Dallas\, Texas \nRSVP- https://pci.jotform.com/form/260565040949158 \n 
URL:https://regionalhca.org/event/osha-10-hour-spanish-9/2026-04-20/
LOCATION:2210 W. Illinois Avenue\, Dallas\, TX 75224
CATEGORIES:Safety Training
ATTACH;FMTTYPE=image/png:https://regionalhca.org/wp-content/uploads/2026/01/Screenshot-2026-01-27-at-2.57.55-p.m.png
END:VEVENT
BEGIN:VEVENT
DTSTART;TZID=America/Chicago:20260420T080000
DTEND;TZID=America/Chicago:20260421T130000
DTSTAMP:20260421T083151
CREATED:20260310T194320Z
LAST-MODIFIED:20260312T191911Z
UID:10001730-1776672000-1776776400@regionalhca.org
SUMMARY:OSHA – 10 Hour – English
DESCRIPTION:OSHA – 10 Hour – English \nApril 20 & 21 – 8:00 am – 1:00 pm \n\n\n2210 W Illinois Ave\, Dallas\, TX 75224\n\n\nhttps://pci.jotform.com/form/260675234812154
URL:https://regionalhca.org/event/osha-10-hour-english-4/2026-04-20/
LOCATION:RHCA Headquarters  2210 W. Illinois Ave\, Dallas\, TX 75224\, 2210 W. Illinois Ave\, Dallas\, 75224\, United States
CATEGORIES:Safety Training
ATTACH;FMTTYPE=image/png:https://regionalhca.org/wp-content/uploads/2026/01/Screenshot-2026-01-27-at-2.57.55-p.m.png
END:VEVENT
BEGIN:VEVENT
DTSTART;TZID=America/Chicago:20260421T080000
DTEND;TZID=America/Chicago:20260421T130000
DTSTAMP:20260421T083151
CREATED:20260227T162708Z
LAST-MODIFIED:20260320T145017Z
UID:10002501-1776758400-1776776400@regionalhca.org
SUMMARY:OSHA -  10 Hour - Spanish
DESCRIPTION:OSHA – 10 Hour – Spanish \nMonday\, April 20\, 2026 – 8:00 AM-1:00 AM \nTuesday\, April 21\, 2026 – 8:00 AM-1:00 AM \nRHCA 2210 Illinois Ave\, Dallas\, Texas \nRSVP- https://pci.jotform.com/form/260565040949158 \n 
URL:https://regionalhca.org/event/osha-10-hour-spanish-9/2026-04-21/
LOCATION:2210 W. Illinois Avenue\, Dallas\, TX 75224
CATEGORIES:Safety Training
ATTACH;FMTTYPE=image/png:https://regionalhca.org/wp-content/uploads/2026/01/Screenshot-2026-01-27-at-2.57.55-p.m.png
END:VEVENT
BEGIN:VEVENT
DTSTART;TZID=America/Chicago:20260421T080000
DTEND;TZID=America/Chicago:20260422T130000
DTSTAMP:20260421T083151
CREATED:20260310T194320Z
LAST-MODIFIED:20260312T191911Z
UID:10002110-1776758400-1776862800@regionalhca.org
SUMMARY:OSHA – 10 Hour – English
DESCRIPTION:OSHA – 10 Hour – English \nApril 20 & 21 – 8:00 am – 1:00 pm \n\n\n2210 W Illinois Ave\, Dallas\, TX 75224\n\n\nhttps://pci.jotform.com/form/260675234812154
URL:https://regionalhca.org/event/osha-10-hour-english-4/2026-04-21/
LOCATION:RHCA Headquarters  2210 W. Illinois Ave\, Dallas\, TX 75224\, 2210 W. Illinois Ave\, Dallas\, 75224\, United States
CATEGORIES:Safety Training
ATTACH;FMTTYPE=image/png:https://regionalhca.org/wp-content/uploads/2026/01/Screenshot-2026-01-27-at-2.57.55-p.m.png
END:VEVENT
BEGIN:VEVENT
DTSTART;TZID=America/Chicago:20260421T083000
DTEND;TZID=America/Chicago:20260421T100000
DTSTAMP:20260421T083151
CREATED:20251219T210825Z
LAST-MODIFIED:20251219T210825Z
UID:10001010-1776760200-1776765600@regionalhca.org
SUMMARY:RHCA Economic & Business Committee
DESCRIPTION:RHCA ECONOMIC & BUSINESS DEVELOPMENT COMMITTEE MEETING\n\n\n\n\nThe third Tuesday of the Month from 8:30 am to 10:00 am. \nEBD Committee is focused on enhancing the business capabilities\, efficiency\, and profitability of contractors. This is achieved by fostering project opportunities and establishing vital industry connections \nMeetings are open to members in good standing; registration is required. \n\nRegister Here
URL:https://regionalhca.org/event/rhca-economic-business-committee/2026-04-21/
LOCATION:2210 W. Illinois Avenue\, Dallas\, TX 75224
ATTACH;FMTTYPE=image/png:https://regionalhca.org/wp-content/uploads/2025/12/Screenshot-2025-12-19-at-3.02.12-p.m.png
END:VEVENT
BEGIN:VEVENT
DTSTART;TZID=America/Chicago:20260421T113000
DTEND;TZID=America/Chicago:20260421T130000
DTSTAMP:20260421T083151
CREATED:20260416T204907Z
LAST-MODIFIED:20260416T204907Z
UID:10002553-1776771000-1776776400@regionalhca.org
SUMMARY:NTTA Business Opportunities Stakeholder Session
DESCRIPTION:Discover upcoming contracting opportunities with NTTA\, connect with our leadership as well as industry peers and learn how to grow your business. You will also have the opportunity to network and gain valuable insights on how to do business with NTTA during this focused session. \n\n\nDallas College West Dallas Center\n3330 N. Hampton Rd.\, Dallas\, TX 75212 \n\n\n\n\n\n\n\nApr 21\, 2026 11:30am CT – Apr 21\, 2026 01:00pm CT\n\n\n\n\n\n\n\nRegister Here \n\n\n\n\n\n\n\n\n\n\n\n\n\n\n\n\n\n 
URL:https://regionalhca.org/event/ntta-business-opportunities-stakeholder-session/
LOCATION:3330 N. Hampton Rd.\, Dallas\, TX 75212\, 3330 N. Hampton Rd.\, Dallas\, 75212\, United States
ATTACH;FMTTYPE=image/png:https://regionalhca.org/wp-content/uploads/2026/04/Screenshot-2026-04-16-at-3.46.54-p.m.png
END:VEVENT
BEGIN:VEVENT
DTSTART;TZID=America/Chicago:20260422T113000
DTEND;TZID=America/Chicago:20260422T130000
DTSTAMP:20260421T083151
CREATED:20260330T192334Z
LAST-MODIFIED:20260417T182247Z
UID:10002506-1776857400-1776862800@regionalhca.org
SUMMARY:Lunch & Learn: Employee vs Contractor: What Business Owners Need to Know
DESCRIPTION:By Economic Growth Business Incubator\n\n\n\nEconomic Growth Business Incubator (EGBI)Austin\, TX\n\n\nWednesday\, Apr 22 from 11:30 am to 1 pm\n\n\nRegister Here\n\n\nOverview\n\n\n\n\nUnderstand employee vs. independent contractor classification\, when and how to categorize\, and protect your business from costly mistakes. \n\n\n\n\nLa descripción está disponible en español a continuación. \nLunch & Learn: Employee vs. Independent Contractor: What Small Business Owners Need to Know\nThis interactive Lunch & Learn is designed to help business owners understand the key differences between employees and independent contractors and how to properly classify their workforce. Participants will learn when and how to categorize workers\, the responsibilities that come with each classification\, and the potential risks and consequences of misclassification. \nWe’ll break down real-world scenarios\, explain common mistakes businesses make\, and provide practical guidance to help you protect your business\, stay compliant\, and make informed decisions as you grow. \nBy the end of the session\, participants will have a clearer understanding of worker classification and how to apply best practices to their own business operations. \nWho should attend? \n\nBusiness owners who hire or plan to hire employees or independent contractors\nBusinesses looking to grow their team while avoiding costly compliance issues\nAspiring business owners who plan to add employees in the future\n\nLight lunch will be provided. \nAbout the Speaker: \nVanessa Gonzalez is a partner at her law firm\, Bickerstaff Heath Delgado Acosta LLP. She has been practicing employment law for over 25 years and is board-certified in labor and employment law by the Texas Board of Legal Specialization since 2005. Ms. Gonzalez is originally from Brownsville\, Texas\, and after completing her bachelor’s degree at Texas A&M University\, she received her law degree from the University of Texas School of Law. Ms. Gonzalez gives legal counsel to businesses to comply with all of the state and federal employment laws and represents small businesses when claims are made by their employees\, and also in contract preparations\, negotiations\, and disputes. \n————————————————————————————————— \nLunch & Learn: Empleado vs. Contratista Independiente: Lo que los dueños de negocios deben saber\nEste Lunch & Learn interactivo está diseñado para ayudar a los dueños de negocios a comprender las diferencias clave entre empleados y contratistas independientes\, y cómo clasificar correctamente a su fuerza laboral. Los participantes aprenderán cuándo y cómo categorizar a los trabajadores\, las responsabilidades que conlleva cada clasificación y los posibles riesgos y consecuencias de una clasificación incorrecta. \nAnalizaremos escenarios del mundo real\, explicaremos errores comunes que cometen los negocios y brindaremos orientación práctica para ayudarle a proteger su negocio\, cumplir con las leyes laborales y tomar decisiones informadas a medida que crece. \nAl final de la sesión\, los participantes tendrán una comprensión más clara de la clasificación de trabajadores y de cómo aplicar las mejores prácticas en sus propias operaciones comerciales. \n¿Quiénes deberían asistir? \n\nDueños de negocios que contratan o planean contratar empleados o contratistas independientes\nNegocios que buscan hacer crecer su equipo evitando penalizaciones de incumplimiento\nPersonas con intenciones de abrir un negocio que planean agregar empleados a su negocio en el futuro\n\nSe ofrecerá un almuerzo ligero. \nSobre la conferencista:\nVanessa González es socia de su firma legal\, Bickerstaff Heath Delgado Acosta LLP. Cuenta con más de 25 años de experiencia en derecho laboral y de empleo\, y está certificada por la Junta de Especialización Legal de Texas en derecho laboral y de empleo desde 2005. La Sra. González es originaria de Brownsville\, Texas. Después de completar su licenciatura en la Universidad de Texas A&M\, obtuvo su título de abogada en la Facultad de Derecho de la Universidad de Texas. La Sra. González asesora legalmente a empresas y negocios para cumplir con las leyes laborales estatales y federales\, representa a negocios cuando enfrentan reclamaciones de sus empleados y también apoya en la preparación\, negociación y resolución de contratos. \nHabrá interpretación simultánea disponible para personas de habla hispana
URL:https://regionalhca.org/event/lunch-learn-employee-vs-contractor-what-business-owners-need-to-know/
LOCATION:1144 Airport Boulevard  #260 Austin\, TX 78702\, 144 Airport Boulevard #260\, Austin\, 78702\, United States
ATTACH;FMTTYPE=image/png:https://regionalhca.org/wp-content/uploads/2026/03/LUNCH-AND-LEARNS-ENG-April-22nd.png
END:VEVENT
BEGIN:VEVENT
DTSTART;TZID=America/Chicago:20260422T150000
DTEND;TZID=America/Chicago:20260422T170000
DTSTAMP:20260421T083151
CREATED:20260415T204007Z
LAST-MODIFIED:20260415T205405Z
UID:10002550-1776870000-1776877200@regionalhca.org
SUMMARY:Port Houston Construction Contractors Forum
DESCRIPTION:Wednesday\, April 22\, 2026 \n3:00 PM – 5:00 PM \nExecutive Office Building \n111 East Loop North\, Houston\, Texas 77029 \nRegister Here
URL:https://regionalhca.org/event/port-houston-construction-contractors-forum/
LOCATION:111 East Loop North\, Houston\, Texas 77029\, 111 East Loop North\, Houston\, 77029\, United States
ATTACH;FMTTYPE=image/png:https://regionalhca.org/wp-content/uploads/2026/04/Screenshot-2026-04-15-at-3.37.29-p.m.png
END:VEVENT
BEGIN:VEVENT
DTSTART;TZID=America/Chicago:20260423T113000
DTEND;TZID=America/Chicago:20260423T130000
DTSTAMP:20260421T083151
CREATED:20251219T230337Z
LAST-MODIFIED:20251219T230337Z
UID:10001094-1776943800-1776949200@regionalhca.org
SUMMARY:RHCA Membership & Ambassador Committee Meeting
DESCRIPTION:RHCA Membership Committee members serve as ambassadors whose primary function is to help retain and recruit members\, execute outreach strategies\, and implement the RHCA membership strategic plan. \nThis committee provides feedback on RHCA programs to ensure they remain of the most benefit to members. Ambassadors are encouraged to attend events and to bring prospects as guests to share RCHA member benefits. \nThe fourth Thursday of the month is from 11:30 am to 1:00 pm. \nMeetings are open to members in good standing; registration is required. \n“Members interested in attending an ambassador meeting\, please call\n972-786-0909.” \nRHCA membership must remain beneficial and valuable and represents a wide range of businesses and groups in the construction industry\, including: \n\narchitecture\, engineering\, construction\, and associated firms\nnew and small businesses\nlarge general contractors\, major corporations\, and governmental agencies\nowners of diverse backgrounds\, including minority and women entrepreneurs\n\nCommittee Functions: \n\nAssists with RHCA membership marketing\nRetains and recruits RHCA members\nExecutes new member orientations\nCoordinates the RHCA Ambassador Program\nAttends and hosts exhibitor tables at expos\, outreach events\, and RHCA events\nFacilitates sponsors and resources for Committee activities.
URL:https://regionalhca.org/event/rhca-membership-ambassador-committee-meeting/2026-04-23/
LOCATION:RHCA Headquarters & Training Center\, 2210 W. Illinois Avenue\, Dallas\, TX\, 75224\, United States
ATTACH;FMTTYPE=image/png:https://regionalhca.org/wp-content/uploads/2025/12/Screenshot-2025-12-19-at-5.00.42-p.m.png
END:VEVENT
BEGIN:VEVENT
DTSTART;TZID=America/Chicago:20260424T080000
DTEND;TZID=America/Chicago:20260424T163000
DTSTAMP:20260421T083151
CREATED:20260220T205427Z
LAST-MODIFIED:20260220T205427Z
UID:10001130-1777017600-1777048200@regionalhca.org
SUMMARY:Workforce Training Program - Cohorte 7 (Español)
DESCRIPTION:COMPLETELY FREE CONSTRUCTION FUNDAMENTAL CERTIFICATION \nThis certification program has been crafted to deliver the NCCER CORE Curriculum (National Center for Construction Education and Research)\, paving the way for participants to acquire a nationally recognized certification.
URL:https://regionalhca.org/event/workforce-training-program-cohorte-7-espanol/2026-04-24/
LOCATION:RHCA Headquarters  2210 W. Illinois Ave\, Dallas\, TX 75224\, 2210 W. Illinois Ave\, Dallas\, 75224\, United States
CATEGORIES:Workforce Training
ATTACH;FMTTYPE=image/png:https://regionalhca.org/wp-content/uploads/2026/02/Mail-headers-19.png
END:VEVENT
END:VCALENDAR