BEGIN:VCALENDAR
VERSION:2.0
PRODID:-//Regional Hispanic Contractors Association - ECPv6.15.20//NONSGML v1.0//EN
CALSCALE:GREGORIAN
METHOD:PUBLISH
X-WR-CALNAME:Regional Hispanic Contractors Association
X-ORIGINAL-URL:https://regionalhca.org
X-WR-CALDESC:Events for Regional Hispanic Contractors Association
REFRESH-INTERVAL;VALUE=DURATION:PT1H
X-Robots-Tag:noindex
X-PUBLISHED-TTL:PT1H
BEGIN:VTIMEZONE
TZID:America/Chicago
BEGIN:DAYLIGHT
TZOFFSETFROM:-0600
TZOFFSETTO:-0500
TZNAME:CDT
DTSTART:20250309T080000
END:DAYLIGHT
BEGIN:STANDARD
TZOFFSETFROM:-0500
TZOFFSETTO:-0600
TZNAME:CST
DTSTART:20251102T070000
END:STANDARD
BEGIN:DAYLIGHT
TZOFFSETFROM:-0600
TZOFFSETTO:-0500
TZNAME:CDT
DTSTART:20260308T080000
END:DAYLIGHT
BEGIN:STANDARD
TZOFFSETFROM:-0500
TZOFFSETTO:-0600
TZNAME:CST
DTSTART:20261101T070000
END:STANDARD
BEGIN:DAYLIGHT
TZOFFSETFROM:-0600
TZOFFSETTO:-0500
TZNAME:CDT
DTSTART:20270314T080000
END:DAYLIGHT
BEGIN:STANDARD
TZOFFSETFROM:-0500
TZOFFSETTO:-0600
TZNAME:CST
DTSTART:20271107T070000
END:STANDARD
END:VTIMEZONE
BEGIN:VEVENT
DTSTART;TZID=America/Chicago:20260506T083000
DTEND;TZID=America/Chicago:20260506T100000
DTSTAMP:20260421T083953
CREATED:20251219T225928Z
LAST-MODIFIED:20251219T225928Z
UID:10001036-1778056200-1778061600@regionalhca.org
SUMMARY:RHCA Safety Council Meeting
DESCRIPTION:RHCA Safety Council serves as a subject matter expert panel to advise the RHCA on construction safety issues and health matters by providing health and safety field input and perspective. Develops the RHCA Construction Safety Program\, provides guidance\, and reviews the resolution of construction safety issues. \nThe First Wednesday of the Month 8:30 am to 10:00 am Central Time. Meetings are open to members in good standing; registration is required. \nRegister Here \nCommittee Functions: \n\nActs as a resource for Construction Safety instructors\nRecommends training topics and speakers\nAssists with RHCA Safety activities\nAssists with grant research and submittals\nAssists with annual events:\n\nOSHA Safety Stand-Down\nTexas-wide RHCA Day of the Construction Worker\nNational Safe + Sound Week\n\n\nFacilitates sponsors and resources for Committee activities.
URL:https://regionalhca.org/event/rhca-safety-council-meeting-2/2026-05-06/
LOCATION:RHCA Headquarters  2210 W. Illinois Ave\, Dallas\, TX 75224\, 2210 W. Illinois Ave\, Dallas\, 75224\, United States
ATTACH;FMTTYPE=image/png:https://regionalhca.org/wp-content/uploads/2025/12/Screenshot-2025-12-19-at-4.53.36-p.m-1.png
END:VEVENT
BEGIN:VEVENT
DTSTART;TZID=America/Chicago:20260507T080000
DTEND;TZID=America/Chicago:20260507T123000
DTSTAMP:20260421T083953
CREATED:20260312T205035Z
LAST-MODIFIED:20260402T201423Z
UID:10002483-1778140800-1778157000@regionalhca.org
SUMMARY:Blueprint Reading Class - English - Houston
DESCRIPTION:Blueprint Reading Class – Houston – English \nAn entry-level practical\, hands-on course designed for commercial subcontractors\, estimators\, and field staff who need to read plans accurately for bidding\, estimating\, and construction. \nThursdays: April 30 – June 18\nFrom 8:00 am – 12:30 pm \nLocation\nRHCA Houston Training Center – 7047 Harrisburg Blvd 7701
URL:https://regionalhca.org/event/blueprint-reading-class-english-houston/2026-05-07/
LOCATION:7047 Harrisburg Blvd.\, Houston\, TX 77011
CATEGORIES:Small Business Training
ATTACH;FMTTYPE=image/png:https://regionalhca.org/wp-content/uploads/2026/02/Web-cover-73.png
END:VEVENT
BEGIN:VEVENT
DTSTART;TZID=America/Chicago:20260508T080000
DTEND;TZID=America/Chicago:20260508T163000
DTSTAMP:20260421T083953
CREATED:20260220T205427Z
LAST-MODIFIED:20260220T205427Z
UID:10001132-1778227200-1778257800@regionalhca.org
SUMMARY:Workforce Training Program - Cohorte 7 (Español)
DESCRIPTION:COMPLETELY FREE CONSTRUCTION FUNDAMENTAL CERTIFICATION \nThis certification program has been crafted to deliver the NCCER CORE Curriculum (National Center for Construction Education and Research)\, paving the way for participants to acquire a nationally recognized certification.
URL:https://regionalhca.org/event/workforce-training-program-cohorte-7-espanol/2026-05-08/
LOCATION:RHCA Headquarters  2210 W. Illinois Ave\, Dallas\, TX 75224\, 2210 W. Illinois Ave\, Dallas\, 75224\, United States
CATEGORIES:Workforce Training
ATTACH;FMTTYPE=image/png:https://regionalhca.org/wp-content/uploads/2026/02/Mail-headers-19.png
END:VEVENT
BEGIN:VEVENT
DTSTART;TZID=America/Chicago:20260509T080000
DTEND;TZID=America/Chicago:20260509T123000
DTSTAMP:20260421T083953
CREATED:20260227T172855Z
LAST-MODIFIED:20260402T202500Z
UID:10001717-1778313600-1778329800@regionalhca.org
SUMMARY:Blueprint Reading Class - Dallas - Spanish
DESCRIPTION:Blueprint Reading Class – Dallas – Spanish \n\n\nAn entry-level practical\, hands-on course designed for commercial subcontractors\, estimators\, and field staff who need to read plans accurately for bidding\, estimating\, and construction.\n\n\n\n\nSpanish \nDates\nSaturdays (2 Classes): April 4 – May 16\nFrom 8:00 am – 12:30 pm \nLocation\nRHCA HQ & Training Center\, 2210 W. Illinois Av. Dallas\, Texas 75224
URL:https://regionalhca.org/event/blueprint-reading-class-dallas-spanish/2026-05-09/
LOCATION:2210 W. Illinois Avenue\, Dallas\, TX 75224
CATEGORIES:Small Business Training
ATTACH;FMTTYPE=image/png:https://regionalhca.org/wp-content/uploads/2026/02/Web-cover-73.png
END:VEVENT
END:VCALENDAR