BEGIN:VCALENDAR
VERSION:2.0
PRODID:-//Regional Hispanic Contractors Association - ECPv6.15.20//NONSGML v1.0//EN
CALSCALE:GREGORIAN
METHOD:PUBLISH
X-WR-CALNAME:Regional Hispanic Contractors Association
X-ORIGINAL-URL:https://regionalhca.org
X-WR-CALDESC:Events for Regional Hispanic Contractors Association
REFRESH-INTERVAL;VALUE=DURATION:PT1H
X-Robots-Tag:noindex
X-PUBLISHED-TTL:PT1H
BEGIN:VTIMEZONE
TZID:America/Chicago
BEGIN:DAYLIGHT
TZOFFSETFROM:-0600
TZOFFSETTO:-0500
TZNAME:CDT
DTSTART:20250309T080000
END:DAYLIGHT
BEGIN:STANDARD
TZOFFSETFROM:-0500
TZOFFSETTO:-0600
TZNAME:CST
DTSTART:20251102T070000
END:STANDARD
BEGIN:DAYLIGHT
TZOFFSETFROM:-0600
TZOFFSETTO:-0500
TZNAME:CDT
DTSTART:20260308T080000
END:DAYLIGHT
BEGIN:STANDARD
TZOFFSETFROM:-0500
TZOFFSETTO:-0600
TZNAME:CST
DTSTART:20261101T070000
END:STANDARD
BEGIN:DAYLIGHT
TZOFFSETFROM:-0600
TZOFFSETTO:-0500
TZNAME:CDT
DTSTART:20270314T080000
END:DAYLIGHT
BEGIN:STANDARD
TZOFFSETFROM:-0500
TZOFFSETTO:-0600
TZNAME:CST
DTSTART:20271107T070000
END:STANDARD
END:VTIMEZONE
BEGIN:VEVENT
DTSTART;TZID=America/Chicago:20260616T083000
DTEND;TZID=America/Chicago:20260616T100000
DTSTAMP:20260421T125259
CREATED:20251219T210825Z
LAST-MODIFIED:20251219T210825Z
UID:10001012-1781598600-1781604000@regionalhca.org
SUMMARY:RHCA Economic & Business Committee
DESCRIPTION:RHCA ECONOMIC & BUSINESS DEVELOPMENT COMMITTEE MEETING\n\n\n\n\nThe third Tuesday of the Month from 8:30 am to 10:00 am. \nEBD Committee is focused on enhancing the business capabilities\, efficiency\, and profitability of contractors. This is achieved by fostering project opportunities and establishing vital industry connections \nMeetings are open to members in good standing; registration is required. \n\nRegister Here
URL:https://regionalhca.org/event/rhca-economic-business-committee/2026-06-16/
LOCATION:2210 W. Illinois Avenue\, Dallas\, TX 75224
ATTACH;FMTTYPE=image/png:https://regionalhca.org/wp-content/uploads/2025/12/Screenshot-2025-12-19-at-3.02.12-p.m.png
END:VEVENT
BEGIN:VEVENT
DTSTART;TZID=America/Chicago:20260618T080000
DTEND;TZID=America/Chicago:20260618T123000
DTSTAMP:20260421T125259
CREATED:20260312T205035Z
LAST-MODIFIED:20260402T201423Z
UID:10002546-1781769600-1781785800@regionalhca.org
SUMMARY:Blueprint Reading Class - English - Houston
DESCRIPTION:Blueprint Reading Class – Houston – English \nAn entry-level practical\, hands-on course designed for commercial subcontractors\, estimators\, and field staff who need to read plans accurately for bidding\, estimating\, and construction. \nThursdays: April 30 – June 18\nFrom 8:00 am – 12:30 pm \nLocation\nRHCA Houston Training Center – 7047 Harrisburg Blvd 7701
URL:https://regionalhca.org/event/blueprint-reading-class-english-houston/2026-06-18/
LOCATION:7047 Harrisburg Blvd.\, Houston\, TX 77011
CATEGORIES:Small Business Training
ATTACH;FMTTYPE=image/png:https://regionalhca.org/wp-content/uploads/2026/02/Web-cover-73.png
END:VEVENT
BEGIN:VEVENT
DTSTART;TZID=America/Chicago:20260619T080000
DTEND;TZID=America/Chicago:20260619T160000
DTSTAMP:20260421T125259
CREATED:20260402T164744Z
LAST-MODIFIED:20260402T195056Z
UID:10002518-1781856000-1781884800@regionalhca.org
SUMMARY:NCCER Construction Workforce Training Cohort 8 English
DESCRIPTION:NCCER Construction Workforce Training \nCohort 8 – English \nFriday May 15\, 2026 to Friday\, July 17\, 2026 \nRegister Here \nFridays\, 8:00 am – 4:00 pm \n 
URL:https://regionalhca.org/event/nccer-construction-workforce-training/2026-06-19/
LOCATION:RHCA Headquarters & Training Center\, 2210 W. Illinois Avenue\, Dallas\, TX\, 75224\, United States
CATEGORIES:Workforce Training
ATTACH;FMTTYPE=image/png:https://regionalhca.org/wp-content/uploads/2026/02/Mail-headers-19.png
END:VEVENT
BEGIN:VEVENT
DTSTART;TZID=America/Chicago:20260619T080000
DTEND;TZID=America/Chicago:20260619T160000
DTSTAMP:20260421T125259
CREATED:20260402T193502Z
LAST-MODIFIED:20260402T195147Z
UID:10002537-1781856000-1781884800@regionalhca.org
SUMMARY:NCCER Construction Workforce Training Cohort 9 Spanish
DESCRIPTION:NCCER Construction Workforce Training \nCohort 9 – Español \nViernes\, 15 de Mayo\, 2026 a Viernes\, 17 de Julio\, 2026 \nRegístrate Aquí \nViernes\, 8:00 am – 4:00 pm \n 
URL:https://regionalhca.org/event/nccer-construction-workforce-training-2-2/2026-06-19/
LOCATION:RHCA Headquarters & Training Center\, 2210 W. Illinois Avenue\, Dallas\, TX\, 75224\, United States
CATEGORIES:Workforce Training
ATTACH;FMTTYPE=image/png:https://regionalhca.org/wp-content/uploads/2026/02/Mail-headers-19.png
END:VEVENT
BEGIN:VEVENT
DTSTART;TZID=America/Chicago:20260619T080000
DTEND;TZID=America/Chicago:20260619T163000
DTSTAMP:20260421T125259
CREATED:20260220T205427Z
LAST-MODIFIED:20260220T205427Z
UID:10001138-1781856000-1781886600@regionalhca.org
SUMMARY:Workforce Training Program - Cohorte 7 (Español)
DESCRIPTION:COMPLETELY FREE CONSTRUCTION FUNDAMENTAL CERTIFICATION \nThis certification program has been crafted to deliver the NCCER CORE Curriculum (National Center for Construction Education and Research)\, paving the way for participants to acquire a nationally recognized certification.
URL:https://regionalhca.org/event/workforce-training-program-cohorte-7-espanol/2026-06-19/
LOCATION:RHCA Headquarters  2210 W. Illinois Ave\, Dallas\, TX 75224\, 2210 W. Illinois Ave\, Dallas\, 75224\, United States
CATEGORIES:Workforce Training
ATTACH;FMTTYPE=image/png:https://regionalhca.org/wp-content/uploads/2026/02/Mail-headers-19.png
END:VEVENT
END:VCALENDAR