BEGIN:VCALENDAR
VERSION:2.0
PRODID:-//Regional Hispanic Contractors Association - ECPv6.15.20//NONSGML v1.0//EN
CALSCALE:GREGORIAN
METHOD:PUBLISH
X-ORIGINAL-URL:https://regionalhca.org
X-WR-CALDESC:Events for Regional Hispanic Contractors Association
REFRESH-INTERVAL;VALUE=DURATION:PT1H
X-Robots-Tag:noindex
X-PUBLISHED-TTL:PT1H
BEGIN:VTIMEZONE
TZID:America/Chicago
BEGIN:DAYLIGHT
TZOFFSETFROM:-0600
TZOFFSETTO:-0500
TZNAME:CDT
DTSTART:20250309T080000
END:DAYLIGHT
BEGIN:STANDARD
TZOFFSETFROM:-0500
TZOFFSETTO:-0600
TZNAME:CST
DTSTART:20251102T070000
END:STANDARD
BEGIN:DAYLIGHT
TZOFFSETFROM:-0600
TZOFFSETTO:-0500
TZNAME:CDT
DTSTART:20260308T080000
END:DAYLIGHT
BEGIN:STANDARD
TZOFFSETFROM:-0500
TZOFFSETTO:-0600
TZNAME:CST
DTSTART:20261101T070000
END:STANDARD
BEGIN:DAYLIGHT
TZOFFSETFROM:-0600
TZOFFSETTO:-0500
TZNAME:CDT
DTSTART:20270314T080000
END:DAYLIGHT
BEGIN:STANDARD
TZOFFSETFROM:-0500
TZOFFSETTO:-0600
TZNAME:CST
DTSTART:20271107T070000
END:STANDARD
END:VTIMEZONE
BEGIN:VEVENT
DTSTART;TZID=America/Chicago:20260703T080000
DTEND;TZID=America/Chicago:20260703T160000
DTSTAMP:20260421T123625
CREATED:20260402T164744Z
LAST-MODIFIED:20260402T195056Z
UID:10002520-1783065600-1783094400@regionalhca.org
SUMMARY:NCCER Construction Workforce Training Cohort 8 English
DESCRIPTION:NCCER Construction Workforce Training \nCohort 8 – English \nFriday May 15\, 2026 to Friday\, July 17\, 2026 \nRegister Here \nFridays\, 8:00 am – 4:00 pm \n 
URL:https://regionalhca.org/event/nccer-construction-workforce-training/2026-07-03/
LOCATION:RHCA Headquarters & Training Center\, 2210 W. Illinois Avenue\, Dallas\, TX\, 75224\, United States
CATEGORIES:Workforce Training
ATTACH;FMTTYPE=image/png:https://regionalhca.org/wp-content/uploads/2026/02/Mail-headers-19.png
END:VEVENT
BEGIN:VEVENT
DTSTART;TZID=America/Chicago:20260703T080000
DTEND;TZID=America/Chicago:20260703T160000
DTSTAMP:20260421T123625
CREATED:20260402T193502Z
LAST-MODIFIED:20260402T195147Z
UID:10002539-1783065600-1783094400@regionalhca.org
SUMMARY:NCCER Construction Workforce Training Cohort 9 Spanish
DESCRIPTION:NCCER Construction Workforce Training \nCohort 9 – Español \nViernes\, 15 de Mayo\, 2026 a Viernes\, 17 de Julio\, 2026 \nRegístrate Aquí \nViernes\, 8:00 am – 4:00 pm \n 
URL:https://regionalhca.org/event/nccer-construction-workforce-training-2-2/2026-07-03/
LOCATION:RHCA Headquarters & Training Center\, 2210 W. Illinois Avenue\, Dallas\, TX\, 75224\, United States
CATEGORIES:Workforce Training
ATTACH;FMTTYPE=image/png:https://regionalhca.org/wp-content/uploads/2026/02/Mail-headers-19.png
END:VEVENT
BEGIN:VEVENT
DTSTART;TZID=America/Chicago:20260703T080000
DTEND;TZID=America/Chicago:20260703T163000
DTSTAMP:20260421T123625
CREATED:20260220T205427Z
LAST-MODIFIED:20260220T205427Z
UID:10001140-1783065600-1783096200@regionalhca.org
SUMMARY:Workforce Training Program - Cohorte 7 (Español)
DESCRIPTION:COMPLETELY FREE CONSTRUCTION FUNDAMENTAL CERTIFICATION \nThis certification program has been crafted to deliver the NCCER CORE Curriculum (National Center for Construction Education and Research)\, paving the way for participants to acquire a nationally recognized certification.
URL:https://regionalhca.org/event/workforce-training-program-cohorte-7-espanol/2026-07-03/
LOCATION:RHCA Headquarters  2210 W. Illinois Ave\, Dallas\, TX 75224\, 2210 W. Illinois Ave\, Dallas\, 75224\, United States
CATEGORIES:Workforce Training
ATTACH;FMTTYPE=image/png:https://regionalhca.org/wp-content/uploads/2026/02/Mail-headers-19.png
END:VEVENT
END:VCALENDAR