BEGIN:VCALENDAR
VERSION:2.0
PRODID:-//Regional Hispanic Contractors Association - ECPv6.15.20//NONSGML v1.0//EN
CALSCALE:GREGORIAN
METHOD:PUBLISH
X-WR-CALNAME:Regional Hispanic Contractors Association
X-ORIGINAL-URL:https://regionalhca.org
X-WR-CALDESC:Events for Regional Hispanic Contractors Association
REFRESH-INTERVAL;VALUE=DURATION:PT1H
X-Robots-Tag:noindex
X-PUBLISHED-TTL:PT1H
BEGIN:VTIMEZONE
TZID:America/Chicago
BEGIN:DAYLIGHT
TZOFFSETFROM:-0600
TZOFFSETTO:-0500
TZNAME:CDT
DTSTART:20250309T080000
END:DAYLIGHT
BEGIN:STANDARD
TZOFFSETFROM:-0500
TZOFFSETTO:-0600
TZNAME:CST
DTSTART:20251102T070000
END:STANDARD
BEGIN:DAYLIGHT
TZOFFSETFROM:-0600
TZOFFSETTO:-0500
TZNAME:CDT
DTSTART:20260308T080000
END:DAYLIGHT
BEGIN:STANDARD
TZOFFSETFROM:-0500
TZOFFSETTO:-0600
TZNAME:CST
DTSTART:20261101T070000
END:STANDARD
BEGIN:DAYLIGHT
TZOFFSETFROM:-0600
TZOFFSETTO:-0500
TZNAME:CDT
DTSTART:20270314T080000
END:DAYLIGHT
BEGIN:STANDARD
TZOFFSETFROM:-0500
TZOFFSETTO:-0600
TZNAME:CST
DTSTART:20271107T070000
END:STANDARD
END:VTIMEZONE
BEGIN:VEVENT
DTSTART;TZID=America/Chicago:20261013T080000
DTEND;TZID=America/Chicago:20261013T133000
DTSTAMP:20260421T180302
CREATED:20260128T225848Z
LAST-MODIFIED:20260128T225848Z
UID:10001113-1791878400-1791898200@regionalhca.org
SUMMARY:Building Blocks of Business Success
DESCRIPTION:The Building Blocks of Business Success seminars are tailored for small business owners and are designed to equip them with essential tools and strategies for growth and success in the market. \nMonthly workshops. \nTuesday\, February 10\, 2026\, 11:00 am – 1:30 pm \nRHCA Houston HQ & Training Center\, 7047 Harrisburg Blvd\, Houston\, TX 77011  \nSpeakers \n\nHouston City College – Veronica Douglas\nGoldman Sachs 10\,000 Small Business – Melissa Ngome\nSubcontractors USA – Chivon Jones\nSouthEast Fabricators and Erector’s LLC – Claudia Baca-Ruiz\nCity of Houston – Alejandro Guajardo MBA\n\nRegister Here \n 
URL:https://regionalhca.org/event/building-blocks-of-business-success/2026-10-13/
LOCATION:7047 Harrisburg Blvd\, Houston\, TX 77011\, 7047 Harrisburg Blvd\, Houston\, 77011\, United States
CATEGORIES:Small Business Training
ATTACH;FMTTYPE=image/png:https://regionalhca.org/wp-content/uploads/2026/01/Screenshot-2026-01-28-at-4.55.57-p.m.png
END:VEVENT
BEGIN:VEVENT
DTSTART;TZID=America/Chicago:20261014T083000
DTEND;TZID=America/Chicago:20261014T100000
DTSTAMP:20260421T180302
CREATED:20251219T215330Z
LAST-MODIFIED:20251219T215330Z
UID:10001027-1791966600-1791972000@regionalhca.org
SUMMARY:RHCA Architecture\, Engineering & Construction Roundtable Committee Meeting
DESCRIPTION:RHCA Architecture\, Engineering & Construction Roundtable Committee Meeting \nRHCA Architecture\, Engineering\, and Construction Committee (AEC) is dedicated to supporting the RHCA’s goal of enhancing business capacity\, efficiency\, and profitability in architecture\, engineering\, and construction. The Committee’s primarily focused on civil\, heavy highway\, and infrastructure project opportunities. \nRegister Here \nThe second Wednesday of the month from 8:30 am to 10:00 am.\n\nMeetings are open to members in good standing; registration is required.
URL:https://regionalhca.org/event/rhca-architecture-engineering-construction-roundtable-committee-meeting/2026-10-14/
LOCATION:RHCA Headquarters & Training Center\, 2210 W. Illinois Avenue\, Dallas\, TX\, 75224\, United States
ATTACH;FMTTYPE=image/png:https://regionalhca.org/wp-content/uploads/2025/12/Screenshot-2025-12-19-at-3.12.58-p.m.png
END:VEVENT
BEGIN:VEVENT
DTSTART;TZID=America/Chicago:20261016T080000
DTEND;TZID=America/Chicago:20261016T163000
DTSTAMP:20260421T180302
CREATED:20260220T205427Z
LAST-MODIFIED:20260220T205427Z
UID:10001155-1792137600-1792168200@regionalhca.org
SUMMARY:Workforce Training Program - Cohorte 7 (Español)
DESCRIPTION:COMPLETELY FREE CONSTRUCTION FUNDAMENTAL CERTIFICATION \nThis certification program has been crafted to deliver the NCCER CORE Curriculum (National Center for Construction Education and Research)\, paving the way for participants to acquire a nationally recognized certification.
URL:https://regionalhca.org/event/workforce-training-program-cohorte-7-espanol/2026-10-16/
LOCATION:RHCA Headquarters  2210 W. Illinois Ave\, Dallas\, TX 75224\, 2210 W. Illinois Ave\, Dallas\, 75224\, United States
CATEGORIES:Workforce Training
ATTACH;FMTTYPE=image/png:https://regionalhca.org/wp-content/uploads/2026/02/Mail-headers-19.png
END:VEVENT
END:VCALENDAR