BEGIN:VCALENDAR
VERSION:2.0
PRODID:-//Regional Hispanic Contractors Association - ECPv6.15.20//NONSGML v1.0//EN
CALSCALE:GREGORIAN
METHOD:PUBLISH
X-WR-CALNAME:Regional Hispanic Contractors Association
X-ORIGINAL-URL:https://regionalhca.org
X-WR-CALDESC:Events for Regional Hispanic Contractors Association
REFRESH-INTERVAL;VALUE=DURATION:PT1H
X-Robots-Tag:noindex
X-PUBLISHED-TTL:PT1H
BEGIN:VTIMEZONE
TZID:America/Chicago
BEGIN:DAYLIGHT
TZOFFSETFROM:-0600
TZOFFSETTO:-0500
TZNAME:CDT
DTSTART:20250309T080000
END:DAYLIGHT
BEGIN:STANDARD
TZOFFSETFROM:-0500
TZOFFSETTO:-0600
TZNAME:CST
DTSTART:20251102T070000
END:STANDARD
BEGIN:DAYLIGHT
TZOFFSETFROM:-0600
TZOFFSETTO:-0500
TZNAME:CDT
DTSTART:20260308T080000
END:DAYLIGHT
BEGIN:STANDARD
TZOFFSETFROM:-0500
TZOFFSETTO:-0600
TZNAME:CST
DTSTART:20261101T070000
END:STANDARD
BEGIN:DAYLIGHT
TZOFFSETFROM:-0600
TZOFFSETTO:-0500
TZNAME:CDT
DTSTART:20270314T080000
END:DAYLIGHT
BEGIN:STANDARD
TZOFFSETFROM:-0500
TZOFFSETTO:-0600
TZNAME:CST
DTSTART:20271107T070000
END:STANDARD
END:VTIMEZONE
BEGIN:VEVENT
DTSTART;TZID=America/Chicago:20260422T150000
DTEND;TZID=America/Chicago:20260422T170000
DTSTAMP:20260421T044957
CREATED:20260415T204007Z
LAST-MODIFIED:20260415T205405Z
UID:10002550-1776870000-1776877200@regionalhca.org
SUMMARY:Port Houston Construction Contractors Forum
DESCRIPTION:Wednesday\, April 22\, 2026 \n3:00 PM – 5:00 PM \nExecutive Office Building \n111 East Loop North\, Houston\, Texas 77029 \nRegister Here
URL:https://regionalhca.org/event/port-houston-construction-contractors-forum/
LOCATION:111 East Loop North\, Houston\, Texas 77029\, 111 East Loop North\, Houston\, 77029\, United States
ATTACH;FMTTYPE=image/png:https://regionalhca.org/wp-content/uploads/2026/04/Screenshot-2026-04-15-at-3.37.29-p.m.png
END:VEVENT
END:VCALENDAR