BEGIN:VCALENDAR
VERSION:2.0
PRODID:-//Regional Hispanic Contractors Association - ECPv6.15.20//NONSGML v1.0//EN
CALSCALE:GREGORIAN
METHOD:PUBLISH
X-ORIGINAL-URL:https://regionalhca.org
X-WR-CALDESC:Events for Regional Hispanic Contractors Association
REFRESH-INTERVAL;VALUE=DURATION:PT1H
X-Robots-Tag:noindex
X-PUBLISHED-TTL:PT1H
BEGIN:VTIMEZONE
TZID:America/Chicago
BEGIN:DAYLIGHT
TZOFFSETFROM:-0600
TZOFFSETTO:-0500
TZNAME:CDT
DTSTART:20220313T080000
END:DAYLIGHT
BEGIN:STANDARD
TZOFFSETFROM:-0500
TZOFFSETTO:-0600
TZNAME:CST
DTSTART:20221106T070000
END:STANDARD
BEGIN:DAYLIGHT
TZOFFSETFROM:-0600
TZOFFSETTO:-0500
TZNAME:CDT
DTSTART:20230312T080000
END:DAYLIGHT
BEGIN:STANDARD
TZOFFSETFROM:-0500
TZOFFSETTO:-0600
TZNAME:CST
DTSTART:20231105T070000
END:STANDARD
BEGIN:DAYLIGHT
TZOFFSETFROM:-0600
TZOFFSETTO:-0500
TZNAME:CDT
DTSTART:20240310T080000
END:DAYLIGHT
BEGIN:STANDARD
TZOFFSETFROM:-0500
TZOFFSETTO:-0600
TZNAME:CST
DTSTART:20241103T070000
END:STANDARD
BEGIN:DAYLIGHT
TZOFFSETFROM:-0600
TZOFFSETTO:-0500
TZNAME:CDT
DTSTART:20250309T080000
END:DAYLIGHT
BEGIN:STANDARD
TZOFFSETFROM:-0500
TZOFFSETTO:-0600
TZNAME:CST
DTSTART:20251102T070000
END:STANDARD
END:VTIMEZONE
BEGIN:VEVENT
DTSTART;TZID=America/Chicago:20240405T080000
DTEND;TZID=America/Chicago:20240405T160000
DTSTAMP:20260421T141433
CREATED:20240129T181922Z
LAST-MODIFIED:20240306T181901Z
UID:10000245-1712304000-1712332800@regionalhca.org
SUMMARY:RHCA Workforce Training Program 6th Cohort (English)
DESCRIPTION:RHCA Workforce Training Program 6th Cohort (English) \nFriday \n\nBegins: April 5\, 2024 \n\n\nEnds: June 28\, 2024 \n\n 
URL:https://regionalhca.org/event/rhca-workforce-training-program-6th-cohort-english-2/
LOCATION:125 Sunset Avenue. Dallas\, Texas. 75208. Mission Oak Cliff
ATTACH;FMTTYPE=image/png:https://regionalhca.org/wp-content/uploads/2023/12/Bilingual-2.png
ORGANIZER;CN="Amalia Quintero":MAILTO:workforce@regionalhca.org
END:VEVENT
BEGIN:VEVENT
DTSTART;TZID=America/Chicago:20240119T080000
DTEND;TZID=America/Chicago:20240329T120000
DTSTAMP:20260421T141433
CREATED:20231215T185634Z
LAST-MODIFIED:20240306T181619Z
UID:10000124-1705651200-1711713600@regionalhca.org
SUMMARY:RHCA Workforce Training Program 3rd Cohort (English)
DESCRIPTION:RHCA Workforce Training Program 3rd Cohort (English) \nTuesday and Friday \n\nBegins: January 19\, 2024 \n\n\nEnds: March 29\, 2024 \n\n 
URL:https://regionalhca.org/event/rhca-workforce-training-program-3rd-cohort-english/
LOCATION:125 Sunset Avenue. Dallas\, Texas. 75208. Mission Oak Cliff
ATTACH;FMTTYPE=image/png:https://regionalhca.org/wp-content/uploads/2023/12/Bilingual-2.png
ORGANIZER;CN="Amalia Quintero":MAILTO:workforce@regionalhca.org
END:VEVENT
BEGIN:VEVENT
DTSTART;TZID=America/Chicago:20240111T080000
DTEND;TZID=America/Chicago:20240111T160000
DTSTAMP:20260421T141433
CREATED:20231215T181446Z
LAST-MODIFIED:20231219T223812Z
UID:10000122-1704960000-1704988800@regionalhca.org
SUMMARY:RHCA Workforce Training Program 2nd Cohort (Spanish)
DESCRIPTION:RHCA Workforce Training Program 2nd Cohort (Spanish) \nThursdays \n\nBegins: January 11\, 2024 \n\n\nEnds: March 28\, 2024 \n\n 
URL:https://regionalhca.org/event/rhca-workforce-training-program-2nd-cohort-spanish/
LOCATION:RHCA Headquarters & Training Center\, 2210 W. Illinois Avenue\, Dallas\, TX\, 75224\, United States
ATTACH;FMTTYPE=image/png:https://regionalhca.org/wp-content/uploads/2023/12/Enrique-1.png
ORGANIZER;CN="Amalia Quintero":MAILTO:workforce@regionalhca.org
END:VEVENT
BEGIN:VEVENT
DTSTART;TZID=America/Chicago:20231106T070000
DTEND;TZID=America/Chicago:20231204T160000
DTSTAMP:20260421T141433
CREATED:20231219T225027Z
LAST-MODIFIED:20240125T030008Z
UID:10000180-1699254000-1701705600@regionalhca.org
SUMMARY:RHCA Workforce Training Program 1st Cohort (English)
DESCRIPTION:RHCA Workforce Training Program 1st Cohort (English) \nMonday\, Wednesday and Friday \n\nBegins: November 6\, 2023 \n\n\nEnds: December 4\, 2023 \n\n 
URL:https://regionalhca.org/event/rhca-workforce-training-program-1st-cohort-english/
LOCATION:RHCA Headquarters & Training Center\, 2210 W. Illinois Avenue\, Dallas\, TX\, 75224\, United States
ATTACH;FMTTYPE=image/png:https://regionalhca.org/wp-content/uploads/2023/12/Screenshot-2023-12-04-at-10.39.06 PM-300x232-1.png
ORGANIZER;CN="Amalia Quintero":MAILTO:workforce@regionalhca.org
END:VEVENT
END:VCALENDAR