BEGIN:VCALENDAR
VERSION:2.0
PRODID:-//Regional Hispanic Contractors Association - ECPv6.15.20//NONSGML v1.0//EN
CALSCALE:GREGORIAN
METHOD:PUBLISH
X-WR-CALNAME:Regional Hispanic Contractors Association
X-ORIGINAL-URL:https://regionalhca.org
X-WR-CALDESC:Events for Regional Hispanic Contractors Association
REFRESH-INTERVAL;VALUE=DURATION:PT1H
X-Robots-Tag:noindex
X-PUBLISHED-TTL:PT1H
BEGIN:VTIMEZONE
TZID:America/Chicago
BEGIN:DAYLIGHT
TZOFFSETFROM:-0600
TZOFFSETTO:-0500
TZNAME:CDT
DTSTART:20230312T080000
END:DAYLIGHT
BEGIN:STANDARD
TZOFFSETFROM:-0500
TZOFFSETTO:-0600
TZNAME:CST
DTSTART:20231105T070000
END:STANDARD
BEGIN:DAYLIGHT
TZOFFSETFROM:-0600
TZOFFSETTO:-0500
TZNAME:CDT
DTSTART:20240310T080000
END:DAYLIGHT
BEGIN:STANDARD
TZOFFSETFROM:-0500
TZOFFSETTO:-0600
TZNAME:CST
DTSTART:20241103T070000
END:STANDARD
BEGIN:DAYLIGHT
TZOFFSETFROM:-0600
TZOFFSETTO:-0500
TZNAME:CDT
DTSTART:20250309T080000
END:DAYLIGHT
BEGIN:STANDARD
TZOFFSETFROM:-0500
TZOFFSETTO:-0600
TZNAME:CST
DTSTART:20251102T070000
END:STANDARD
END:VTIMEZONE
BEGIN:VEVENT
DTSTART;TZID=America/Chicago:20241204T090000
DTEND;TZID=America/Chicago:20241204T100000
DTSTAMP:20260421T133435
CREATED:20231222T221631Z
LAST-MODIFIED:20231222T221631Z
UID:10000224-1733302800-1733306400@regionalhca.org
SUMMARY:Safety Council Meeting 12 04 2024
DESCRIPTION:RHCA Safety Council is an advisory body formed to provide the RHCA\, Health and Safety field input and perspective in the development and maintenance of construction safety program guidance and in the review and resolution of construction safety issues. The Safety Council also serves as a topical committee to provide advice and support on safety-related construction issues. It serves as a subject matter expert panel to advise the RHCA in construction safety and health matters. \nThe RHCA Safety Council Functions: \n\nResource for training instructors\n\n\nTraining topics and speakers\n\n\nAssists with RHCA Safety events (Safety Stand-Down\, DIA and Safe + Sound)\n\n\nAssists with the development of grants and training\n\nRHCA Safety Council Meetings \nThe first Wednesday of the Month from 9:00 am to 10:00 am. CST\nMeetings are open to members in good standing; registration is required. \nInterested in presenting a project opportunity or topic please get in touch with Marina Castro (marina@regionalhca.org) or Julio Florez (julio@regionalhca.org)
URL:https://regionalhca.org/event/safety-council-meeting-12-04-2024/
LOCATION:Virtual
ATTACH;FMTTYPE=image/jpeg:https://regionalhca.org/wp-content/uploads/2023/12/Screen-Shot-2023-04-28-at-11.31.541111.jpg
ORGANIZER;CN="Julio Florez":MAILTO:julio@regionalhca.org
END:VEVENT
BEGIN:VEVENT
DTSTART;TZID=America/Chicago:20241106T090000
DTEND;TZID=America/Chicago:20241106T100000
DTSTAMP:20260421T133435
CREATED:20231222T221520Z
LAST-MODIFIED:20231222T221520Z
UID:10000223-1730883600-1730887200@regionalhca.org
SUMMARY:Safety Council Meeting 11 06 2024
DESCRIPTION:RHCA Safety Council is an advisory body formed to provide the RHCA\, Health and Safety field input and perspective in the development and maintenance of construction safety program guidance and in the review and resolution of construction safety issues. The Safety Council also serves as a topical committee to provide advice and support on safety-related construction issues. It serves as a subject matter expert panel to advise the RHCA in construction safety and health matters. \nThe RHCA Safety Council Functions: \n\nResource for training instructors\n\n\nTraining topics and speakers\n\n\nAssists with RHCA Safety events (Safety Stand-Down\, DIA and Safe + Sound)\n\n\nAssists with the development of grants and training\n\nRHCA Safety Council Meetings \nThe first Wednesday of the Month from 9:00 am to 10:00 am. CST\nMeetings are open to members in good standing; registration is required. \nInterested in presenting a project opportunity or topic please get in touch with Marina Castro (marina@regionalhca.org) or Julio Florez (julio@regionalhca.org)
URL:https://regionalhca.org/event/safety-council-meeting-11-06-2024/
LOCATION:Virtual
ATTACH;FMTTYPE=image/jpeg:https://regionalhca.org/wp-content/uploads/2023/12/Screen-Shot-2023-04-28-at-11.31.541111.jpg
ORGANIZER;CN="Julio Florez":MAILTO:julio@regionalhca.org
END:VEVENT
BEGIN:VEVENT
DTSTART;TZID=America/Chicago:20241002T090000
DTEND;TZID=America/Chicago:20241002T100000
DTSTAMP:20260421T133435
CREATED:20231222T221353Z
LAST-MODIFIED:20231222T221353Z
UID:10000222-1727859600-1727863200@regionalhca.org
SUMMARY:Safety Council Meeting 10 02 2024
DESCRIPTION:RHCA Safety Council is an advisory body formed to provide the RHCA\, Health and Safety field input and perspective in the development and maintenance of construction safety program guidance and in the review and resolution of construction safety issues. The Safety Council also serves as a topical committee to provide advice and support on safety-related construction issues. It serves as a subject matter expert panel to advise the RHCA in construction safety and health matters. \nThe RHCA Safety Council Functions: \n\nResource for training instructors\n\n\nTraining topics and speakers\n\n\nAssists with RHCA Safety events (Safety Stand-Down\, DIA and Safe + Sound)\n\n\nAssists with the development of grants and training\n\nRHCA Safety Council Meetings \nThe first Wednesday of the Month from 9:00 am to 10:00 am. CST\nMeetings are open to members in good standing; registration is required. \nInterested in presenting a project opportunity or topic please get in touch with Marina Castro (marina@regionalhca.org) or Julio Florez (julio@regionalhca.org)
URL:https://regionalhca.org/event/safety-council-meeting-10-02-2024/
LOCATION:Virtual
ATTACH;FMTTYPE=image/jpeg:https://regionalhca.org/wp-content/uploads/2023/12/Screen-Shot-2023-04-28-at-11.31.541111.jpg
ORGANIZER;CN="Julio Florez":MAILTO:julio@regionalhca.org
END:VEVENT
BEGIN:VEVENT
DTSTART;TZID=America/Chicago:20240904T090000
DTEND;TZID=America/Chicago:20240904T100000
DTSTAMP:20260421T133435
CREATED:20231222T221221Z
LAST-MODIFIED:20231222T221221Z
UID:10000221-1725440400-1725444000@regionalhca.org
SUMMARY:Safety Council Meeting 09 04 2024
DESCRIPTION:RHCA Safety Council is an advisory body formed to provide the RHCA\, Health and Safety field input and perspective in the development and maintenance of construction safety program guidance and in the review and resolution of construction safety issues. The Safety Council also serves as a topical committee to provide advice and support on safety-related construction issues. It serves as a subject matter expert panel to advise the RHCA in construction safety and health matters. \nThe RHCA Safety Council Functions: \n\nResource for training instructors\n\n\nTraining topics and speakers\n\n\nAssists with RHCA Safety events (Safety Stand-Down\, DIA and Safe + Sound)\n\n\nAssists with the development of grants and training\n\nRHCA Safety Council Meetings \nThe first Wednesday of the Month from 9:00 am to 10:00 am. CST\nMeetings are open to members in good standing; registration is required. \nInterested in presenting a project opportunity or topic please get in touch with Marina Castro (marina@regionalhca.org) or Julio Florez (julio@regionalhca.org)
URL:https://regionalhca.org/event/safety-council-meeting-09-04-2024/
LOCATION:Virtual
ATTACH;FMTTYPE=image/jpeg:https://regionalhca.org/wp-content/uploads/2023/12/Screen-Shot-2023-04-28-at-11.31.541111.jpg
ORGANIZER;CN="Julio Florez":MAILTO:julio@regionalhca.org
END:VEVENT
BEGIN:VEVENT
DTSTART;TZID=America/Chicago:20240807T090000
DTEND;TZID=America/Chicago:20240807T100000
DTSTAMP:20260421T133435
CREATED:20231222T221035Z
LAST-MODIFIED:20231222T221035Z
UID:10000220-1723021200-1723024800@regionalhca.org
SUMMARY:Safety Council Meeting 08 07 2024
DESCRIPTION:RHCA Safety Council is an advisory body formed to provide the RHCA\, Health and Safety field input and perspective in the development and maintenance of construction safety program guidance and in the review and resolution of construction safety issues. The Safety Council also serves as a topical committee to provide advice and support on safety-related construction issues. It serves as a subject matter expert panel to advise the RHCA in construction safety and health matters. \nThe RHCA Safety Council Functions: \n\nResource for training instructors\n\n\nTraining topics and speakers\n\n\nAssists with RHCA Safety events (Safety Stand-Down\, DIA and Safe + Sound)\n\n\nAssists with the development of grants and training\n\nRHCA Safety Council Meetings \nThe first Wednesday of the Month from 9:00 am to 10:00 am. CST\nMeetings are open to members in good standing; registration is required. \nInterested in presenting a project opportunity or topic please get in touch with Marina Castro (marina@regionalhca.org) or Julio Florez (julio@regionalhca.org)
URL:https://regionalhca.org/event/safety-council-meeting-08-07-2024/
LOCATION:Virtual
ATTACH;FMTTYPE=image/jpeg:https://regionalhca.org/wp-content/uploads/2023/12/Screen-Shot-2023-04-28-at-11.31.541111.jpg
ORGANIZER;CN="Julio Florez":MAILTO:julio@regionalhca.org
END:VEVENT
BEGIN:VEVENT
DTSTART;TZID=America/Chicago:20240605T090000
DTEND;TZID=America/Chicago:20240605T100000
DTSTAMP:20260421T133435
CREATED:20231222T220932Z
LAST-MODIFIED:20231222T220932Z
UID:10000219-1717578000-1717581600@regionalhca.org
SUMMARY:Safety Council Meeting 06 05 2024
DESCRIPTION:RHCA Safety Council is an advisory body formed to provide the RHCA\, Health and Safety field input and perspective in the development and maintenance of construction safety program guidance and in the review and resolution of construction safety issues. The Safety Council also serves as a topical committee to provide advice and support on safety-related construction issues. It serves as a subject matter expert panel to advise the RHCA in construction safety and health matters. \nThe RHCA Safety Council Functions: \n\nResource for training instructors\n\n\nTraining topics and speakers\n\n\nAssists with RHCA Safety events (Safety Stand-Down\, DIA and Safe + Sound)\n\n\nAssists with the development of grants and training\n\nRHCA Safety Council Meetings \nThe first Wednesday of the Month from 9:00 am to 10:00 am. CST\nMeetings are open to members in good standing; registration is required. \nInterested in presenting a project opportunity or topic please get in touch with Marina Castro (marina@regionalhca.org) or Julio Florez (julio@regionalhca.org)
URL:https://regionalhca.org/event/safety-council-meeting-06-05-2024/
LOCATION:Virtual
ATTACH;FMTTYPE=image/jpeg:https://regionalhca.org/wp-content/uploads/2023/12/Screen-Shot-2023-04-28-at-11.31.541111.jpg
ORGANIZER;CN="Julio Florez":MAILTO:julio@regionalhca.org
END:VEVENT
BEGIN:VEVENT
DTSTART;TZID=America/Chicago:20240501T090000
DTEND;TZID=America/Chicago:20240501T100000
DTSTAMP:20260421T133435
CREATED:20231222T220834Z
LAST-MODIFIED:20231222T220834Z
UID:10000218-1714554000-1714557600@regionalhca.org
SUMMARY:Safety Council Meeting 05 01 2024
DESCRIPTION:RHCA Safety Council is an advisory body formed to provide the RHCA\, Health and Safety field input and perspective in the development and maintenance of construction safety program guidance and in the review and resolution of construction safety issues. The Safety Council also serves as a topical committee to provide advice and support on safety-related construction issues. It serves as a subject matter expert panel to advise the RHCA in construction safety and health matters. \nThe RHCA Safety Council Functions: \n\nResource for training instructors\n\n\nTraining topics and speakers\n\n\nAssists with RHCA Safety events (Safety Stand-Down\, DIA and Safe + Sound)\n\n\nAssists with the development of grants and training\n\nRHCA Safety Council Meetings \nThe first Wednesday of the Month from 9:00 am to 10:00 am. CST\nMeetings are open to members in good standing; registration is required. \nInterested in presenting a project opportunity or topic please get in touch with Marina Castro (marina@regionalhca.org) or Julio Florez (julio@regionalhca.org)
URL:https://regionalhca.org/event/safety-council-meeting-05-01-2024/
LOCATION:Virtual
ATTACH;FMTTYPE=image/jpeg:https://regionalhca.org/wp-content/uploads/2023/12/Screen-Shot-2023-04-28-at-11.31.541111.jpg
ORGANIZER;CN="Julio Florez":MAILTO:julio@regionalhca.org
END:VEVENT
BEGIN:VEVENT
DTSTART;TZID=America/Chicago:20240403T090000
DTEND;TZID=America/Chicago:20240403T100000
DTSTAMP:20260421T133435
CREATED:20231222T220742Z
LAST-MODIFIED:20231222T220742Z
UID:10000217-1712134800-1712138400@regionalhca.org
SUMMARY:Safety Council Meeting 04 03 2024
DESCRIPTION:RHCA Safety Council is an advisory body formed to provide the RHCA\, Health and Safety field input and perspective in the development and maintenance of construction safety program guidance and in the review and resolution of construction safety issues. The Safety Council also serves as a topical committee to provide advice and support on safety-related construction issues. It serves as a subject matter expert panel to advise the RHCA in construction safety and health matters. \nThe RHCA Safety Council Functions: \n\nResource for training instructors\n\n\nTraining topics and speakers\n\n\nAssists with RHCA Safety events (Safety Stand-Down\, DIA and Safe + Sound)\n\n\nAssists with the development of grants and training\n\nRHCA Safety Council Meetings \nThe first Wednesday of the Month from 9:00 am to 10:00 am. CST\nMeetings are open to members in good standing; registration is required. \nInterested in presenting a project opportunity or topic please get in touch with Marina Castro (marina@regionalhca.org) or Julio Florez (julio@regionalhca.org)
URL:https://regionalhca.org/event/safety-council-meeting-04-03-2024/
LOCATION:Virtual
ATTACH;FMTTYPE=image/jpeg:https://regionalhca.org/wp-content/uploads/2023/12/Screen-Shot-2023-04-28-at-11.31.541111.jpg
ORGANIZER;CN="Julio Florez":MAILTO:julio@regionalhca.org
END:VEVENT
BEGIN:VEVENT
DTSTART;TZID=America/Chicago:20240306T090000
DTEND;TZID=America/Chicago:20240306T100000
DTSTAMP:20260421T133435
CREATED:20231222T220635Z
LAST-MODIFIED:20231222T220635Z
UID:10000216-1709715600-1709719200@regionalhca.org
SUMMARY:Safety Council Meeting 03 06 2024
DESCRIPTION:RHCA Safety Council is an advisory body formed to provide the RHCA\, Health and Safety field input and perspective in the development and maintenance of construction safety program guidance and in the review and resolution of construction safety issues. The Safety Council also serves as a topical committee to provide advice and support on safety-related construction issues. It serves as a subject matter expert panel to advise the RHCA in construction safety and health matters. \nThe RHCA Safety Council Functions: \n\nResource for training instructors\n\n\nTraining topics and speakers\n\n\nAssists with RHCA Safety events (Safety Stand-Down\, DIA and Safe + Sound)\n\n\nAssists with the development of grants and training\n\nRHCA Safety Council Meetings \nThe first Wednesday of the Month from 9:00 am to 10:00 am. CST\nMeetings are open to members in good standing; registration is required. \nInterested in presenting a project opportunity or topic please get in touch with Marina Castro (marina@regionalhca.org) or Julio Florez (julio@regionalhca.org)
URL:https://regionalhca.org/event/safety-council-meeting-03-06-2024/
LOCATION:Virtual
ATTACH;FMTTYPE=image/jpeg:https://regionalhca.org/wp-content/uploads/2023/12/Screen-Shot-2023-04-28-at-11.31.541111.jpg
ORGANIZER;CN="Julio Florez":MAILTO:julio@regionalhca.org
END:VEVENT
BEGIN:VEVENT
DTSTART;TZID=America/Chicago:20240207T090000
DTEND;TZID=America/Chicago:20240207T100000
DTSTAMP:20260421T133435
CREATED:20231222T220549Z
LAST-MODIFIED:20231222T220549Z
UID:10000215-1707296400-1707300000@regionalhca.org
SUMMARY:Safety Council Meeting 02 07 2024
DESCRIPTION:RHCA Safety Council is an advisory body formed to provide the RHCA\, Health and Safety field input and perspective in the development and maintenance of construction safety program guidance and in the review and resolution of construction safety issues. The Safety Council also serves as a topical committee to provide advice and support on safety-related construction issues. It serves as a subject matter expert panel to advise the RHCA in construction safety and health matters. \nThe RHCA Safety Council Functions: \n\nResource for training instructors\n\n\nTraining topics and speakers\n\n\nAssists with RHCA Safety events (Safety Stand-Down\, DIA and Safe + Sound)\n\n\nAssists with the development of grants and training\n\nRHCA Safety Council Meetings \nThe first Wednesday of the Month from 9:00 am to 10:00 am. CST\nMeetings are open to members in good standing; registration is required. \nInterested in presenting a project opportunity or topic please get in touch with Marina Castro (marina@regionalhca.org) or Julio Florez (julio@regionalhca.org)
URL:https://regionalhca.org/event/safety-council-meeting-02-07-2024/
LOCATION:Virtual
ATTACH;FMTTYPE=image/jpeg:https://regionalhca.org/wp-content/uploads/2023/12/Screen-Shot-2023-04-28-at-11.31.541111.jpg
ORGANIZER;CN="Julio Florez":MAILTO:julio@regionalhca.org
END:VEVENT
BEGIN:VEVENT
DTSTART;TZID=America/Chicago:20240112T080000
DTEND;TZID=America/Chicago:20240112T100000
DTSTAMP:20260421T133435
CREATED:20231215T182052Z
LAST-MODIFIED:20231219T225024Z
UID:10000123-1705046400-1705053600@regionalhca.org
SUMMARY:Fall Protection Training (English)
DESCRIPTION:Fall Protection Training (English)  \nJanuary 12\, 2024 – 8:00 am – 10:00 am CT \nLocation: Dallas \nRegistration: 7:30 am CT | Class will start promptly at 8:00 am
URL:https://regionalhca.org/event/fall-protection-training-english/
ORGANIZER;CN="Marina Castro":MAILTO:marina@regionalhca.org
END:VEVENT
BEGIN:VEVENT
DTSTART;TZID=America/Chicago:20240110T090000
DTEND;TZID=America/Chicago:20240110T100000
DTSTAMP:20260421T133435
CREATED:20231222T214730Z
LAST-MODIFIED:20231222T220424Z
UID:10000214-1704877200-1704880800@regionalhca.org
SUMMARY:Safety Council Meeting 01 10 2024
DESCRIPTION:RHCA Safety Council is an advisory body formed to provide the RHCA\, Health and Safety field input and perspective in the development and maintenance of construction safety program guidance and in the review and resolution of construction safety issues. The Safety Council also serves as a topical committee to provide advice and support on safety-related construction issues. It serves as a subject matter expert panel to advise the RHCA in construction safety and health matters. \nThe RHCA Safety Council Functions: \n\nResource for training instructors\n\n\nTraining topics and speakers\n\n\nAssists with RHCA Safety events (Safety Stand-Down\, DIA and Safe + Sound)\n\n\nAssists with the development of grants and training\n\nRHCA Safety Council Meetings \nThe first Wednesday of the Month from 9:00 am to 10:00 am. CST\nMeetings are open to members in good standing; registration is required. \nInterested in presenting a project opportunity or topic please get in touch with Marina Castro (marina@regionalhca.org) or Julio Florez (julio@regionalhca.org)
URL:https://regionalhca.org/event/safety-council-meeting-01-10-2024/
LOCATION:Virtual
ATTACH;FMTTYPE=image/jpeg:https://regionalhca.org/wp-content/uploads/2023/12/Screen-Shot-2023-04-28-at-11.31.541111.jpg
ORGANIZER;CN="Julio Florez":MAILTO:julio@regionalhca.org
END:VEVENT
END:VCALENDAR