BEGIN:VCALENDAR
VERSION:2.0
PRODID:-//Regional Hispanic Contractors Association - ECPv6.15.20//NONSGML v1.0//EN
CALSCALE:GREGORIAN
METHOD:PUBLISH
X-ORIGINAL-URL:https://regionalhca.org
X-WR-CALDESC:Events for Regional Hispanic Contractors Association
REFRESH-INTERVAL;VALUE=DURATION:PT1H
X-Robots-Tag:noindex
X-PUBLISHED-TTL:PT1H
BEGIN:VTIMEZONE
TZID:America/Chicago
BEGIN:DAYLIGHT
TZOFFSETFROM:-0600
TZOFFSETTO:-0500
TZNAME:CDT
DTSTART:20220313T080000
END:DAYLIGHT
BEGIN:STANDARD
TZOFFSETFROM:-0500
TZOFFSETTO:-0600
TZNAME:CST
DTSTART:20221106T070000
END:STANDARD
BEGIN:DAYLIGHT
TZOFFSETFROM:-0600
TZOFFSETTO:-0500
TZNAME:CDT
DTSTART:20230312T080000
END:DAYLIGHT
BEGIN:STANDARD
TZOFFSETFROM:-0500
TZOFFSETTO:-0600
TZNAME:CST
DTSTART:20231105T070000
END:STANDARD
BEGIN:DAYLIGHT
TZOFFSETFROM:-0600
TZOFFSETTO:-0500
TZNAME:CDT
DTSTART:20240310T080000
END:DAYLIGHT
BEGIN:STANDARD
TZOFFSETFROM:-0500
TZOFFSETTO:-0600
TZNAME:CST
DTSTART:20241103T070000
END:STANDARD
BEGIN:DAYLIGHT
TZOFFSETFROM:-0600
TZOFFSETTO:-0500
TZNAME:CDT
DTSTART:20250309T080000
END:DAYLIGHT
BEGIN:STANDARD
TZOFFSETFROM:-0500
TZOFFSETTO:-0600
TZNAME:CST
DTSTART:20251102T070000
END:STANDARD
END:VTIMEZONE
BEGIN:VEVENT
DTSTART;TZID=America/Chicago:20241113T113000
DTEND;TZID=America/Chicago:20241113T130000
DTSTAMP:20260421T122831
CREATED:20241028T163912Z
LAST-MODIFIED:20241028T163912Z
UID:10000268-1731497400-1731502800@regionalhca.org
SUMMARY:RHCA Ambassador Meeting
DESCRIPTION:
URL:https://regionalhca.org/event/rhca-ambassador-meeting-2-2/
LOCATION:RHCA Headquarters & Training Center\, 2210 W. Illinois Avenue\, Dallas\, TX\, 75224\, United States
ATTACH;FMTTYPE=image/png:https://regionalhca.org/wp-content/uploads/2024/02/Screenshot-2024-02-28-at-12.25.07 PM.png
ORGANIZER;CN="Yolanda Tafoya":MAILTO:yolanda@regionalhca.org
END:VEVENT
BEGIN:VEVENT
DTSTART;TZID=America/Chicago:20240529T113000
DTEND;TZID=America/Chicago:20240529T130000
DTSTAMP:20260421T122831
CREATED:20231204T231630Z
LAST-MODIFIED:20240108T145237Z
UID:10000226-1716982200-1716987600@regionalhca.org
SUMMARY:RHCA Ambassador Meeting & Orientation
DESCRIPTION:
URL:https://regionalhca.org/event/rhca-ambassador-committee-meeting/
LOCATION:TBD\, 5150 Westheimer Road\, Houston\, 77056\, United States
ATTACH;FMTTYPE=image/png:https://regionalhca.org/wp-content/uploads/2023/12/Screenshot-2023-12-04-at-10.42.15 PM.png
ORGANIZER;CN="Yolanda Tafoya":MAILTO:yolanda@regionalhca.org
END:VEVENT
BEGIN:VEVENT
DTSTART;TZID=America/Chicago:20240504T070000
DTEND;TZID=America/Chicago:20240504T160000
DTSTAMP:20260421T122831
CREATED:20240214T204051Z
LAST-MODIFIED:20240412T042113Z
UID:10000247-1714806000-1714838400@regionalhca.org
SUMMARY:Statewide Day of the Construction Worker
DESCRIPTION:The Regional Hispanic Contractors Association is proud to invite you to the Day of the Construction Worker activities on Saturday\, May 4th\, in seven major cities of Texas. Key elements of this day will include Free Fall Protection Training for Construction Workers Teams in the selected seven cities (Austin\, Dallas\, El Paso Houston\, Laredo\, Sherman\, and Tyler) followed by a family and friends celebration (Austin\, Dallas\, and Houston) where we will take the time to spend some quality time with the worker’s family and friends in appreciation of their wholes year’s hard work. \nIn addition\, we will be recognizing a Construction Worker of the Year\, a man and woman\, and a Foreman of the Year in all seven participating cities. \nJoin us in celebrating and recognizing the hard workers who are currently building our great State of Texas! \nSaturday\, May 4\, 2024 \nLearn More and Register Here\nSponsorship Opportunities Click Here
URL:https://regionalhca.org/event/construction-worker-day-el-dia/
LOCATION:Austin\, Dallas\, El Paso\, Houston\, Laredo\, Sherman and Tyler
ATTACH;FMTTYPE=image/png:https://regionalhca.org/wp-content/uploads/2024/03/Saturday-May-4-2024.png
ORGANIZER;CN="Yolanda Tafoya":MAILTO:yolanda@regionalhca.org
END:VEVENT
BEGIN:VEVENT
DTSTART;TZID=America/Chicago:20240328T110000
DTEND;TZID=America/Chicago:20240328T130000
DTSTAMP:20260421T122832
CREATED:20240229T180256Z
LAST-MODIFIED:20240325T162415Z
UID:10000275-1711623600-1711630800@regionalhca.org
SUMMARY:Annual Membership Luncheon  & RHCA Board Elections
DESCRIPTION:Members in good standing $25.00\nNon – Members $35.00\nExhibitor Table: Includes registration for two $250
URL:https://regionalhca.org/event/annual-membership-luncheon-rhca-board-elections/
LOCATION:TBD\, 5150 Westheimer Road\, Houston\, 77056\, United States
ORGANIZER;CN="Yolanda Tafoya":MAILTO:yolanda@regionalhca.org
END:VEVENT
BEGIN:VEVENT
DTSTART;TZID=America/Chicago:20240313T113000
DTEND;TZID=America/Chicago:20240313T130000
DTSTAMP:20260421T122832
CREATED:20240228T183412Z
LAST-MODIFIED:20240228T184724Z
UID:10000251-1710329400-1710334800@regionalhca.org
SUMMARY:RHCA Ambassador Meeting
DESCRIPTION:
URL:https://regionalhca.org/event/rhca-ambassador-meeting-2/
LOCATION:TBD\, 5150 Westheimer Road\, Houston\, 77056\, United States
ATTACH;FMTTYPE=image/png:https://regionalhca.org/wp-content/uploads/2024/02/Screenshot-2024-02-28-at-12.25.07 PM.png
ORGANIZER;CN="Yolanda Tafoya":MAILTO:yolanda@regionalhca.org
END:VEVENT
BEGIN:VEVENT
DTSTART;TZID=America/Chicago:20240131T113000
DTEND;TZID=America/Chicago:20240131T130000
DTSTAMP:20260421T122832
CREATED:20240108T175634Z
LAST-MODIFIED:20240108T175635Z
UID:10000225-1706700600-1706706000@regionalhca.org
SUMMARY:RHCA Ambassador Meeting & Orientation
DESCRIPTION:
URL:https://regionalhca.org/event/rhca-ambassador-committee-meeting-2/
LOCATION:TBD\, 5150 Westheimer Road\, Houston\, 77056\, United States
ATTACH;FMTTYPE=image/png:https://regionalhca.org/wp-content/uploads/2023/12/Screenshot-2023-12-04-at-10.42.15 PM.png
ORGANIZER;CN="Yolanda Tafoya":MAILTO:yolanda@regionalhca.org
END:VEVENT
BEGIN:VEVENT
DTSTART;TZID=America/Chicago:20231214T173000
DTEND;TZID=America/Chicago:20231214T210000
DTSTAMP:20260421T122832
CREATED:20231204T003213Z
LAST-MODIFIED:20231206T002145Z
UID:10000032-1702575000-1702587600@regionalhca.org
SUMMARY:Holiday Celebration with Toy\, Blanket & Food Drives
DESCRIPTION:
URL:https://regionalhca.org/event/holiday-celebration-and-toy-and-food-drive/
LOCATION:Statwide: Austin | Dallas | El Paso | Houston | Rio Grande Valley | Laredo | Sherman | Tyler\, TX\, United States
ATTACH;FMTTYPE=image/png:https://regionalhca.org/wp-content/uploads/2023/12/Screenshot-2023-12-03-at-6.20.22 PM.png
ORGANIZER;CN="Yolanda Tafoya":MAILTO:yolanda@regionalhca.org
END:VEVENT
BEGIN:VEVENT
DTSTART;TZID=America/Chicago:20231213T113000
DTEND;TZID=America/Chicago:20231213T130000
DTSTAMP:20260421T122832
CREATED:20231204T004514Z
LAST-MODIFIED:20231204T011309Z
UID:10000033-1702467000-1702472400@regionalhca.org
SUMMARY:RHCA Ambassador Meeting
DESCRIPTION:RSVP Click Here
URL:https://regionalhca.org/event/rhca-ambassador-meeting/
LOCATION:TBD\, 5150 Westheimer Road\, Houston\, 77056\, United States
ATTACH;FMTTYPE=image/png:https://regionalhca.org/wp-content/uploads/2022/03/Ambassadors-03-01-2022.png
ORGANIZER;CN="Yolanda Tafoya":MAILTO:yolanda@regionalhca.org
END:VEVENT
END:VCALENDAR