BEGIN:VCALENDAR
VERSION:2.0
PRODID:-//Regional Hispanic Contractors Association - ECPv6.15.20//NONSGML v1.0//EN
CALSCALE:GREGORIAN
METHOD:PUBLISH
X-WR-CALNAME:Regional Hispanic Contractors Association
X-ORIGINAL-URL:https://regionalhca.org
X-WR-CALDESC:Events for Regional Hispanic Contractors Association
REFRESH-INTERVAL;VALUE=DURATION:PT1H
X-Robots-Tag:noindex
X-PUBLISHED-TTL:PT1H
BEGIN:VTIMEZONE
TZID:America/Chicago
BEGIN:DAYLIGHT
TZOFFSETFROM:-0600
TZOFFSETTO:-0500
TZNAME:CDT
DTSTART:20250309T080000
END:DAYLIGHT
BEGIN:STANDARD
TZOFFSETFROM:-0500
TZOFFSETTO:-0600
TZNAME:CST
DTSTART:20251102T070000
END:STANDARD
BEGIN:DAYLIGHT
TZOFFSETFROM:-0600
TZOFFSETTO:-0500
TZNAME:CDT
DTSTART:20260308T080000
END:DAYLIGHT
BEGIN:STANDARD
TZOFFSETFROM:-0500
TZOFFSETTO:-0600
TZNAME:CST
DTSTART:20261101T070000
END:STANDARD
BEGIN:DAYLIGHT
TZOFFSETFROM:-0600
TZOFFSETTO:-0500
TZNAME:CDT
DTSTART:20270314T080000
END:DAYLIGHT
BEGIN:STANDARD
TZOFFSETFROM:-0500
TZOFFSETTO:-0600
TZNAME:CST
DTSTART:20271107T070000
END:STANDARD
BEGIN:DAYLIGHT
TZOFFSETFROM:-0600
TZOFFSETTO:-0500
TZNAME:CDT
DTSTART:20280312T080000
END:DAYLIGHT
BEGIN:STANDARD
TZOFFSETFROM:-0500
TZOFFSETTO:-0600
TZNAME:CST
DTSTART:20281105T070000
END:STANDARD
END:VTIMEZONE
BEGIN:VEVENT
DTSTART;TZID=America/Chicago:20260421T080000
DTEND;TZID=America/Chicago:20260421T130000
DTSTAMP:20260421T031724
CREATED:20260227T162708Z
LAST-MODIFIED:20260320T145017Z
UID:10002501-1776758400-1776776400@regionalhca.org
SUMMARY:OSHA -  10 Hour - Spanish
DESCRIPTION:OSHA – 10 Hour – Spanish \nMonday\, April 20\, 2026 – 8:00 AM-1:00 AM \nTuesday\, April 21\, 2026 – 8:00 AM-1:00 AM \nRHCA 2210 Illinois Ave\, Dallas\, Texas \nRSVP- https://pci.jotform.com/form/260565040949158 \n 
URL:https://regionalhca.org/event/osha-10-hour-spanish-9/2026-04-21/
LOCATION:2210 W. Illinois Avenue\, Dallas\, TX 75224
CATEGORIES:Safety Training
ATTACH;FMTTYPE=image/png:https://regionalhca.org/wp-content/uploads/2026/01/Screenshot-2026-01-27-at-2.57.55-p.m.png
END:VEVENT
BEGIN:VEVENT
DTSTART;TZID=America/Chicago:20260421T083000
DTEND;TZID=America/Chicago:20260421T100000
DTSTAMP:20260421T031724
CREATED:20251219T210825Z
LAST-MODIFIED:20251219T210825Z
UID:10001010-1776760200-1776765600@regionalhca.org
SUMMARY:RHCA Economic & Business Committee
DESCRIPTION:RHCA ECONOMIC & BUSINESS DEVELOPMENT COMMITTEE MEETING\n\n\n\n\nThe third Tuesday of the Month from 8:30 am to 10:00 am. \nEBD Committee is focused on enhancing the business capabilities\, efficiency\, and profitability of contractors. This is achieved by fostering project opportunities and establishing vital industry connections \nMeetings are open to members in good standing; registration is required. \n\nRegister Here
URL:https://regionalhca.org/event/rhca-economic-business-committee/2026-04-21/
LOCATION:2210 W. Illinois Avenue\, Dallas\, TX 75224
ATTACH;FMTTYPE=image/png:https://regionalhca.org/wp-content/uploads/2025/12/Screenshot-2025-12-19-at-3.02.12-p.m.png
END:VEVENT
BEGIN:VEVENT
DTSTART;TZID=America/Chicago:20260427T080000
DTEND;TZID=America/Chicago:20260427T170000
DTSTAMP:20260421T031724
CREATED:20260310T223702Z
LAST-MODIFIED:20260402T160526Z
UID:10002509-1777276800-1777309200@regionalhca.org
SUMMARY:OSHA 30 - Hour - English
DESCRIPTION:OSHA 30 – Hour – English\nDates\nApril 27\, 28\, 29\, 30\, 2026 | 8:00 AM – 5:00 PM CDT | 2210 W. Illinois Ave\, Dallas\, TX 75224\n\n\nRegister Here
URL:https://regionalhca.org/event/osha-30-hour-english-2/2026-04-27/
LOCATION:2210 W. Illinois Avenue\, Dallas\, TX 75224
CATEGORIES:Safety Training
ATTACH;FMTTYPE=image/png:https://regionalhca.org/wp-content/uploads/2026/03/Screenshot-2026-03-10-at-5.29.44-p.m.png
END:VEVENT
BEGIN:VEVENT
DTSTART;TZID=America/Chicago:20260428T080000
DTEND;TZID=America/Chicago:20260428T170000
DTSTAMP:20260421T031724
CREATED:20260310T223702Z
LAST-MODIFIED:20260402T160526Z
UID:10002510-1777363200-1777395600@regionalhca.org
SUMMARY:OSHA 30 - Hour - English
DESCRIPTION:OSHA 30 – Hour – English\nDates\nApril 27\, 28\, 29\, 30\, 2026 | 8:00 AM – 5:00 PM CDT | 2210 W. Illinois Ave\, Dallas\, TX 75224\n\n\nRegister Here
URL:https://regionalhca.org/event/osha-30-hour-english-2/2026-04-28/
LOCATION:2210 W. Illinois Avenue\, Dallas\, TX 75224
CATEGORIES:Safety Training
ATTACH;FMTTYPE=image/png:https://regionalhca.org/wp-content/uploads/2026/03/Screenshot-2026-03-10-at-5.29.44-p.m.png
END:VEVENT
BEGIN:VEVENT
DTSTART;TZID=America/Chicago:20260429T080000
DTEND;TZID=America/Chicago:20260429T170000
DTSTAMP:20260421T031724
CREATED:20260310T223702Z
LAST-MODIFIED:20260402T160526Z
UID:10002511-1777449600-1777482000@regionalhca.org
SUMMARY:OSHA 30 - Hour - English
DESCRIPTION:OSHA 30 – Hour – English\nDates\nApril 27\, 28\, 29\, 30\, 2026 | 8:00 AM – 5:00 PM CDT | 2210 W. Illinois Ave\, Dallas\, TX 75224\n\n\nRegister Here
URL:https://regionalhca.org/event/osha-30-hour-english-2/2026-04-29/
LOCATION:2210 W. Illinois Avenue\, Dallas\, TX 75224
CATEGORIES:Safety Training
ATTACH;FMTTYPE=image/png:https://regionalhca.org/wp-content/uploads/2026/03/Screenshot-2026-03-10-at-5.29.44-p.m.png
END:VEVENT
BEGIN:VEVENT
DTSTART;TZID=America/Chicago:20260430T080000
DTEND;TZID=America/Chicago:20260430T170000
DTSTAMP:20260421T031724
CREATED:20260310T223702Z
LAST-MODIFIED:20260402T160526Z
UID:10002512-1777536000-1777568400@regionalhca.org
SUMMARY:OSHA 30 - Hour - English
DESCRIPTION:OSHA 30 – Hour – English\nDates\nApril 27\, 28\, 29\, 30\, 2026 | 8:00 AM – 5:00 PM CDT | 2210 W. Illinois Ave\, Dallas\, TX 75224\n\n\nRegister Here
URL:https://regionalhca.org/event/osha-30-hour-english-2/2026-04-30/
LOCATION:2210 W. Illinois Avenue\, Dallas\, TX 75224
CATEGORIES:Safety Training
ATTACH;FMTTYPE=image/png:https://regionalhca.org/wp-content/uploads/2026/03/Screenshot-2026-03-10-at-5.29.44-p.m.png
END:VEVENT
BEGIN:VEVENT
DTSTART;TZID=America/Chicago:20260502T080000
DTEND;TZID=America/Chicago:20260502T123000
DTSTAMP:20260421T031724
CREATED:20260227T172855Z
LAST-MODIFIED:20260402T202500Z
UID:10001716-1777708800-1777725000@regionalhca.org
SUMMARY:Blueprint Reading Class - Dallas - Spanish
DESCRIPTION:Blueprint Reading Class – Dallas – Spanish \n\n\nAn entry-level practical\, hands-on course designed for commercial subcontractors\, estimators\, and field staff who need to read plans accurately for bidding\, estimating\, and construction.\n\n\n\n\nSpanish \nDates\nSaturdays (2 Classes): April 4 – May 16\nFrom 8:00 am – 12:30 pm \nLocation\nRHCA HQ & Training Center\, 2210 W. Illinois Av. Dallas\, Texas 75224
URL:https://regionalhca.org/event/blueprint-reading-class-dallas-spanish/2026-05-02/
LOCATION:2210 W. Illinois Avenue\, Dallas\, TX 75224
CATEGORIES:Small Business Training
ATTACH;FMTTYPE=image/png:https://regionalhca.org/wp-content/uploads/2026/02/Web-cover-73.png
END:VEVENT
BEGIN:VEVENT
DTSTART;TZID=America/Chicago:20260509T080000
DTEND;TZID=America/Chicago:20260509T123000
DTSTAMP:20260421T031724
CREATED:20260227T172855Z
LAST-MODIFIED:20260402T202500Z
UID:10001717-1778313600-1778329800@regionalhca.org
SUMMARY:Blueprint Reading Class - Dallas - Spanish
DESCRIPTION:Blueprint Reading Class – Dallas – Spanish \n\n\nAn entry-level practical\, hands-on course designed for commercial subcontractors\, estimators\, and field staff who need to read plans accurately for bidding\, estimating\, and construction.\n\n\n\n\nSpanish \nDates\nSaturdays (2 Classes): April 4 – May 16\nFrom 8:00 am – 12:30 pm \nLocation\nRHCA HQ & Training Center\, 2210 W. Illinois Av. Dallas\, Texas 75224
URL:https://regionalhca.org/event/blueprint-reading-class-dallas-spanish/2026-05-09/
LOCATION:2210 W. Illinois Avenue\, Dallas\, TX 75224
CATEGORIES:Small Business Training
ATTACH;FMTTYPE=image/png:https://regionalhca.org/wp-content/uploads/2026/02/Web-cover-73.png
END:VEVENT
BEGIN:VEVENT
DTSTART;TZID=America/Chicago:20260516T080000
DTEND;TZID=America/Chicago:20260516T123000
DTSTAMP:20260421T031724
CREATED:20260227T172855Z
LAST-MODIFIED:20260402T202500Z
UID:10001718-1778918400-1778934600@regionalhca.org
SUMMARY:Blueprint Reading Class - Dallas - Spanish
DESCRIPTION:Blueprint Reading Class – Dallas – Spanish \n\n\nAn entry-level practical\, hands-on course designed for commercial subcontractors\, estimators\, and field staff who need to read plans accurately for bidding\, estimating\, and construction.\n\n\n\n\nSpanish \nDates\nSaturdays (2 Classes): April 4 – May 16\nFrom 8:00 am – 12:30 pm \nLocation\nRHCA HQ & Training Center\, 2210 W. Illinois Av. Dallas\, Texas 75224
URL:https://regionalhca.org/event/blueprint-reading-class-dallas-spanish/2026-05-16/
LOCATION:2210 W. Illinois Avenue\, Dallas\, TX 75224
CATEGORIES:Small Business Training
ATTACH;FMTTYPE=image/png:https://regionalhca.org/wp-content/uploads/2026/02/Web-cover-73.png
END:VEVENT
BEGIN:VEVENT
DTSTART;TZID=America/Chicago:20260519T083000
DTEND;TZID=America/Chicago:20260519T100000
DTSTAMP:20260421T031724
CREATED:20251219T210825Z
LAST-MODIFIED:20251219T210825Z
UID:10001011-1779179400-1779184800@regionalhca.org
SUMMARY:RHCA Economic & Business Committee
DESCRIPTION:RHCA ECONOMIC & BUSINESS DEVELOPMENT COMMITTEE MEETING\n\n\n\n\nThe third Tuesday of the Month from 8:30 am to 10:00 am. \nEBD Committee is focused on enhancing the business capabilities\, efficiency\, and profitability of contractors. This is achieved by fostering project opportunities and establishing vital industry connections \nMeetings are open to members in good standing; registration is required. \n\nRegister Here
URL:https://regionalhca.org/event/rhca-economic-business-committee/2026-05-19/
LOCATION:2210 W. Illinois Avenue\, Dallas\, TX 75224
ATTACH;FMTTYPE=image/png:https://regionalhca.org/wp-content/uploads/2025/12/Screenshot-2025-12-19-at-3.02.12-p.m.png
END:VEVENT
BEGIN:VEVENT
DTSTART;TZID=America/Chicago:20260526T080000
DTEND;TZID=America/Chicago:20260526T130000
DTSTAMP:20260421T031724
CREATED:20260312T195156Z
LAST-MODIFIED:20260312T195156Z
UID:10002476-1779782400-1779800400@regionalhca.org
SUMMARY:OSHA - 10 Hour - Spanish
DESCRIPTION:OSHA – 10 Hour – Spanish \n\n\nMay 26 & 27 – 8:00 am – 1:00 pm\nRHCA 2210 Illinois Ave\, Dallas\, Texas\n\n\n\nRegister Here\n  \n 
URL:https://regionalhca.org/event/osha-10-hour-spanish-10/2026-05-26/
LOCATION:2210 W. Illinois Avenue\, Dallas\, TX 75224
CATEGORIES:Safety Training
ATTACH;FMTTYPE=image/png:https://regionalhca.org/wp-content/uploads/2026/01/Screenshot-2026-01-27-at-2.57.55-p.m.png
END:VEVENT
BEGIN:VEVENT
DTSTART;TZID=America/Chicago:20260527T080000
DTEND;TZID=America/Chicago:20260527T130000
DTSTAMP:20260421T031724
CREATED:20260312T195156Z
LAST-MODIFIED:20260312T195156Z
UID:10002477-1779868800-1779886800@regionalhca.org
SUMMARY:OSHA - 10 Hour - Spanish
DESCRIPTION:OSHA – 10 Hour – Spanish \n\n\nMay 26 & 27 – 8:00 am – 1:00 pm\nRHCA 2210 Illinois Ave\, Dallas\, Texas\n\n\n\nRegister Here\n  \n 
URL:https://regionalhca.org/event/osha-10-hour-spanish-10/2026-05-27/
LOCATION:2210 W. Illinois Avenue\, Dallas\, TX 75224
CATEGORIES:Safety Training
ATTACH;FMTTYPE=image/png:https://regionalhca.org/wp-content/uploads/2026/01/Screenshot-2026-01-27-at-2.57.55-p.m.png
END:VEVENT
BEGIN:VEVENT
DTSTART;TZID=America/Chicago:20260616T083000
DTEND;TZID=America/Chicago:20260616T100000
DTSTAMP:20260421T031724
CREATED:20251219T210825Z
LAST-MODIFIED:20251219T210825Z
UID:10001012-1781598600-1781604000@regionalhca.org
SUMMARY:RHCA Economic & Business Committee
DESCRIPTION:RHCA ECONOMIC & BUSINESS DEVELOPMENT COMMITTEE MEETING\n\n\n\n\nThe third Tuesday of the Month from 8:30 am to 10:00 am. \nEBD Committee is focused on enhancing the business capabilities\, efficiency\, and profitability of contractors. This is achieved by fostering project opportunities and establishing vital industry connections \nMeetings are open to members in good standing; registration is required. \n\nRegister Here
URL:https://regionalhca.org/event/rhca-economic-business-committee/2026-06-16/
LOCATION:2210 W. Illinois Avenue\, Dallas\, TX 75224
ATTACH;FMTTYPE=image/png:https://regionalhca.org/wp-content/uploads/2025/12/Screenshot-2025-12-19-at-3.02.12-p.m.png
END:VEVENT
BEGIN:VEVENT
DTSTART;TZID=America/Chicago:20260818T083000
DTEND;TZID=America/Chicago:20260818T100000
DTSTAMP:20260421T031724
CREATED:20251219T210825Z
LAST-MODIFIED:20251219T210825Z
UID:10001013-1787041800-1787047200@regionalhca.org
SUMMARY:RHCA Economic & Business Committee
DESCRIPTION:RHCA ECONOMIC & BUSINESS DEVELOPMENT COMMITTEE MEETING\n\n\n\n\nThe third Tuesday of the Month from 8:30 am to 10:00 am. \nEBD Committee is focused on enhancing the business capabilities\, efficiency\, and profitability of contractors. This is achieved by fostering project opportunities and establishing vital industry connections \nMeetings are open to members in good standing; registration is required. \n\nRegister Here
URL:https://regionalhca.org/event/rhca-economic-business-committee/2026-08-18/
LOCATION:2210 W. Illinois Avenue\, Dallas\, TX 75224
ATTACH;FMTTYPE=image/png:https://regionalhca.org/wp-content/uploads/2025/12/Screenshot-2025-12-19-at-3.02.12-p.m.png
END:VEVENT
BEGIN:VEVENT
DTSTART;TZID=America/Chicago:20260915T083000
DTEND;TZID=America/Chicago:20260915T100000
DTSTAMP:20260421T031724
CREATED:20251219T210825Z
LAST-MODIFIED:20251219T210825Z
UID:10001014-1789461000-1789466400@regionalhca.org
SUMMARY:RHCA Economic & Business Committee
DESCRIPTION:RHCA ECONOMIC & BUSINESS DEVELOPMENT COMMITTEE MEETING\n\n\n\n\nThe third Tuesday of the Month from 8:30 am to 10:00 am. \nEBD Committee is focused on enhancing the business capabilities\, efficiency\, and profitability of contractors. This is achieved by fostering project opportunities and establishing vital industry connections \nMeetings are open to members in good standing; registration is required. \n\nRegister Here
URL:https://regionalhca.org/event/rhca-economic-business-committee/2026-09-15/
LOCATION:2210 W. Illinois Avenue\, Dallas\, TX 75224
ATTACH;FMTTYPE=image/png:https://regionalhca.org/wp-content/uploads/2025/12/Screenshot-2025-12-19-at-3.02.12-p.m.png
END:VEVENT
BEGIN:VEVENT
DTSTART;TZID=America/Chicago:20261020T083000
DTEND;TZID=America/Chicago:20261020T100000
DTSTAMP:20260421T031724
CREATED:20251219T210825Z
LAST-MODIFIED:20251219T210825Z
UID:10001015-1792485000-1792490400@regionalhca.org
SUMMARY:RHCA Economic & Business Committee
DESCRIPTION:RHCA ECONOMIC & BUSINESS DEVELOPMENT COMMITTEE MEETING\n\n\n\n\nThe third Tuesday of the Month from 8:30 am to 10:00 am. \nEBD Committee is focused on enhancing the business capabilities\, efficiency\, and profitability of contractors. This is achieved by fostering project opportunities and establishing vital industry connections \nMeetings are open to members in good standing; registration is required. \n\nRegister Here
URL:https://regionalhca.org/event/rhca-economic-business-committee/2026-10-20/
LOCATION:2210 W. Illinois Avenue\, Dallas\, TX 75224
ATTACH;FMTTYPE=image/png:https://regionalhca.org/wp-content/uploads/2025/12/Screenshot-2025-12-19-at-3.02.12-p.m.png
END:VEVENT
BEGIN:VEVENT
DTSTART;TZID=America/Chicago:20261117T083000
DTEND;TZID=America/Chicago:20261117T100000
DTSTAMP:20260421T031724
CREATED:20251219T210825Z
LAST-MODIFIED:20251219T210825Z
UID:10001016-1794904200-1794909600@regionalhca.org
SUMMARY:RHCA Economic & Business Committee
DESCRIPTION:RHCA ECONOMIC & BUSINESS DEVELOPMENT COMMITTEE MEETING\n\n\n\n\nThe third Tuesday of the Month from 8:30 am to 10:00 am. \nEBD Committee is focused on enhancing the business capabilities\, efficiency\, and profitability of contractors. This is achieved by fostering project opportunities and establishing vital industry connections \nMeetings are open to members in good standing; registration is required. \n\nRegister Here
URL:https://regionalhca.org/event/rhca-economic-business-committee/2026-11-17/
LOCATION:2210 W. Illinois Avenue\, Dallas\, TX 75224
ATTACH;FMTTYPE=image/png:https://regionalhca.org/wp-content/uploads/2025/12/Screenshot-2025-12-19-at-3.02.12-p.m.png
END:VEVENT
BEGIN:VEVENT
DTSTART;TZID=America/Chicago:20261215T083000
DTEND;TZID=America/Chicago:20261215T100000
DTSTAMP:20260421T031724
CREATED:20251219T210825Z
LAST-MODIFIED:20251219T210825Z
UID:10001017-1797323400-1797328800@regionalhca.org
SUMMARY:RHCA Economic & Business Committee
DESCRIPTION:RHCA ECONOMIC & BUSINESS DEVELOPMENT COMMITTEE MEETING\n\n\n\n\nThe third Tuesday of the Month from 8:30 am to 10:00 am. \nEBD Committee is focused on enhancing the business capabilities\, efficiency\, and profitability of contractors. This is achieved by fostering project opportunities and establishing vital industry connections \nMeetings are open to members in good standing; registration is required. \n\nRegister Here
URL:https://regionalhca.org/event/rhca-economic-business-committee/2026-12-15/
LOCATION:2210 W. Illinois Avenue\, Dallas\, TX 75224
ATTACH;FMTTYPE=image/png:https://regionalhca.org/wp-content/uploads/2025/12/Screenshot-2025-12-19-at-3.02.12-p.m.png
END:VEVENT
BEGIN:VEVENT
DTSTART;TZID=America/Chicago:20270119T083000
DTEND;TZID=America/Chicago:20270119T100000
DTSTAMP:20260421T031724
CREATED:20251219T210825Z
LAST-MODIFIED:20251219T210825Z
UID:10001018-1800347400-1800352800@regionalhca.org
SUMMARY:RHCA Economic & Business Committee
DESCRIPTION:RHCA ECONOMIC & BUSINESS DEVELOPMENT COMMITTEE MEETING\n\n\n\n\nThe third Tuesday of the Month from 8:30 am to 10:00 am. \nEBD Committee is focused on enhancing the business capabilities\, efficiency\, and profitability of contractors. This is achieved by fostering project opportunities and establishing vital industry connections \nMeetings are open to members in good standing; registration is required. \n\nRegister Here
URL:https://regionalhca.org/event/rhca-economic-business-committee/2027-01-19/
LOCATION:2210 W. Illinois Avenue\, Dallas\, TX 75224
ATTACH;FMTTYPE=image/png:https://regionalhca.org/wp-content/uploads/2025/12/Screenshot-2025-12-19-at-3.02.12-p.m.png
END:VEVENT
END:VCALENDAR